BEGIN:VCALENDAR
VERSION:2.0
PRODID:-//Zero Waste Apeldoorn - ECPv6.15.20//NONSGML v1.0//EN
CALSCALE:GREGORIAN
METHOD:PUBLISH
X-ORIGINAL-URL:https://zerowasteapeldoorn.nl
X-WR-CALDESC:Evenementen voor Zero Waste Apeldoorn
REFRESH-INTERVAL;VALUE=DURATION:PT1H
X-Robots-Tag:noindex
X-PUBLISHED-TTL:PT1H
BEGIN:VTIMEZONE
TZID:Europe/Amsterdam
BEGIN:DAYLIGHT
TZOFFSETFROM:+0100
TZOFFSETTO:+0200
TZNAME:CEST
DTSTART:20240331T010000
END:DAYLIGHT
BEGIN:STANDARD
TZOFFSETFROM:+0200
TZOFFSETTO:+0100
TZNAME:CET
DTSTART:20241027T010000
END:STANDARD
BEGIN:DAYLIGHT
TZOFFSETFROM:+0100
TZOFFSETTO:+0200
TZNAME:CEST
DTSTART:20250330T010000
END:DAYLIGHT
BEGIN:STANDARD
TZOFFSETFROM:+0200
TZOFFSETTO:+0100
TZNAME:CET
DTSTART:20251026T010000
END:STANDARD
BEGIN:DAYLIGHT
TZOFFSETFROM:+0100
TZOFFSETTO:+0200
TZNAME:CEST
DTSTART:20260329T010000
END:DAYLIGHT
BEGIN:STANDARD
TZOFFSETFROM:+0200
TZOFFSETTO:+0100
TZNAME:CET
DTSTART:20261025T010000
END:STANDARD
END:VTIMEZONE
BEGIN:VEVENT
DTSTART;VALUE=DATE:20250517
DTEND;VALUE=DATE:20250524
DTSTAMP:20260421T045207
CREATED:20250509T064114Z
LAST-MODIFIED:20250509T064114Z
UID:13798-1747440000-1748044799@zerowasteapeldoorn.nl
SUMMARY:Zero Waste Week Apeldoorn - Voorjaar 2025
DESCRIPTION:Zero Waste Week Apeldoorn – Voorjaar 2025\n📅 Zaterdag 17 mei t/m vrijdag 23 mei 2025 \nAlweer de 6e editie van de Zero Waste Week in Apeldoorn! Na het succes van de afgelopen jaren pakken we in 2025 opnieuw groots uit. Dit jaar organiseren we zowel een voorjaars- als een najaarseditie. \nVan restjes redden tot ruilen en repareren: tijdens de Zero Waste Week Apeldoorn – Voorjaar 2025 ontdekken inwoners hoe kleine stappen grote impact maken. \nDeze inspirerende week vol duurzame activiteiten vindt plaats in het voorjaar van 2025 en valt deels samen met de Week van de Biodiversiteit. Het thema dit jaar: “Natuurlijk Afvalvrij!” \nDe Zero Waste Week staat in het teken van creativiteit\, bewustwording en verbinding. Inwoners worden uitgenodigd om op een laagdrempelige manier kennis te maken met een afvalarme levensstijl. Van jong tot oud\, van beginner tot doorgewinterde duurzaamheidsliefhebber: iedereen kan meedoen. \nWat staat er op het programma? \n\n🌿 Inspirerende workshops\n Leer hoe je zelf natuurlijke verzorgingsproducten maakt\, textiel verft met planten of een herbruikbare lunchwrap in elkaar zet.\n\n🛠 Ruilactiviteiten\n Geef spullen een tweede leven. Kom langs bij ruilpunten voor kleding\, puzzels\, boeken of plantenstekjes. Ruilen is het nieuwe kopen!\n\n🎒 Duurzaam boodschappen doen\n Ontdek winkels waar je verpakkingsvrij kunt winkelen\, leer meer over lokaal en natuurlijk eten\, de moestuin en zelfs het kweken van paddenstoelen.\n\n🎬 Film & gesprek\n Laat je inspireren door verhalen vol hoop en daadkracht. Na de film gaan we met elkaar in gesprek: wat kun jij doen voor een groenere toekomst?\n\n🌻 Zwerfvuilacties\n Ga zelf of samen aan de slag om je buurt schoner te maken. Laat je inspireren door afvalheld Paul Waye\, die tijdens zijn landelijke plogtour ook Apeldoorn aandoet!\n\n\nAfvalvrij = biodiversiteitsrijk\n Wat we weggooien\, heeft direct invloed op de natuur. Minder verspilling betekent meer ruimte voor bloemen\, bijen en biodiversiteit. Met het thema Natuurlijk Afvalvrij laten we zien dat wat goed is voor de aarde\, ook goed is voor onszelf. \nDoe mee!\n Iedereen is welkom. Of je nu één activiteit bezoekt of de hele week meedoet – elke stap telt. Samen maken we Apeldoorn groener\, schoner en bewuster. \n📍 Bekijk het volledige programma en meld je aan via \n 👉 Zero Waste Week Apeldoorn – Voorjaar 2025 \nSamen gaan we voor minder verspilling\, meer verbinding en een afvalvrij Apeldoorn. Natuurlijk doe je mee! 🌍💚
URL:https://zerowasteapeldoorn.nl/agenda/zero-waste-week-voorjaar-2025/
CATEGORIES:Circulariteit,Energie,Eten & drinken,Informatie,Markt,Natuur & biodiversiteit,Opruimen,Recycling,Repareren,Rondleiding,Ruilbeurs,Slow fashion,Verbinden,Workshop,Zero Waste Week,Zwerfafval
ATTACH;FMTTYPE=image/png:https://zerowasteapeldoorn.nl/wp-content/uploads/2025/04/ZWWAP-url-05-2025-web.png
END:VEVENT
BEGIN:VEVENT
DTSTART;TZID=Europe/Amsterdam:20250517T183000
DTEND;TZID=Europe/Amsterdam:20250517T200000
DTSTAMP:20260421T045207
CREATED:20250321T101533Z
LAST-MODIFIED:20250321T102537Z
UID:12958-1747506600-1747512000@zerowasteapeldoorn.nl
SUMMARY:Maak kennis met Plog-held Paul Waye!
DESCRIPTION:Op zaterdag 17 mei kun je kennismaken met plog-held Paul Waye\, bij StayOkay!\n🔹 Datum: Zaterdag 17 mei🔹 Tijd: 18:30 – 20:00 uur🔹 Locatie: Stayokay Apeldoorn🔹 Kosten: Eten & drinken op eigen kosten \nBen jij klaar om geïnspireerd te worden door een echte plog-held? Op zaterdag 17 mei kun je kennismaken met Paul Waye\, dé plogger achter Waye of Life\, tijdens een gezellige avond bij Stayokay Apeldoorn! \nPaul Waye & de 12 Steden Plog Challenge\nPaul is bezig met een waanzinnige uitdaging: de 12 Steden Plog Challenge!In mei 2025 rent en plogt (hardlopen + afval opruimen) hij elke dag een marathon\, van provinciehoofdstad naar provinciehoofdstad. In totaal legt hij 1.300 kilometer af\, terwijl hij onderweg in elke stad een schoonmaakactie organiseert. \nOp zijn route van Arnhem naar Zwolle is Apeldoorn de perfecte tussenstop. Een mooie kans om hem te ontmoeten en zijn inspirerende verhaal te horen! \n💬 Wil je erbij zijn?Schuif aan bij het vega/vegan buffet (op eigen kosten) en luister naar Pauls avonturen. Meld je aan voor 10 mei via de aanmeldknop hiernaast! \nOp zondag 18 mei\, gaan we samen met Paul ploggen!\nPaul gaat dan richting Zwolle en de ploggers gaan een stukje mee lopen (ong. 6 km).\nJij bent van harte welkom om mee te doen met de plogrun of om bij de start te zijn om hem (en ons) te aanmoedigen!
URL:https://zerowasteapeldoorn.nl/agenda/maak-kennis-met-paul-waye-mei-2025/
LOCATION:Stayokay Apeldoorn\, Asselsestraat 330\, Apeldoorn\, 7312 TS\, Netherlands
CATEGORIES:Eten & drinken,Opruimen,Zero Waste Week,Zwerfafval
ATTACH;FMTTYPE=image/png:https://zerowasteapeldoorn.nl/wp-content/uploads/2025/01/12-steden-plog-Apeldoorn.png
END:VEVENT
BEGIN:VEVENT
DTSTART;TZID=Europe/Amsterdam:20250518T090000
DTEND;TZID=Europe/Amsterdam:20250518T120000
DTSTAMP:20260421T045207
CREATED:20250124T114740Z
LAST-MODIFIED:20250224T094939Z
UID:11771-1747558800-1747569600@zerowasteapeldoorn.nl
SUMMARY:Speciale 'Ploggen op zondag' editie met Paul Waye!
DESCRIPTION:Op zondag 18 mei\, gaan we samen met Paul Waye ploggen!\nPaul Waye – 12 Steden Plog Challenge\nPaul\, de inspirerende plogger achter “Waye of Life” is bezig met een unieke uitdaging: de 12 Steden Plog Challenge!\nIn mei 2025\, rent en plogt (hardlopen + afval opruimen) hij een marathon per dag om van de ene provinciehoofdstad naar de andere te gaan. In totaal legt hij maar liefst 1.300 kilometer af\, met onderweg schoonmaakacties in elke provinciehoofdstad. Een maand lang hardlopen\, wandelen\, afval verzamelen en inspireren – hoe geweldig is dat?\nOp zijn route van Arnhem naar Zwolle is Apeldoorn een perfecte tussenstop. \nWie interesse heeft om met Paul kennis te maken is van harte welkom voor een diner in de avond (op eigen kosten) op zaterdag 17 mei. Stuur ons een mailtje om je aan te melden voor het diner: info@zerowasteapeldoorn.nl \nApeldoorn – Zwolle\nOp zondag 18 mei\, gaan we samen met Paul ploggen!\nPaul gaat dan richting Zwolle en de ploggers gaan een stukje mee lopen (ong. 6 km).\nJij bent van harte welkom om mee te doen met de plogrun of om bij de start te zijn om hem (en ons) te aanmoedigen! \nProgramma \n\n9 – 10 uur: Warmlopen – korte plogrun in de omgeving van Stayokay\n10 – 12 uur: Start plogrun Stayokay – Apeldoorn Noord (ong. 6km)\n\nMaandelijkse Plogrun van Zero Waste Apeldoorn:\nWat: Actief en afvalvrij hardlopen (of wandelen 😉)\nWanneer: (Meestal) Iedere tweede zondag van de maand\, van 10:00 tot 12:00 uur\nWaar: Elke maand een nieuwe locatie in of rondom Apeldoorn\nVoor wie: Iedereen die houdt van een schone omgeving en beweging! \nWat is ploggen? 🎽👟\nPloggen is dé perfecte mix van sporten en iets goeds doen voor het milieu. Terwijl je hardloopt of wandelt\, raap je zwerfafval op. Goed voor je gezondheid én voor de planeet—a true win-win! Of je nu een fanatieke hardloper bent of liever rustig wandelt\, iedereen kan meedoen. \nWaarom meedoen? 💪♻️ \n\nJe helpt Apeldoorn schoner en mooier te maken.\nJe krijgt een complete workout: denk aan squats\, lunges en het dragen van plogtassen.\nJe ontmoet een gezellige groep gelijkgestemden die houden van actie én impact.\nHet is geschikt voor alle niveaus: van beginners tot geoefende hardlopers.\n\nHoe gaat het in z’n werk?\nDe routes zijn meestal 4-6 km en de snelheid ligt laag (ongeveer 3 km/u) door alle stops om afval te rapen. Wij zorgen voor alles wat je nodig hebt: handschoenen\, hesjes\, plogtassen en afvalzakken. \nMeld je aan!\nWil je meedoen? Stuur een mail naar info@zerowasteapeldoorn.nl en sluit je aan bij onze WhatsApp-groep voor updates over locaties en meer. \nSamen maken we Apeldoorn schoner\, één stap en één stuk afval tegelijk. Tot snel bij de volgende Plogrun! 🏃‍♂️ \nDeze activiteit wordt door Heel Apeldoorn is Rein (Gemeente Apeldoorn) gefaciliteerd.
URL:https://zerowasteapeldoorn.nl/agenda/ploggen-op-zondag-mei-2025/
LOCATION:Stayokay Apeldoorn\, Asselsestraat 330\, Apeldoorn\, 7312 TS\, Netherlands
CATEGORIES:Opruimen,Zero Waste Week,Zwerfafval
ATTACH;FMTTYPE=image/png:https://zerowasteapeldoorn.nl/wp-content/uploads/2025/01/12-steden-plog-Apeldoorn.png
END:VEVENT
BEGIN:VEVENT
DTSTART;TZID=Europe/Amsterdam:20250522T100000
DTEND;TZID=Europe/Amsterdam:20250522T123000
DTSTAMP:20260421T045207
CREATED:20250224T101917Z
LAST-MODIFIED:20250513T205124Z
UID:12428-1747908000-1747917000@zerowasteapeldoorn.nl
SUMMARY:Zero Waste Wandeltour - Binnenstad
DESCRIPTION:Donderdag 22 mei – 10:00 – 12:30 uur – Binnenstad Apeldoorn – Gratis \nOntdek verpakkingsvrij boodschappen doen in Apeldoorn! 🌱\nWil jij minder plastic gebruiken en ontdekken waar je in Apeldoorn verpakkingsvrij kunt winkelen? Sluit je aan bij de Zero Waste Wandeltour en leer alles over slim en duurzaam boodschappen doen! Onze lokale gidsen delen hun beste tips en adresjes\, laten je zien waar je met je eigen bakjes en zakjes terechtkunt en beantwoorden al je vragen over een afvalvrije leefstijl. \n🚶‍♀️ Wat kun je verwachten?\n✅ Een inspirerende wandeling langs ten minste 8 duurzame hotspots (route ±2-3 km).✅ Ontmoet gelijkgestemden en wissel ervaringen uit.✅ Ontvang tientallen praktische tips om minder afval te produceren.✅ Stel al je vragen aan ervaren Zero Waste Heroes.✅ We sluiten gezellig af met een kop koffie of thee bij het Energiepunt (Paslaan 1). \n💡 Welke producten vind jij lastig om verpakkingsvrij te kopen? Onze gidsen helpen je graag op weg! \n🎟️ Doe mee! Bestel hiernaast je (gratis) ticket en ontdek hoe leuk en makkelijk verpakkingsvrij winkelen kan zijn. \n🗓 Praktische info\n📍 Verzamelpunt: (Uiterlijk) 9:55 uur bij de biologische markt\, Asselsestraat (zie kaart). Start om 10:00 uur.🛒 Meenemen:✔ Goede schoenen en evt. een paraplu ☂️✔ Je eigen boodschappentas(sen)\, herbruikbare potjes\, bakjes en zakjes voor eventuele aankopen.🚲 Tip: Stal je fiets bij de fietsenstalling aan de Paslaan\, waar de tour eindigt. \n📧 Vragen? Mail naar:  info@zerowasteapeldoorn.nl \nSamen maken we Apeldoorn nóg duurzamer! 🌍💚 \nDe Zero Waste Wandeltours zijn een initiatief van Zero Waste Nederland\, waar Stichting Zero Waste Apeldoorn graag aan meewerkt. \n 
URL:https://zerowasteapeldoorn.nl/agenda/zero-waste-wandeltour-apeldoorn-mei-2025/
LOCATION:Biologische Markt\, Parkeerplaats Asselsestraa/Wilhelmina Druckerstraat\, Asselsestraat 88\, 7311 ER
CATEGORIES:Eten & drinken,Zero Waste Week
ATTACH;FMTTYPE=image/jpeg:https://zerowasteapeldoorn.nl/wp-content/uploads/2024/09/Zero-Waste-Wandeltour-route-Biologische-markt.jpg
END:VEVENT
END:VCALENDAR