BEGIN:VCALENDAR
VERSION:2.0
PRODID:-//Zero Waste Apeldoorn - ECPv6.15.20//NONSGML v1.0//EN
CALSCALE:GREGORIAN
METHOD:PUBLISH
X-ORIGINAL-URL:https://zerowasteapeldoorn.nl
X-WR-CALDESC:Evenementen voor Zero Waste Apeldoorn
REFRESH-INTERVAL;VALUE=DURATION:PT1H
X-Robots-Tag:noindex
X-PUBLISHED-TTL:PT1H
BEGIN:VTIMEZONE
TZID:Europe/Amsterdam
BEGIN:DAYLIGHT
TZOFFSETFROM:+0100
TZOFFSETTO:+0200
TZNAME:CEST
DTSTART:20230326T010000
END:DAYLIGHT
BEGIN:STANDARD
TZOFFSETFROM:+0200
TZOFFSETTO:+0100
TZNAME:CET
DTSTART:20231029T010000
END:STANDARD
BEGIN:DAYLIGHT
TZOFFSETFROM:+0100
TZOFFSETTO:+0200
TZNAME:CEST
DTSTART:20240331T010000
END:DAYLIGHT
BEGIN:STANDARD
TZOFFSETFROM:+0200
TZOFFSETTO:+0100
TZNAME:CET
DTSTART:20241027T010000
END:STANDARD
BEGIN:DAYLIGHT
TZOFFSETFROM:+0100
TZOFFSETTO:+0200
TZNAME:CEST
DTSTART:20250330T010000
END:DAYLIGHT
BEGIN:STANDARD
TZOFFSETFROM:+0200
TZOFFSETTO:+0100
TZNAME:CET
DTSTART:20251026T010000
END:STANDARD
END:VTIMEZONE
BEGIN:VEVENT
DTSTART;VALUE=DATE:20241103
DTEND;VALUE=DATE:20241110
DTSTAMP:20260422T173539
CREATED:20241002T133121Z
LAST-MODIFIED:20241024T100345Z
UID:8910-1730592000-1731196799@zerowasteapeldoorn.nl
SUMMARY:Zero Waste Winter Week Apeldoorn
DESCRIPTION:Van zondag 3 november tot en met zaterdag 9 november organiseren wij in samenwerking met lokale organisaties en de fijnste impact makers\, de Zero Waste Winter Week. De tweede editie van twee Zero Waste Weken in 2024! \nThemaweek\nTijdens deze themaweek waarin verspillingsvrij en afvalvrij leven centraal staan\, laten wij inwoners van de gemeente Apeldoorn kennis maken met duurzame initiatieven\, activiteiten en organisaties in onze gemeente. \nHet thema: Stijlvol & Slim: Betaalbare Feestdagen met een Groene Twist \n5 R’en\nDoor het organiseren van allerlei activiteiten verspreid door de week en door de stad\, voor jong en oud\, laten we zien hoe je in kleine stapjes een positieve impact kan maken in je dagelijkse leven. De bekende 5 R’en van een zero waste leefstijl zijn daarbij het uitgangspunt: Refuse (weiger)\, Reduce (verminder)\, Reuse (hergebruik)\, Recycle en Rot (composteer). \n\n\n\n\n“De eerste grote stap naar verandering is het nemen van de eerste kleine stap.” \n\nOp onze website en socials geven we je tijdens de Zero Waste Winter Week praktische tips en handvatten om van de dure decembermaand\, een duurzame en betaalbare maand te maken. Daarnaast staan er tijdens de hele week activiteiten op de planning. Bekijk het hele programma en meld je aan! \n\n 
URL:https://zerowasteapeldoorn.nl/agenda/zero-waste-winter-week/
CATEGORIES:Circulariteit,Energie,Eten & drinken,Informatie,Markt,Natuur & biodiversiteit,Opruimen,Repareren,Rondleiding,Ruilbeurs,Slow fashion,Verbinden,Workshop,Zero Waste Week,Zwerfafval
ATTACH;FMTTYPE=image/png:https://zerowasteapeldoorn.nl/wp-content/uploads/2024/09/Zero-Waste-Winter-Week.png
END:VEVENT
BEGIN:VEVENT
DTSTART;TZID=Europe/Amsterdam:20241103T140000
DTEND;TZID=Europe/Amsterdam:20241103T160000
DTSTAMP:20260422T173539
CREATED:20241007T183617Z
LAST-MODIFIED:20241024T132502Z
UID:9049-1730642400-1730649600@zerowasteapeldoorn.nl
SUMMARY:Workshop 'Nieuwe Kaarsen van Oude Kaarsen' met Eef
DESCRIPTION:Dit evenement is (bijna) volgeboekt – Wil je graag op de wachtlijst\, stuur ons een mailtje! info@zerowasteapeldoorn.nl \nWorkshop ‘Nieuwe Kaarsen van Oude Kaarsen’ met Eef🕯️💚🌎\nDoe mee met deze super toffe én duurzame workshop tijdens de Zero Waste Winter Week! 🎉 Onder begeleiding van Eef Sjaardema leer je hoe je oude kaarsresten kunt omtoveren tot prachtige nieuwe kaarsen. Het perfecte voorbeeld van hergebruik\, waarmee je niet alleen je huis gezellig maakt voor de feestdagen\, maar ook afval vermindert! \nWaarom deelnemen?\nHet maken van je eigen kaarsen is niet alleen leuk en creatief\, het is ook een geweldige manier om geld te besparen en iets moois te maken van wat anders weggegooid zou worden. Bovendien is het een perfecte activiteit om je voor te bereiden op sfeervolle\, duurzame feestdagen! \nPraktische informatie\n📅 Datum: 3 november 2024\n⏰ Tijd: 14.00 – 16.00 uur\n📍 Locatie: Bij Eef thuis in de Maten (de Donken). Het exacte adres ontvang je na aanmelding\, per e-mail.\n👛 Kosten: Er zijn geen kosten aan verbonden. Echter\, Eef zet een donatiepot neer voor ACE\, een honden- en kattenasiel in Spanje. Zij verkoopt daar zelfgemaakte kaarsen voor het goede doel\, dus een vrijwillige bijdrage is altijd welkom! 🐶🐱\n🧑‍🤝‍🧑 Deelnemers: Er is plek voor 12 deelnemers\, dus wees er snel bij! Aanmelden is verplicht.\n⏳ Duur: De workshop duurt maximaal 2 uur.\n🕯️ Heb je oude kaarsresten thuis liggen? Neem ze mee! \nMeld je snel aan voor deze creatieve en gezellige workshop\, en maak iets bijzonders van oude kaarsresten voor de winter! ✨
URL:https://zerowasteapeldoorn.nl/agenda/workshop-kaarsen-maken-met-eef/
CATEGORIES:Circulariteit,Workshop,Zero Waste Week
ATTACH;FMTTYPE=image/png:https://zerowasteapeldoorn.nl/wp-content/uploads/2024/10/Workshop-Kaarsen-maken-vol.png
END:VEVENT
BEGIN:VEVENT
DTSTART;TZID=Europe/Amsterdam:20241105T193000
DTEND;TZID=Europe/Amsterdam:20241105T213000
DTSTAMP:20260422T173539
CREATED:20241015T100454Z
LAST-MODIFIED:20241026T145040Z
UID:9185-1730835000-1730842200@zerowasteapeldoorn.nl
SUMMARY:Feel Good Movie '2040' bij Gigant - met nabespreking
DESCRIPTION:Regie: Damon Gameau  |  Duur: 91 minuten  |  Gesproken taal: Engels (Nederlands ondertiteld)  |  Documentaire \n2040 – Join the Regeneration\nIn het pluche van de filmzaal van Gigant kun je je heerlijk onderdompelen in de hoopvolle wereld van 2040.\nIn samenwerking met Transform4C en Stichting Climate Cleanup\, toont Stichting Zero Waste Apeldoorn bij Gigant in de Zero Waste Winter Week de prachtige documentaire 2040\, waarin een hartverwarmend beeld wordt geschetst van de wereld over 16 jaar. Een toekomst die echt werkelijkheid kan worden als we nu meer inzetten op wat er al is. Als burgers\, maar ook als medewerkers in bedrijven en overheden.\nEen must-see voor iedereen die zin heeft in wat positief nieuws en zelf in actie wilt komen om bij te dragen aan een Gelukkig 2040! \nDe avond wordt gehost door Stichting Zero Waste Apeldoorn en na de film is er gelegenheid om gezamenlijk na te bespreken. \nOver de film\n2040 is een innovatieve  documentaire die naar de toekomst kijkt\, maar NU van groot belang is. De bekroonde regisseur Damon Gameau gaat op reis om te verkennen hoe de toekomst eruit zou zien in het jaar 2040 als we simpelweg de beste oplossingen die al beschikbaar zijn om onze planeet te verbeteren\, zouden omarmen en deze mainstream zouden maken. Opgezet als een visuele brief aan zijn 4-jarige dochter\, combineert Damon traditionele documentaire beelden met gedramatiseerde scenes en hoogwaardige visuele effecten om een vision board te creeren voor zijn dochter en de planeet. \nZie voor tickets en informatie: https://www.gigant.nl/film/2040-zero-waste-winter-week-special/
URL:https://zerowasteapeldoorn.nl/agenda/feel-good-movie-2040-gigant/
LOCATION:Gigant\, Nieuwstraat 377\, Apeldoorn\, 7311 BR\, Nederland
CATEGORIES:Circulariteit,Energie,Eten & drinken,Informatie,Natuur & biodiversiteit,Zero Waste Week
ATTACH;FMTTYPE=image/png:https://zerowasteapeldoorn.nl/wp-content/uploads/2024/10/2040-Gigant-banner.png
END:VEVENT
BEGIN:VEVENT
DTSTART;TZID=Europe/Amsterdam:20241106T140000
DTEND;TZID=Europe/Amsterdam:20241106T154500
DTSTAMP:20260422T173540
CREATED:20240930T182638Z
LAST-MODIFIED:20241005T060204Z
UID:8845-1730901600-1730907900@zerowasteapeldoorn.nl
SUMMARY:Ontdek Foenix Vlijtseweg
DESCRIPTION:Ontdek Foenix Vlijtseweg – Jouw One-Stop-Shop voor Duurzame Feestdagen!\nWil je jouw feestdagen dit jaar slim en stijlvol vieren\, zonder de planeet te belasten? Kom dan tijdens de Zero Waste Winter Week naar kringloopwinkel Foenix en ontdek hoe de magie van hergebruik jouw feestdagen onvergetelijk kan maken! \nWat kun je verwachten?\nTijdens deze rondleiding krijg je een exclusief kijkje achter de schermen van het eerste Circulaire Ambachtscentrum van Apeldoorn. Je bezoekt de wasserij\, het textielatelier\, het repair café\, de fietswerkplaats én de klokkenmakerij\, met volop inspiratie voor een duurzame decembermaand. \n\nNaaiatelier: Steel de show op kerstavond met een prachtige en originele creatie uit het textielatelier\, zoals een tas of een kledingstuk geüpcycled met materialen die anders verloren zouden gaan!\nFietswerkplaats: Verras je partner met een blinkende tweedehands fiets\, vakkundig gerepareerd door de fietsenwerkplaats – perfect voor een gezond en duurzaam nieuw jaar.\nKlokkenmakerij: Heeft die mooie klok van oma het al jaren niet meer gedaan? Laat hem repareren bij de klokkenmakerij en geef hem als erfstuk door aan je kinderen – een symbolisch cadeau dat generaties kan overbruggen.\nRepair Café: Van kapotte lampen tot oude huishoudelijke apparaten – breng jouw defecte spullen naar het Repair Café en geef ze een nieuw leven. Niet alleen duurzaam\, maar ook ontzettend bevredigend!\n\nWaarom is dit iets voor jou?\nFoenix biedt niet alleen betaalbare feestoutfits (en foute kersttruien! 😉 ) en unieke decoraties voor de decembermaand\, maar ook de kans om te leren hoe je oude spullen kunt laten schitteren. Deze tour laat je zien hoe hergebruik en vakmanschap hand in hand gaan voor een bewuste én bijzondere kerst. \nDetails: \n\nDatum: Woensdag 6 november\nStarttijden: 14:00 en 15:00 uur\nLocatie: Foenix\, Vlijtseweg 136\nDuur: 30 à 45 minuten\nKosten: Gratis! Vooraf aanmelden is vereist.\n\nMis deze kans niet om jouw feestdagen groener én leuker te maken. Meld je snel aan en laat je inspireren door de circulaire magie van Foenix! \nDisclaimer: Foto’s zijn alleen ter illustratie.\nFoto credits: Foenix.nl  \n 
URL:https://zerowasteapeldoorn.nl/agenda/ontdek-foenix-vlijtseweg/
LOCATION:Foenix (Vlijtseweg)\, Vlijtseweg 136\, Apeldoorn\, 7317 AK\, Nederland
CATEGORIES:Circulariteit,Informatie,Rondleiding,Zero Waste Week
ATTACH;FMTTYPE=image/png:https://zerowasteapeldoorn.nl/wp-content/uploads/2024/09/Foenix-kerst-rondleiding.png
END:VEVENT
BEGIN:VEVENT
DTSTART;TZID=Europe/Amsterdam:20241107T100000
DTEND;TZID=Europe/Amsterdam:20241107T110000
DTSTAMP:20260422T173540
CREATED:20241002T180832Z
LAST-MODIFIED:20241002T180832Z
UID:8877-1730973600-1730977200@zerowasteapeldoorn.nl
SUMMARY:Webinar 'Van weerstand naar winst' - The Green Course
DESCRIPTION:Webinar ‘Van weerstand naar winst’\nAls duurzaamheidsaanjager weet jij als geen ander: duurzaamheid is niet langer een keuze\, maar een noodzaak voor elke organisatie. Maar hoe zorg je ervoor dat niet alleen jij\, maar ook je collega’s volledig achter de duurzaamheidsstrategie van je organisatie staan? In dit webinar bespreken Ramona en Sanne van The Green Course waarom het essentieel is om je team mee te nemen op de reis naar duurzaamheid en hoe je dat effectief kunt doen. Sluit je aan en ontdek hoe jij je collega’s kunt inspireren om samen duurzame veranderingen te realiseren! \nMeld je aan voor dit gratis webinar en ontdek: \n\nPraktische tips om weerstand te overwinnen\nDe ideale formule om betrokkenheid te vergroten\nCommunicatiestrategieën die werken\nDe meerwaarde van persoonlijke betrokkenheid\nHoe je duurzaamheidsambassadeurs kunt inzetten\nInclusief LIVE vraag- en antwoordsessie\n\n​​​​​​​Je kunt het webinar volgen vanaf je computer\, tablet of telefoon. \nInformatie + aanmelden
URL:https://zerowasteapeldoorn.nl/agenda/webinar-the-green-course/
CATEGORIES:Informatie,Workshop,Zero Waste Week
ATTACH;FMTTYPE=image/png:https://zerowasteapeldoorn.nl/wp-content/uploads/2024/10/Webinar-The-Green-Course.png
END:VEVENT
BEGIN:VEVENT
DTSTART;TZID=Europe/Amsterdam:20241108T140000
DTEND;TZID=Europe/Amsterdam:20241108T160000
DTSTAMP:20260422T173540
CREATED:20240929T152209Z
LAST-MODIFIED:20241001T075911Z
UID:8770-1731074400-1731081600@zerowasteapeldoorn.nl
SUMMARY:Inloopworkshop: Plastic- en Papiervrij Cadeaus Inpakken bij Dille & Kamille
DESCRIPTION:Leer hoe je cadeaus stijlvol én duurzaam inpakt\, zonder plastic of papier\, tijdens de Zero Waste Winter Week! \nVijf jaar geleden ontdekten wij de magie van de ‘furoshiki’\, en sindsdien zijn we fan! Deze eenvoudige\, stijlvolle en milieuvriendelijke inpakmethode zorgt ervoor dat je nooit meer terug wilt naar wegwerppapier en plakband. Maar wat is een furoshiki eigenlijk? \n Wat is een Furoshiki?\nHet klinkt misschien als een nieuwe soort sushi\, maar een furoshiki is een traditionele Japanse inpakdoek die al honderden jaren wordt gebruikt. Met slechts een vierkant stuk stof en wat slimme vouw- en knooptechnieken kun je cadeaus\, kleding of alledaagse voorwerpen op een stijlvolle en duurzame manier inpakken – helemaal zonder papier\, plakband of plastic lintjes! \nPerfectionneer je furoshiki inpaktalenten bij Dille en Kamille!\nOp vrijdag 8 november\, van 14.00 uur tot 16.00 uur\, staan de lokale helden van stichting Zero Waste Apeldoorn bij Dille & Kamille aan de Hoofdstraat om je te laten zien hoe je eenvoudig\, plasticvrij én papiervrij je cadeaus kunt inpakken met een furoshiki. Iedereen – jong en oud – kan meedoen! Tijdens de inloopworkshop kun je zelf verschillende inpakmethodes uitproberen en oefenen. \nDe materialen\nVoor deze workshop worden de furoshiki’s en versiering door Dille & Kamille beschikbaar gesteld\, zodat je meteen kunt oefenen met de mooiste doeken. Wil je na de workshop thuis verder gaan? De leukste duurzame cadeaus én inpakdoeken (zoals handige theedoeken en gedroogde bloemen!) vind je in de winkel\, zodat je helemaal klaar bent voor een groene Sinterkerst! \nVier mee met Dille & Kamille\nDeze workshop is een cadeautje van Dille & Kamille ter ere van hun 2-jarig bestaan in Apeldoorn én van stichting Zero Waste Apeldoorn als onderdeel van de Zero Waste Winter Week. Samen maken we de feestdagen stijlvol\, duurzaam en betaalbaar! \n Creatief\, Duurzaam & Betaalbaar\nHet leuke aan furoshiki is dat je je creativiteit de vrije loop kunt laten. Zo kun je ook zelf je furoshiki maken van reststoffen of goedkope sjaaltjes uit de kringloop. Wil je een stap verder gaan? Leer zelf stoffen verven met natuurlijke materialen tijdens de speciale Furoshiki & Shibori workshop op 16 november bij CODA!
URL:https://zerowasteapeldoorn.nl/agenda/plasticvrij-cadeaus-inpakken/
LOCATION:Dille & Kamille\, Hoofdstraat 136\, Apeldoorn
CATEGORIES:Natuur & biodiversiteit,Workshop,Zero Waste Week
ATTACH;FMTTYPE=image/png:https://zerowasteapeldoorn.nl/wp-content/uploads/2024/09/Workshop-furoshiki-Dille-en-Kamille.png
END:VEVENT
BEGIN:VEVENT
DTSTART;TZID=Europe/Amsterdam:20241109T090000
DTEND;TZID=Europe/Amsterdam:20241109T180000
DTSTAMP:20260422T173540
CREATED:20241005T204447Z
LAST-MODIFIED:20241117T151745Z
UID:9020-1731142800-1731175200@zerowasteapeldoorn.nl
SUMMARY:Ronde van Rataplan*
DESCRIPTION:Ronde van RataPlan – Kersteditie 9 november 2024\n\n\nKringloopliefhebbers opgelet! Op zaterdag 9 november openen alle vestigingen van Noppes en Rataplan de deuren voor alle enthousiaste recyclefans\, zodat zij mee kunnen met het leukste evenement van het jaar: de Ronde van RataPlan! De winkels zijn goed gevuld en helemaal klaar voor de Ronde van RataPlan Kersteditie 2024! Doe je mee? Inschrijven kan vanaf maandag 14 oktober! \nDe volledig verzorgde dag bedraagt €10\,-. Hiervoor krijg je de busrit langs 3\, 4 of zelfs 5 winkels\, een lunchpakket\, koffie en thee met wat lekkers en als kers op de taart krijg je aan het einde van de dag tegen inlevering van een volle stempelkaart\, een RataPlan cadeaukaart ter waarde van €10\,-. \nOnline inschrijven\nHet inschrijven voor de kersteditie is volledig online. Het voordeel is dat jij jezelf kunt aanmelden bij jouw favoriete winkel in de buurt óf juist een andere vestiging om eens een andere regio te verkennen\, en dat vanuit je luie stoel! \nJe kunt jouw ticket bemachtigen op de Rataplan webshop (vanaf maandag 14 oktober): www.rataplan.com. \nLet op: als jij je aanmeldt voor een andere winkel dan word je hier ’s ochtends op zaterdag 9 november verwacht en kun je dus niet spontaan mee met de bus die vertrekt vanaf de winkel bij jou in de buurt. \nOok willen we je er op attenderen dat het helaas niet mogelijk is om jouw gekochte ticket te retourneren of ruilen voor een andere locatie. \nKersteditie\nTwee jaar geleden besloten Rataplan de Ronde van RataPlan los te trekken van de Nationale Kringloopdag en het geliefde evenement juist te koppelen aan de Kringloop Kerstshow. Deze show gaat op donderdag 7 november van start. Recyclefans kunnen tijdens de Ronde van RataPlan hun slag slaan als het gaat om gekleurde kerstballen\, een beeldje van Rudolph of een foute kersttrui. Uiteraard kan er ook tussen het reguliere assortiment worden gesnuffeld\, op zoek naar een kringloopschat!
URL:https://zerowasteapeldoorn.nl/agenda/ronde-van-rataplan/
LOCATION:RataPlan Apeldoorn\, Kanaal Zuid 78\, Apeldoorn\, 7332 BC
CATEGORIES:Circulariteit,Informatie,Rondleiding,Zero Waste Week
ATTACH;FMTTYPE=image/png:https://zerowasteapeldoorn.nl/wp-content/uploads/2024/10/Ronde-van-Rataplan.png
END:VEVENT
BEGIN:VEVENT
DTSTART;TZID=Europe/Amsterdam:20241109T140000
DTEND;TZID=Europe/Amsterdam:20241109T160000
DTSTAMP:20260422T173540
CREATED:20240929T140122Z
LAST-MODIFIED:20241002T182108Z
UID:8761-1731160800-1731168000@zerowasteapeldoorn.nl
SUMMARY:Inloopworkshop: Vetbolletjes maken voor de vogels bij Dille & Kamille
DESCRIPTION:Vetbolletjes maken tijdens de Zero Waste Winter Week!\nHelp de vogels de winter door én versier je tuin met zelfgemaakte\, plasticvrije vetbolletjes! 🐤🕊️ \nTijdens je wandelingen of opruimrondes ben je vast al weleens die vervelende plastic netjes van vetbollen tegengekomen. Niet alleen zwerven ze rond in parken en op straat\, maar ze vormen ook een gevaar voor de vogels – ze kunnen erin verstrikt raken of\, nog erger\, soms een hele plastic net binnenkrijgen. Tijd om daar iets aan te doen! \nGelukkig is er een eenvoudig en milieuvriendelijk alternatief: Maak zelf plasticvrije vetbolletjes!\nHet is niet alleen leuk om te doen\, maar je weet ook precies wat je aan je gevederde vrienden voert. Kies zelf de beste ingrediënten\, zodat de vogels gezond de winter doorkomen. \nKom langs en doe mee!\nOp zaterdag 9 november\, van 14.00 uur tot 16.00 uur\, staan de lokale helden van stichting Zero Waste Apeldoorn klaar bij Dille & Kamille aan de Hoofdstraat om je te laten zien hoe je in een handomdraai plasticvrije vetbollen maakt. Iedereen – jong en oud – kan meedoen! Tijdens deze inloop workshop kun je zelf aan de slag en na afloop neem je je eigen vetbolletje mee naar huis om in je tuin of op je balkon op te hangen. \nDe materialen\nAlles wat je nodig hebt voor deze DIY-vetbolletjes\, inclusief zaden en vet\, wordt voor deze workshop gratis aangeboden door Dille & Kamille. Wil je later thuis aan de slag? Alle materialen zijn natuurlijk ook in de winkel verkrijgbaar. \nVier mee met Dille & Kamille\nDeze workshop is een cadeautje van Dille & Kamille ter ere van hun 2-jarig bestaan in Apeldoorn én van Stichting Zero Waste Apeldoorn als onderdeel van de Zero Waste Winter Week. Samen werken we aan een duurzame en vrolijke decembermaand – voor jou én de vogels in je tuin! \nZien we je daar?
URL:https://zerowasteapeldoorn.nl/agenda/vetbolletjes-maken-voor-de-vogels/
LOCATION:Dille & Kamille\, Hoofdstraat 136\, Apeldoorn
CATEGORIES:Natuur & biodiversiteit,Workshop,Zero Waste Week
ATTACH;FMTTYPE=image/png:https://zerowasteapeldoorn.nl/wp-content/uploads/2024/09/Workshop-vetbollen-Dille-en-Kamille-1-1.png
END:VEVENT
BEGIN:VEVENT
DTSTART;TZID=Europe/Amsterdam:20241115T150000
DTEND;TZID=Europe/Amsterdam:20241115T163000
DTSTAMP:20260422T173540
CREATED:20241015T133231Z
LAST-MODIFIED:20241117T151532Z
UID:9453-1731682800-1731688200@zerowasteapeldoorn.nl
SUMMARY:Kijkje achter de schermen bij Foenix - Innamepunt*
DESCRIPTION:Rondleiding bij Foenix Circulair Ambachtscentrum \nOntdek wat er gebeurt met spullen die worden ingeleverd voor hergebruik. Bij het innamepunt\, op Aruba 12\, komen spullen binnen die worden ingeleverd en nog bruikbaar zijn. Tijdens de rondleidingen door het innamepunt\, op vrijdag 16 november\, tussen 15:00 en 16:30 uur\, zie je hoe alles gesorteerd wordt en klaargemaakt om verkocht te worden in de winkels van Foenix. Een mooi inkijkje in de circulaire economie. \nElke rondleiding duurt 30 minuten. \n\nRondleiding 1 15:00-15:30 uur\nRondleiding 2 15:30-16:00 uur\nRondleiding 3 16:00-16:30 uur\n\nStuur een mail naar hr@foenix.nl om je aan te melden voor de rondleiding.
URL:https://zerowasteapeldoorn.nl/agenda/kijkje-achter-de-schermen-bij-foenix-innamepunt-2/
LOCATION:Foenix Innamepunt\, Aruba 12\, Apeldoorn
CATEGORIES:Circulariteit,Informatie,Klimaatweek,Rondleiding
ATTACH;FMTTYPE=image/jpeg:https://zerowasteapeldoorn.nl/wp-content/uploads/2024/04/Innamepunt-Aruba-Foenix-banner.jpg
END:VEVENT
END:VCALENDAR