BEGIN:VCALENDAR
VERSION:2.0
PRODID:-//Zero Waste Apeldoorn - ECPv6.15.20//NONSGML v1.0//EN
CALSCALE:GREGORIAN
METHOD:PUBLISH
X-ORIGINAL-URL:https://zerowasteapeldoorn.nl
X-WR-CALDESC:Evenementen voor Zero Waste Apeldoorn
REFRESH-INTERVAL;VALUE=DURATION:PT1H
X-Robots-Tag:noindex
X-PUBLISHED-TTL:PT1H
BEGIN:VTIMEZONE
TZID:Europe/Amsterdam
BEGIN:DAYLIGHT
TZOFFSETFROM:+0100
TZOFFSETTO:+0200
TZNAME:CEST
DTSTART:20230326T010000
END:DAYLIGHT
BEGIN:STANDARD
TZOFFSETFROM:+0200
TZOFFSETTO:+0100
TZNAME:CET
DTSTART:20231029T010000
END:STANDARD
BEGIN:DAYLIGHT
TZOFFSETFROM:+0100
TZOFFSETTO:+0200
TZNAME:CEST
DTSTART:20240331T010000
END:DAYLIGHT
BEGIN:STANDARD
TZOFFSETFROM:+0200
TZOFFSETTO:+0100
TZNAME:CET
DTSTART:20241027T010000
END:STANDARD
BEGIN:DAYLIGHT
TZOFFSETFROM:+0100
TZOFFSETTO:+0200
TZNAME:CEST
DTSTART:20250330T010000
END:DAYLIGHT
BEGIN:STANDARD
TZOFFSETFROM:+0200
TZOFFSETTO:+0100
TZNAME:CET
DTSTART:20251026T010000
END:STANDARD
END:VTIMEZONE
BEGIN:VEVENT
DTSTART;TZID=Europe/Amsterdam:20240620T133000
DTEND;TZID=Europe/Amsterdam:20240620T160000
DTSTAMP:20260422T174829
CREATED:20240604T211022Z
LAST-MODIFIED:20240604T211022Z
UID:4835-1718890200-1718899200@zerowasteapeldoorn.nl
SUMMARY:Workshop wasmiddel maken - Dille & Kamille
DESCRIPTION:Zelf je plastic- en meukvrije wasmiddel maken: je wist niet dat het zó simpel was! Tijdens de Zero Waste Zomer Week kan je het bij Dille & Kamille komen maken tijdens de GRATIS inloopworkshop tussen 13:30u en 16:00u. \nTiphaine en Eefje van Zero Waste Apeldoorn laten je in de winkel zien met welke paar ingrediënten je een liter wasmiddel maakt voor de bonte en witte was. De materialen worden aangeboden door Dille & Kamille en je eigen fles wasmiddel mag je gratis mee naar huis nemen. \nJe hoeft je voor deze workshop niet aan te melden; kom op donderdagmiddag 20 juni naar Dille & Kamille en schuif gewoon aan de workshoptafel aan.
URL:https://zerowasteapeldoorn.nl/agenda/workshop-wasmiddel-maken/
LOCATION:Dille & Kamille\, Hoofdstraat 136\, Apeldoorn
CATEGORIES:Workshop
ATTACH;FMTTYPE=image/jpeg:https://zerowasteapeldoorn.nl/wp-content/uploads/2024/06/WhatsApp-Image-2024-06-04-at-22.54.03-e1717535290628.jpeg
END:VEVENT
END:VCALENDAR