BEGIN:VCALENDAR
VERSION:2.0
PRODID:-//Zero Waste Apeldoorn - ECPv6.15.20//NONSGML v1.0//EN
CALSCALE:GREGORIAN
METHOD:PUBLISH
X-ORIGINAL-URL:https://zerowasteapeldoorn.nl
X-WR-CALDESC:Evenementen voor Zero Waste Apeldoorn
REFRESH-INTERVAL;VALUE=DURATION:PT1H
X-Robots-Tag:noindex
X-PUBLISHED-TTL:PT1H
BEGIN:VTIMEZONE
TZID:Europe/Amsterdam
BEGIN:DAYLIGHT
TZOFFSETFROM:+0100
TZOFFSETTO:+0200
TZNAME:CEST
DTSTART:20240331T010000
END:DAYLIGHT
BEGIN:STANDARD
TZOFFSETFROM:+0200
TZOFFSETTO:+0100
TZNAME:CET
DTSTART:20241027T010000
END:STANDARD
BEGIN:DAYLIGHT
TZOFFSETFROM:+0100
TZOFFSETTO:+0200
TZNAME:CEST
DTSTART:20250330T010000
END:DAYLIGHT
BEGIN:STANDARD
TZOFFSETFROM:+0200
TZOFFSETTO:+0100
TZNAME:CET
DTSTART:20251026T010000
END:STANDARD
BEGIN:DAYLIGHT
TZOFFSETFROM:+0100
TZOFFSETTO:+0200
TZNAME:CEST
DTSTART:20260329T010000
END:DAYLIGHT
BEGIN:STANDARD
TZOFFSETFROM:+0200
TZOFFSETTO:+0100
TZNAME:CET
DTSTART:20261025T010000
END:STANDARD
END:VTIMEZONE
BEGIN:VEVENT
DTSTART;TZID=Europe/Amsterdam:20250108T140500
DTEND;TZID=Europe/Amsterdam:20250108T153000
DTSTAMP:20260419T162013
CREATED:20250107T210505Z
LAST-MODIFIED:20250107T210505Z
UID:11235-1736345100-1736350200@zerowasteapeldoorn.nl
SUMMARY:De Achtertuin van Kees - Gigant*
DESCRIPTION:Regie: Marcel Everts  |  Duur: 74 minuten  |  Acteurs: Kees Ravensbergen\, Marcel Everts  |  Documentaire \nDe Achtertuin van Kees\nNa een ontdekking van een schatkist vol\, tot dan toe onontdekte filmopnames gemaakt door Kees Ravensbergen\, produceerde Marcel Everts zijn eerste volledige natuurfilm ‘De achtertuin van Kees’. Hij leert ons de schoonheid van onze Nederlandse natuur en laat dit op een bijzondere en intieme wijze tot de kijker komen. Het is de natuur zoals jij en ik het kunnen zien. \nZie voor tickets en informatie: https://www.gigant.nl/film/de-achtertuin-van-kees \nTrailer bekijken: \n\n____________________ \nDit is een evenement van Gigant Filmtheater
URL:https://zerowasteapeldoorn.nl/agenda/de-achtertuin-van-kees-woensdag/
LOCATION:Gigant\, Nieuwstraat 377\, Apeldoorn\, 7311 BR\, Nederland
CATEGORIES:Natuur & biodiversiteit
ATTACH;FMTTYPE=image/png:https://zerowasteapeldoorn.nl/wp-content/uploads/2025/01/De-achtertuin-van-Kees.png
END:VEVENT
BEGIN:VEVENT
DTSTART;TZID=Europe/Amsterdam:20250111T170000
DTEND;TZID=Europe/Amsterdam:20250111T181500
DTSTAMP:20260419T162013
CREATED:20250107T210039Z
LAST-MODIFIED:20250107T210554Z
UID:11228-1736614800-1736619300@zerowasteapeldoorn.nl
SUMMARY:De Achtertuin van Kees - Gigant*
DESCRIPTION:Regie: Marcel Everts  |  Duur: 74 minuten  |  Acteurs: Kees Ravensbergen\, Marcel Everts  |  Documentaire \nDe Achtertuin van Kees\nNa een ontdekking van een schatkist vol\, tot dan toe onontdekte filmopnames gemaakt door Kees Ravensbergen\, produceerde Marcel Everts zijn eerste volledige natuurfilm ‘De achtertuin van Kees’. Hij leert ons de schoonheid van onze Nederlandse natuur en laat dit op een bijzondere en intieme wijze tot de kijker komen. Het is de natuur zoals jij en ik het kunnen zien. \nZie voor tickets en informatie: https://www.gigant.nl/film/de-achtertuin-van-kees \nTrailer bekijken: \n\n____________________ \nDit is een evenement van Gigant Filmtheater
URL:https://zerowasteapeldoorn.nl/agenda/de-achtertuin-van-kees-zaterdag/
LOCATION:Gigant\, Nieuwstraat 377\, Apeldoorn\, 7311 BR\, Nederland
CATEGORIES:Natuur & biodiversiteit
ATTACH;FMTTYPE=image/png:https://zerowasteapeldoorn.nl/wp-content/uploads/2025/01/De-achtertuin-van-Kees.png
END:VEVENT
BEGIN:VEVENT
DTSTART;TZID=Europe/Amsterdam:20250118T141000
DTEND;TZID=Europe/Amsterdam:20250118T153500
DTSTAMP:20260419T162013
CREATED:20250107T211850Z
LAST-MODIFIED:20250107T212238Z
UID:11239-1737209400-1737214500@zerowasteapeldoorn.nl
SUMMARY:HERE - Gigant*
DESCRIPTION:Regisseur: Bas Devos  |  Acteurs: Stefan Gota\, Liyo Gong  |  Duur: 82 minuten  |  Gesproken taal: Frans\, Roemeens\, Chinees\, Nederlands  |  Genre: Drama\nHere\nOp 18 januari vertoont GIGANT vijf van de beste films van 2024. Naast landelijke favoriet Poor Things kiest GIGANT-programmeur Rob van den Bergh vier persoonlijke hoogtepunten van 2024 uit\, inclusief enkele titels die volgens hem door bezoekers over het hoofd zijn gezien. De vier persoonlijke keuzes draaien achter elkaar in de Rode filmzaal. Alle vijf de films worden door Rob van den Bergh voorzien van een korte inleiding. \n\nStefan is een zachtaardige bouwvakker in Brussel die op het punt staat te vertrekken naar zijn thuisland Roemenië voor de zomervakantie. Tijdens zijn wandelingen en afscheidsbezoeken aan vrienden en familie ontmoet hij ShuXiu\, een jonge Belgisch-Chinese vrouw die haar studie wijdt aan mossen. Haar oog voor het nauwelijks zichtbare intrigeert Stefan en laat zijn blik nog meer richten op de schatten die ons voortdurend omringen – of ze nu worden gedeeld met de mensen rondom ons of gewoon onder onze voeten groeien. Here is een poëtische stadssymfonie die een ode brengt aan het onzichtbare en de schoonheid van het kleine. Geduldig en contemplatief ontvouwt regisseur Bas Devos de connectie tussen stad en natuur en\, op de achtergrond van een ontluikende liefdesgeschiedenis\, de connectie tussen mensen zelf. Zijn zintuigprikkelende film werd prachtig in beeld gebracht door cinematograaf Grimm Vandekerckhove\, wiens werk dit jaar op het Filmfestival van Rotterdam beloond werd met de Robby Müller Award. \nZie voor tickets en informatie: https://www.gigant.nl/film/here-de-beste-films-van-2024/ \nTrailer bekijken: \n\n____________________ \nDit is een evenement van Gigant Filmtheater
URL:https://zerowasteapeldoorn.nl/agenda/here/
LOCATION:Gigant\, Nieuwstraat 377\, Apeldoorn\, 7311 BR\, Nederland
CATEGORIES:Natuur & biodiversiteit
ATTACH;FMTTYPE=image/png:https://zerowasteapeldoorn.nl/wp-content/uploads/2025/01/Here-Gigant.png
END:VEVENT
END:VCALENDAR