BEGIN:VCALENDAR
VERSION:2.0
PRODID:-//Zero Waste Apeldoorn - ECPv6.15.20//NONSGML v1.0//EN
CALSCALE:GREGORIAN
METHOD:PUBLISH
X-WR-CALNAME:Zero Waste Apeldoorn
X-ORIGINAL-URL:https://zerowasteapeldoorn.nl
X-WR-CALDESC:Evenementen voor Zero Waste Apeldoorn
REFRESH-INTERVAL;VALUE=DURATION:PT1H
X-Robots-Tag:noindex
X-PUBLISHED-TTL:PT1H
BEGIN:VTIMEZONE
TZID:Europe/Amsterdam
BEGIN:DAYLIGHT
TZOFFSETFROM:+0100
TZOFFSETTO:+0200
TZNAME:CEST
DTSTART:20240331T010000
END:DAYLIGHT
BEGIN:STANDARD
TZOFFSETFROM:+0200
TZOFFSETTO:+0100
TZNAME:CET
DTSTART:20241027T010000
END:STANDARD
BEGIN:DAYLIGHT
TZOFFSETFROM:+0100
TZOFFSETTO:+0200
TZNAME:CEST
DTSTART:20250330T010000
END:DAYLIGHT
BEGIN:STANDARD
TZOFFSETFROM:+0200
TZOFFSETTO:+0100
TZNAME:CET
DTSTART:20251026T010000
END:STANDARD
BEGIN:DAYLIGHT
TZOFFSETFROM:+0100
TZOFFSETTO:+0200
TZNAME:CEST
DTSTART:20260329T010000
END:DAYLIGHT
BEGIN:STANDARD
TZOFFSETFROM:+0200
TZOFFSETTO:+0100
TZNAME:CET
DTSTART:20261025T010000
END:STANDARD
END:VTIMEZONE
BEGIN:VEVENT
DTSTART;TZID=Europe/Amsterdam:20250523T140000
DTEND;TZID=Europe/Amsterdam:20250523T160000
DTSTAMP:20260419T200710
CREATED:20250305T095426Z
LAST-MODIFIED:20250523T103219Z
UID:12691-1748008800-1748016000@zerowasteapeldoorn.nl
SUMMARY:Workshop: Maak je eigen herbruikbare lunchwrap - Darner Design x CODA
DESCRIPTION:Workshop: Maak je eigen herbruikbare lunchwrap! 🥪\n🔹 Datum: vrijdag 23 mei🔹 Tijd: 14:00 -16:00 uur🔹 Locatie: CODA ExperienceLab\, Apeldoorn🔹 Kosten: Gratis! \nWil jij op een makkelijke én stijlvolle manier minder wegwerpverpakkingen gebruiken? Doe dan mee met deze workshop\, in het kader van de Zero Waste Week\, en naai je eigen herbruikbare lunchwrap! 🎉 \nEen lunchwrap is een duurzaam alternatief voor plastic boterhamzakjes en aluminiumfolie. Hij is licht\, compact en houdt je brood\, sandwich\, kaas\, fruit of groenten lekker vers dankzij de foodsafekeur Vinyl binnenkant. Na gebruik kun je de wrap eenvoudig schoonmaken en keer op keer hergebruiken! \nWat kun je verwachten?\n🌿 Onder begeleiding van Jenny van Darner Design leer je hoe je zelf een handige lunchwrap naait.🧵 Maak gebruik van de naaimachines van het CODA ExperienceLab .🎨 Kies een leuke stof! Kringloopwinkel Foenix sponsort 5 katoenen stoffen met vrolijke prints – jij kiest jouw favoriet.📏 Afmetingen: Opgevouwen 10 cm x 12 cm\, uitgevouwen 33 cm x 40 cm.🎁 Jouw zelfgemaakte lunchwrap neem je gratis mee naar huis! \nMeld je snel aan!\n📩 Aanmelden: Klik op de knop hiernaast.⚠️ Beperkt aantal plekken: Maximaal 8 deelnemers\, dus meld je alleen aan als je écht kunt komen.❌ Afmelden? Laat het ons weten via info@zerowasteapeldoorn.nl\, zodat iemand anders jouw plek kan innemen. \nWil jij een praktisch\, duurzaam en herbruikbaar alternatief maken voor je lunchverpakking? Meld je aan en doe mee! 💚
URL:https://zerowasteapeldoorn.nl/agenda/workshop-herbruikbare-lunchwrap-mei-2025/
LOCATION:CODA\, Vosselmanstraat 299\, Apeldoorn\, 7311CL\, Nederland
CATEGORIES:Circulariteit,Workshop,Zero Waste Week
ATTACH;FMTTYPE=image/jpeg:https://zerowasteapeldoorn.nl/wp-content/uploads/2024/04/Workshop-Lunchwrap.jpg
END:VEVENT
END:VCALENDAR