BEGIN:VCALENDAR
VERSION:2.0
PRODID:-//Zero Waste Apeldoorn - ECPv6.15.20//NONSGML v1.0//EN
CALSCALE:GREGORIAN
METHOD:PUBLISH
X-ORIGINAL-URL:https://zerowasteapeldoorn.nl
X-WR-CALDESC:Evenementen voor Zero Waste Apeldoorn
REFRESH-INTERVAL;VALUE=DURATION:PT1H
X-Robots-Tag:noindex
X-PUBLISHED-TTL:PT1H
BEGIN:VTIMEZONE
TZID:Europe/Amsterdam
BEGIN:DAYLIGHT
TZOFFSETFROM:+0100
TZOFFSETTO:+0200
TZNAME:CEST
DTSTART:20240331T010000
END:DAYLIGHT
BEGIN:STANDARD
TZOFFSETFROM:+0200
TZOFFSETTO:+0100
TZNAME:CET
DTSTART:20241027T010000
END:STANDARD
BEGIN:DAYLIGHT
TZOFFSETFROM:+0100
TZOFFSETTO:+0200
TZNAME:CEST
DTSTART:20250330T010000
END:DAYLIGHT
BEGIN:STANDARD
TZOFFSETFROM:+0200
TZOFFSETTO:+0100
TZNAME:CET
DTSTART:20251026T010000
END:STANDARD
BEGIN:DAYLIGHT
TZOFFSETFROM:+0100
TZOFFSETTO:+0200
TZNAME:CEST
DTSTART:20260329T010000
END:DAYLIGHT
BEGIN:STANDARD
TZOFFSETFROM:+0200
TZOFFSETTO:+0100
TZNAME:CET
DTSTART:20261025T010000
END:STANDARD
END:VTIMEZONE
BEGIN:VEVENT
DTSTART;TZID=Europe/Amsterdam:20250520T140000
DTEND;TZID=Europe/Amsterdam:20250520T160000
DTSTAMP:20260419T142937
CREATED:20250511T085640Z
LAST-MODIFIED:20250513T093033Z
UID:13816-1747749600-1747756800@zerowasteapeldoorn.nl
SUMMARY:Workshop: Klimaatgesprekken
DESCRIPTION:Workshop Klimaatgesprekken: Hoe voer je het gesprek om alle inspiratie van de Zero Waste Week te delen?\nKom ontdekken hoe je over de thema’s van de Zero Waste Week het gesprek met elkaar kunt voeren. We houden het praktisch: hoe vertel je aan anderen hoe het was om te upcyclen\, te ruilen\, te wandelen en te planten? Arien Scholtens en Katja LeClercq helpen je daarbij in deze workshop. \nDatum: Dinsdag 20 mei\nTijd: 14:00 – 16:00 uur. Inlopen vanaf 13:45 uur\nLocatie: Impact Plek\, Zwitsal Apeldoorn\, Vlijtseweg 130\nKosten: Gratis \nDeze hele Zero Waste Week bewijst het wel: er is zoveel leuks dat je kunt doen voor een betere wereld! \nHet gesprek aangaan\nEn als je anderen daarover vertelt\, kun je tóch de reactie krijgen: “Inspirerend? Klimaat? Dat is toch juist heel zwaar? Helemaal niet leuk?” En ook: “Toch niet wéér over klimaat?” \nVeel mensen lopen vast bij het ‘erover praten’. Omdat het ongemakkelijk voelt om zoiets persoonlijks te delen.\nEn dat is een gemiste kans. Want als je érgens met kleine\, simpele stappen\, grote veranderingen teweeg kan brengen\, dan is dat in het gesprek met je collega\, oom\, vriend(in)\, buurvrouw\, etc. \nTijdens onze workshop Klimaatgesprekken ontstaat het vertrouwen dat je nodig hebt om het klimaat toch aan te kaarten. \nHoe kun je je collega’s\, kennissen\, buurtgenoten\, mede-clubleden aanmoedigen om het klimaat mee te nemen in hun beslissingen? \nWelke vuistregels helpen je daarbij en hoe omzeil je bekende valkuilen?\nWe geven voorbeelden en wisselen ervaringen met elkaar uit.\nSamen weten we meer! \nSamen met een kleine groep mededeelnemers ontdek je hoe je je omgeving kunt inspireren. In deze workshop gaan we verschillende thema’s aanstippen. Naast de thema’s spullen (afval) en biodiversiteit uit de Zero Waste Week zijn daar ook: wonen\, voedsel\, en reizen. \nEn we krijgen inzicht in begrippen als voetafdruk\, handafdruk\, klimaatspagaat en klimaatjes. Welke stappen je verder neemt en hoe ver je daarin gaat\, dat bepaal je zelf. \nAanmelden\nEr is plek voor 8 personen\, bij meer aanmeldingen organiseren we een tweede workshop.
URL:https://zerowasteapeldoorn.nl/agenda/workshop-klimaatgesprekken-20-mei-2025/
LOCATION:Impact Plek\, Vlijtseweg 128a\, Apeldoorn\, 7317 AK
CATEGORIES:Informatie,Verbinden,Workshop,Zero Waste Week
ATTACH;FMTTYPE=image/jpeg:https://zerowasteapeldoorn.nl/wp-content/uploads/2025/05/Workshop-Klimaatgesprekken.jpg
END:VEVENT
BEGIN:VEVENT
DTSTART;TZID=Europe/Amsterdam:20250521T193000
DTEND;TZID=Europe/Amsterdam:20250521T211000
DTSTAMP:20260419T142937
CREATED:20250410T134233Z
LAST-MODIFIED:20250410T134759Z
UID:13426-1747855800-1747861800@zerowasteapeldoorn.nl
SUMMARY:Filmavond: 'Green Musketeer' bij Gigant - met nabespreking
DESCRIPTION:Regie: Melchert Meijer zu Schlochtern\, Babetter Vermunt  |  Duur: 58 minuten  + nagesprek |  Documentaire | Filmtheater Gigant \n\n\nGreen Musketeer | Zero Waste Week + nagesprek\nPieter Hoff is uitvinder en een optimist. Hij wil 2 miljard hectare herbebossen om zo de problemen voor de aarde en de mensheid op te lossen. Zijn uitvinding maakt het mogelijk om met weinig geld en weinig water bomen te planten in droge gedegradeerde gebieden. Maar een goede uitvinding alleen is niet voldoende….! We maken kennis met zijn optimisme en doorzettingsvermogen van Mexico tot hoog in de bergen van Tibet. De tijd dringt voor de aarde. Maar de tijd dringt ook voor Pieter. \nNa afloop van de film is regisseur Melchert Meijer zu Schlochteren aanwezig voor een Q&A\, samen met Gemeente Apeldoorn vakspecialisten Erik Gorter en Wim Mulder. \nIn totaal duurt het programma van deze avond 100 minuten. \n\n\nZie voor tickets en informatie: https://www.gigant.nl/film/green-musketeer-zero-waste-week-nagesprek/ \nGreen Musketeer wordt vertoond i.h.k.v. de Zero Waste Week Apeldoorn.\nBezoek voor meer informatie over de film de website: www.filmgreenmusketeer.nl
URL:https://zerowasteapeldoorn.nl/agenda/filmavond-green-musketeer-gigant-mei-2025/
LOCATION:Gigant\, Nieuwstraat 377\, Apeldoorn\, 7311 BR\, Nederland
CATEGORIES:Natuur & biodiversiteit,Zero Waste Week
ATTACH;FMTTYPE=image/png:https://zerowasteapeldoorn.nl/wp-content/uploads/2025/04/Green-Musketeer-film-Gigant.png
END:VEVENT
BEGIN:VEVENT
DTSTART;TZID=Europe/Amsterdam:20250522T193000
DTEND;TZID=Europe/Amsterdam:20250522T214500
DTSTAMP:20260419T142937
CREATED:20250410T135425Z
LAST-MODIFIED:20250410T135436Z
UID:13431-1747942200-1747950300@zerowasteapeldoorn.nl
SUMMARY:Filmavond: 'Een Kano naar Zee' bij Gigant - met nabespreking
DESCRIPTION:Regisseur: André van der Hout | Duur: 131 minuten | Gesproken taal: Nederlands | Genre: Documentaire | Filmtheater Gigant\n\n\nEen Kano naar Zee | Zero Waste Week + nagesprek\nEen Kano naar Zee is een ode aan de helden die de Rotterdamse haven gemaakt hebben tot wat die is. En tegelijkertijd een afrekening. De toekomstdroom van groot groter grootst is hoe langer hoe meer in een nachtmerrie veranderd. Kunnen we in de zoektocht naar een leefbare rivierdelta desondanks nog iets leren van die verhalen over wording en verwording van de Rotterdamse haven? Een film die de feitelijkheid van uniek historisch materiaal koppelt aan lyrische en kritische perspectieven. \nDe film kijkt niet alleen naar het verleden van de haven\, maar onderzoekt ook de toekomst. De haven is gebouwd ten koste van de natuur en blijft zich uitbreiden. Ditmaal willen ontwikkelaars dit doen zonder verdere schade aan het ecosysteem aan te brengen. De vraag of dit mogelijk zal zijn is relevant voor iedere stad die denkt aan expansie. \nNa afloop van de filmvertoning is er de mogelijkheid om vragen te stellen aan regisseur André van der Hout. \n\n\nZie voor tickets en informatie: https://www.gigant.nl/film/een-kano-naar-zee-zero-waste/ \nEen Kano naar Zee wordt vertoond i.h.k.v. de Zero Waste Week Apeldoorn.
URL:https://zerowasteapeldoorn.nl/agenda/filmavond-kano-naar-zee-gigant-mei-2025/
LOCATION:Gigant\, Nieuwstraat 377\, Apeldoorn\, 7311 BR\, Nederland
CATEGORIES:Natuur & biodiversiteit,Zero Waste Week
ATTACH;FMTTYPE=image/png:https://zerowasteapeldoorn.nl/wp-content/uploads/2025/04/Een-kano-naar-zee-film-Gigant.png
END:VEVENT
END:VCALENDAR