BEGIN:VCALENDAR
VERSION:2.0
PRODID:-//Zero Waste Apeldoorn - ECPv6.15.20//NONSGML v1.0//EN
CALSCALE:GREGORIAN
METHOD:PUBLISH
X-WR-CALNAME:Zero Waste Apeldoorn
X-ORIGINAL-URL:https://zerowasteapeldoorn.nl
X-WR-CALDESC:Evenementen voor Zero Waste Apeldoorn
REFRESH-INTERVAL;VALUE=DURATION:PT1H
X-Robots-Tag:noindex
X-PUBLISHED-TTL:PT1H
BEGIN:VTIMEZONE
TZID:Europe/Amsterdam
BEGIN:DAYLIGHT
TZOFFSETFROM:+0100
TZOFFSETTO:+0200
TZNAME:CEST
DTSTART:20240331T010000
END:DAYLIGHT
BEGIN:STANDARD
TZOFFSETFROM:+0200
TZOFFSETTO:+0100
TZNAME:CET
DTSTART:20241027T010000
END:STANDARD
BEGIN:DAYLIGHT
TZOFFSETFROM:+0100
TZOFFSETTO:+0200
TZNAME:CEST
DTSTART:20250330T010000
END:DAYLIGHT
BEGIN:STANDARD
TZOFFSETFROM:+0200
TZOFFSETTO:+0100
TZNAME:CET
DTSTART:20251026T010000
END:STANDARD
BEGIN:DAYLIGHT
TZOFFSETFROM:+0100
TZOFFSETTO:+0200
TZNAME:CEST
DTSTART:20260329T010000
END:DAYLIGHT
BEGIN:STANDARD
TZOFFSETFROM:+0200
TZOFFSETTO:+0100
TZNAME:CET
DTSTART:20261025T010000
END:STANDARD
END:VTIMEZONE
BEGIN:VEVENT
DTSTART;TZID=Europe/Amsterdam:20250517T090000
DTEND;TZID=Europe/Amsterdam:20250523T173000
DTSTAMP:20260423T064324
CREATED:20250420T153854Z
LAST-MODIFIED:20250509T193146Z
UID:13640-1747472400-1748021400@zerowasteapeldoorn.nl
SUMMARY:Actie: 20x gratis kits "Maak je eigen stoffen vlaggenlijn"
DESCRIPTION:🎉 Zero Waste DIY: Maak je eigen stoffen vlaggenlijn! 🧵🪡\n📍 Locatie: Het Stofnest\, Asselsestraat 251E\, Apeldoorn\n📅 Periode: Tijdens de Zero Waste Week – van 17 t/m 23 mei\n💰 Kosten: Gratis (Kit t.w.v. €7\,50)\n🧵 Aantal kits: 20 beschikbaar – op = op!\n(max. 1 kit per huishouden) \nIn Apeldoorn is zelf naaien weer helemaal in de mode\, dit mede dankzij de hippe textiel- en wolwinkel Het Stofnest!\nTijdens de Zero Waste Week\, bieden Stichting Zero Waste Apeldoorn en Het Stofnest gratis 20x doe-het-zelfkits aan waarmee jij je eigen duurzame vlaggenlijn maakt! 🎀🥳 \nWeg met de plastic wegwerpvlaggetjes – hallo stijlvolle stoffen slinger die je keer op keer kunt hergebruiken. De kit bevat alles wat je nodig hebt om een 1\,5 meter lange vlaggenlijn te naaien in drie kleuren van jouw keuze (uit de selectie in de winkel). Je krijgt ook een patroon én instructies\, dus zelfs beginners kunnen aan de slag! \n🙋‍♀️ Geen naaimachine of ervaring? Geen probleem! Je kunt op afspraak terecht in de winkel om je vlaggenlijn onder begeleiding van eigenaresse Maaike Schiphorst te maken. \n💚 Deze actie is een leuke én leerzame manier om nieuwe vaardigheden op te doen\, bewuster om te gaan met grondstoffen en bij te dragen aan een afvalvrij Apeldoorn. \n📌 De kits zijn tijdens de openingstijden van Het Stofnest op te halen. Wees er snel bij\, want op = op!
URL:https://zerowasteapeldoorn.nl/agenda/actie-gratis-kits-maak-je-eigen-stoffen-vlaggenlijn/
LOCATION:Het Stofnest\, Asselsestraat 251E\, Apeldoorn\, Gelderland\, 7312 CT\, Netherlands
CATEGORIES:Circulariteit,Workshop,Zero Waste Week
ATTACH;FMTTYPE=image/png:https://zerowasteapeldoorn.nl/wp-content/uploads/2025/04/20-gratis-kits-dyi-vlaggenlijn.png
END:VEVENT
BEGIN:VEVENT
DTSTART;TZID=Europe/Amsterdam:20250521T140000
DTEND;TZID=Europe/Amsterdam:20250521T160000
DTSTAMP:20260423T064324
CREATED:20250414T105300Z
LAST-MODIFIED:20250414T105523Z
UID:13479-1747836000-1747843200@zerowasteapeldoorn.nl
SUMMARY:Werkplaats Woensdag: maak iets nieuws met spullen uit de rommella - CODA
DESCRIPTION:CODA ExperienceLab Makerspace | 14-16 uur | 8+ jaar | Gratis (open inloop) \n\nIedereen heeft er wel een: een rommella! Tijdens de Zero Waste Week kijken we eens goed naar de inhoud ervan. Er liggen vaak fantastische spulletjes in. Dat ene poppetje\, kraaltje\, draadje of dopje; waar was het ook alweer voor? \nElke woensdagmiddag kunnen jongeren vanaf 8 jaar kennismaken met enkele van de technieken en mogelijkheden van de toekomst in de Makerspace van CODA ExperienceLab. Elke bezoeker kan zich inschrijven om een kwartier te gamen op onze Virtual Reality sets. Daarnaast is er een kleine workshop georganiseerd waarin je aan de slag gaat met bijvoorbeeld programmeren\, robotica\, fashion recycling\, lasersnijden of 3D ontwerpen. Werkplaats Woensdag is een open inloopactiviteit. Kom langs\, doe mee maar vol is vol! \n\nWe gaan tijdens de werkplaatswoensdag op 21 mei aan de slag met kleine spullen uit de kringloopwinkel. Je kan ze pimpen\, opnieuw samenstellen tot een nieuw voorwerp of maak er een sieraad of kunstwerk van. Zo hergebruik je prullen die anders in de afvalbak belanden. Neem gerust iets mee uit je eigen rommella of gebruik een van de prullen in de Makerspace.  Woensdag is een open inloopactiviteit. Kom langs\, doe mee\, maar vol is vol! \nZie voor meer informatie: https://www.coda-apeldoorn.nl/nl/agenda/werkplaats-woensdag/21-05-2025-1400
URL:https://zerowasteapeldoorn.nl/agenda/coda-werkplaats-woensdag-21-mei-2025/
LOCATION:CODA\, Vosselmanstraat 299\, Apeldoorn\, 7311CL\, Nederland
CATEGORIES:Circulariteit,Recycling,Repareren,Zero Waste Week
ATTACH;FMTTYPE=image/jpeg:https://zerowasteapeldoorn.nl/wp-content/uploads/2025/04/21-05-2025_werkplaatswoensdag_Zero_Waste_Week.jpg
END:VEVENT
BEGIN:VEVENT
DTSTART;TZID=Europe/Amsterdam:20250521T140000
DTEND;TZID=Europe/Amsterdam:20250521T160000
DTSTAMP:20260423T064324
CREATED:20250414T113825Z
LAST-MODIFIED:20250414T113825Z
UID:13486-1747836000-1747843200@zerowasteapeldoorn.nl
SUMMARY:Maakmiddag Junior: Van rommel naar rijkdom - CODA Junior
DESCRIPTION:Woensdag 21 mei | CODA Junior (Centrale Bibliotheek) | 4+ | gratis | open inloop \n21 mei – Van rommel naar rijkdom  \nElke woensdagmiddag kunnen kinderen creatief aan de slag in CODA Junior. Tijdens de Zero Waste Week maken we van kleine rommel mooie cadeaus. Tijdens dit gratis (open inloop) maakmoment gaan we elke aan de slag met verschillende materialen en verhalen en worden er thema’s gecombineerd vanuit zowel CODA Museum\, Bibliotheek\, Archief als ExperienceLab. \nOver de Maakmiddag bij CODA Junior \nElke woensdag van 14.00 tot 16.00 uur kunnen kinderen creatief aan de slag in CODA Junior! Tijdens dit gratis (open inloop) maakmoment gaan ze aan de slag met verschillende materialen en verhalen en worden er thema’s gecombineerd vanuit zowel CODA Museum\, Bibliotheek\, Archief als ExperienceLab. De Woensdag maakmiddag vindt plaats in CODA Centrale Bibliotheek aan de Vosselmanstraat 299. Je hoeft je niet vooraf aan te melden. \nLet op: dit betreft een open inloopactiviteit in de openbare ruimte. CODA verzorgt enkel de activiteitenbegeleiding tijdens deze maakmiddag. Ouders of verzorgers moeten aanwezig blijven om toezicht te houden op hun kinderen.  \nVeel maakplezier bij CODA! \nZie voor meer informatie:
URL:https://zerowasteapeldoorn.nl/agenda/maakmiddag-coda-junior-21-mei-2025/
LOCATION:CODA\, Vosselmanstraat 299\, Apeldoorn\, 7311CL\, Nederland
CATEGORIES:Circulariteit,Recycling,Workshop,Zero Waste Week
ATTACH;FMTTYPE=image/png:https://zerowasteapeldoorn.nl/wp-content/uploads/2024/10/Maakmiddag-Junior-CODA.png
END:VEVENT
END:VCALENDAR