BEGIN:VCALENDAR
VERSION:2.0
PRODID:-//Zero Waste Apeldoorn - ECPv6.15.20//NONSGML v1.0//EN
CALSCALE:GREGORIAN
METHOD:PUBLISH
X-ORIGINAL-URL:https://zerowasteapeldoorn.nl
X-WR-CALDESC:Evenementen voor Zero Waste Apeldoorn
REFRESH-INTERVAL;VALUE=DURATION:PT1H
X-Robots-Tag:noindex
X-PUBLISHED-TTL:PT1H
BEGIN:VTIMEZONE
TZID:Europe/Amsterdam
BEGIN:DAYLIGHT
TZOFFSETFROM:+0100
TZOFFSETTO:+0200
TZNAME:CEST
DTSTART:20230326T010000
END:DAYLIGHT
BEGIN:STANDARD
TZOFFSETFROM:+0200
TZOFFSETTO:+0100
TZNAME:CET
DTSTART:20231029T010000
END:STANDARD
BEGIN:DAYLIGHT
TZOFFSETFROM:+0100
TZOFFSETTO:+0200
TZNAME:CEST
DTSTART:20240331T010000
END:DAYLIGHT
BEGIN:STANDARD
TZOFFSETFROM:+0200
TZOFFSETTO:+0100
TZNAME:CET
DTSTART:20241027T010000
END:STANDARD
BEGIN:DAYLIGHT
TZOFFSETFROM:+0100
TZOFFSETTO:+0200
TZNAME:CEST
DTSTART:20250330T010000
END:DAYLIGHT
BEGIN:STANDARD
TZOFFSETFROM:+0200
TZOFFSETTO:+0100
TZNAME:CET
DTSTART:20251026T010000
END:STANDARD
END:VTIMEZONE
BEGIN:VEVENT
DTSTART;TZID=Europe/Amsterdam:20241105T193000
DTEND;TZID=Europe/Amsterdam:20241105T213000
DTSTAMP:20260420T024632
CREATED:20241015T100454Z
LAST-MODIFIED:20241026T145040Z
UID:9185-1730835000-1730842200@zerowasteapeldoorn.nl
SUMMARY:Feel Good Movie '2040' bij Gigant - met nabespreking
DESCRIPTION:Regie: Damon Gameau  |  Duur: 91 minuten  |  Gesproken taal: Engels (Nederlands ondertiteld)  |  Documentaire \n2040 – Join the Regeneration\nIn het pluche van de filmzaal van Gigant kun je je heerlijk onderdompelen in de hoopvolle wereld van 2040.\nIn samenwerking met Transform4C en Stichting Climate Cleanup\, toont Stichting Zero Waste Apeldoorn bij Gigant in de Zero Waste Winter Week de prachtige documentaire 2040\, waarin een hartverwarmend beeld wordt geschetst van de wereld over 16 jaar. Een toekomst die echt werkelijkheid kan worden als we nu meer inzetten op wat er al is. Als burgers\, maar ook als medewerkers in bedrijven en overheden.\nEen must-see voor iedereen die zin heeft in wat positief nieuws en zelf in actie wilt komen om bij te dragen aan een Gelukkig 2040! \nDe avond wordt gehost door Stichting Zero Waste Apeldoorn en na de film is er gelegenheid om gezamenlijk na te bespreken. \nOver de film\n2040 is een innovatieve  documentaire die naar de toekomst kijkt\, maar NU van groot belang is. De bekroonde regisseur Damon Gameau gaat op reis om te verkennen hoe de toekomst eruit zou zien in het jaar 2040 als we simpelweg de beste oplossingen die al beschikbaar zijn om onze planeet te verbeteren\, zouden omarmen en deze mainstream zouden maken. Opgezet als een visuele brief aan zijn 4-jarige dochter\, combineert Damon traditionele documentaire beelden met gedramatiseerde scenes en hoogwaardige visuele effecten om een vision board te creeren voor zijn dochter en de planeet. \nZie voor tickets en informatie: https://www.gigant.nl/film/2040-zero-waste-winter-week-special/
URL:https://zerowasteapeldoorn.nl/agenda/feel-good-movie-2040-gigant/
LOCATION:Gigant\, Nieuwstraat 377\, Apeldoorn\, 7311 BR\, Nederland
CATEGORIES:Circulariteit,Energie,Eten & drinken,Informatie,Natuur & biodiversiteit,Zero Waste Week
ATTACH;FMTTYPE=image/png:https://zerowasteapeldoorn.nl/wp-content/uploads/2024/10/2040-Gigant-banner.png
END:VEVENT
BEGIN:VEVENT
DTSTART;TZID=Europe/Amsterdam:20241111T080000
DTEND;TZID=Europe/Amsterdam:20241115T180000
DTSTAMP:20260420T024632
CREATED:20241023T184934Z
LAST-MODIFIED:20241023T184934Z
UID:9756-1731312000-1731693600@zerowasteapeldoorn.nl
SUMMARY:Zero Waste Wandeltour - Ga zelf op pad!
DESCRIPTION:Volg je eigen Zero Waste Wandeltour met onze handige Klimaatroute (Binnenstad)\nVolg de ‘klimaatroute’ van Zero Waste Apeldoorn en leer hoe je duurzame(re) keuzes en duurzame boodschappen kunt doen in de Apeldoornse binnenstad. Van winkels waar je zelf je eigen verpakkingen mee kunt nemen\, tot kledingreparatie en een biologische markt\, de route telt 20 knooppunten en tientallen informatieve en praktische tips! \nLeuk om zelf mee op pad te gaan!
URL:https://zerowasteapeldoorn.nl/agenda/klimaatroute/
LOCATION:Stadhuis Apeldoorn\, Marktplein 1\, Apeldoorn
CATEGORIES:Circulariteit,Energie,Eten & drinken,Informatie,Klimaatweek,Markt,Natuur & biodiversiteit,Repareren,Slow fashion,Verbinden,Zwerfafval
ATTACH;FMTTYPE=image/jpeg:https://zerowasteapeldoorn.nl/wp-content/uploads/2024/04/zero-waste-wandeltour-banner.jpg
END:VEVENT
BEGIN:VEVENT
DTSTART;TZID=Europe/Amsterdam:20241111T090000
DTEND;TZID=Europe/Amsterdam:20241117T170000
DTSTAMP:20260420T024632
CREATED:20241023T192641Z
LAST-MODIFIED:20241117T151721Z
UID:9765-1731315600-1731862800@zerowasteapeldoorn.nl
SUMMARY:Warmtewandeling - DeA*
DESCRIPTION:Warmtewandeling\n\n\nZijn jij en je buren benieuwd hoe het is met jullie isolatie? Misschien is de gratis warmtewandeling iets voor jullie! Samen met een warmtefotograaf loop je in een groepje door je buurt. De warmtefotograaf maakt beelden van de buitenkant van jullie woning en legt direct uit wat er op de warmtefoto’s te zien is. Een warmtebeeld is vooral handig bij huizen van 10 jaar en ouder. \nJe kunt altijd meedoen\nMet behulp van een warmtecamera kijkt de warmtefotograaf hoe het staat met het warmteverlies van woningen. Waar is het goed geïsoleerd\, en waar lekt een woning warmte? \nAan de hand van de beelden bespreken jullie wat zou helpen om het energieverbruik te verminderen en welke hulp er voor je is. Dit kan tijdens de wandeling maar ook na afloop bij een van jullie thuis. Een wandeling duurt ongeveer anderhalf uur. Achteraf ontvangen jullie de warmtefoto’s digitaal. \nMet 3 tot 8 buren\nOrganiseer een warmtewandeling in jouw buurt: trommel wat buren op en geef je groepje op. We nemen contact met je op en prikken vervolgens een datum. \nOf meld je aan en wandel mee. We kijken of we meer aanmelders uit jouw buurt hebben om een groepje mee te vormen. \n\n\n\nMELD JE AAN: https://www.de-a.nl/je-buurt/warmtewandeling/\n\n__________________________________________\nDeze activiteit is door DeA georganiseerd.
URL:https://zerowasteapeldoorn.nl/agenda/warmtewandeling-dea/
CATEGORIES:Energie,Informatie,Klimaatweek,Meet up
ATTACH;FMTTYPE=image/png:https://zerowasteapeldoorn.nl/wp-content/uploads/2024/10/warmtewandeling-deA.png
END:VEVENT
BEGIN:VEVENT
DTSTART;TZID=Europe/Amsterdam:20241111T110000
DTEND;TZID=Europe/Amsterdam:20241115T140000
DTSTAMP:20260420T024632
CREATED:20241016T133235Z
LAST-MODIFIED:20241117T151705Z
UID:9527-1731322800-1731679200@zerowasteapeldoorn.nl
SUMMARY:Inloopspreekuur in Stadhuis Apeldoorn*
DESCRIPTION:In het kader van de Nationale Klimaatweek\, is er van maandag 11 november t/m vrijdag 15 november\, een inloopspreekuur in Stadhuis Apeldoorn (Burgerzaal). Voor al je vragen over het besparen van energie\, (verminderen van) afval en over het vergroenen van jouw tuin of balkon! (vrije inloop) \n\nMaandag 11 november: 11:00 – 14:00 uur\nDinsdag 12 november: 11:00 – 14:00 uur\nWoensdag 13 november: 11:00 – 14:00 uur\nDonderdag 14 november: 11:00 – 14:00 uur\nVrijdag 15 november: 11:00 – 14:00 uur\n\nKom langs!
URL:https://zerowasteapeldoorn.nl/agenda/inloopspreekuur-stadhuis/
LOCATION:Stadhuis Apeldoorn\, Marktplein 1\, Apeldoorn
CATEGORIES:Circulariteit,Energie,Informatie,Klimaatweek,Natuur & biodiversiteit,Repareren,Verbinden,Zwerfafval
ATTACH;FMTTYPE=image/jpeg:https://zerowasteapeldoorn.nl/wp-content/uploads/2024/09/nationale-klimaatweek-apeldoorn-foto-Rob-Voss.jpg
END:VEVENT
BEGIN:VEVENT
DTSTART;TZID=Europe/Amsterdam:20241114T193000
DTEND;TZID=Europe/Amsterdam:20241114T213000
DTSTAMP:20260420T024632
CREATED:20240708T143313Z
LAST-MODIFIED:20241117T151619Z
UID:6730-1731612600-1731619800@zerowasteapeldoorn.nl
SUMMARY:De warmtepomp in Wenum-Wiesel - DeA*
DESCRIPTION:Op donderdag 14 november houdt DeA de workshop ‘de warmtepomp’.\nDe warmtepomp wordt voor Wenum-Wiesel genoemd als belangrijke opvolger van de cv-ketel. Maar wat is een warmtepomp en waaraan moet je denken als je er een wil aanschafffen? Welke soorten zijn er en hoe schaf je er een aan? \nPeter Wagener van de Thuisscan legt het uit. En we gaan met elkaar in gesprek. Verder zorgen wer voor informatie over alle beschikbare hulp en subisdies. \nKom je ook? Interessant onderwerp en met een kop koffie of thee met elkaar in gesprek. \nLet op: Deze avond komt in plaats van de eerder genoemde avond van 7 november. Deze gaat niet door. \nWat betekent nieuwe energie in Wenum-Wiesel voor mij?\nIn Nederland zijn we ondeweg naar aardgasvrij verwarmen. Welke warmteoplossingen zijn er voor Wenum-Wiesel? Wat kun je verwachten en wat kun je nu al doen? Kunnen we als bewoners dingen gezamenlijk oppakken en welke wensen zijn er? Tijdens de bijeenkomst is er gelegenheid voor gesprek en om wensen en ideeën kenbaar te maken. \nVoor iedere woning is er de komende jaren persoonlijk advies beschikbaar. Online\, bij het energiepunt\, maar ook bij je thuis. Verder is er informatie over subsidies. \nWelkom! Graag even aanmelden
URL:https://zerowasteapeldoorn.nl/agenda/dea-warmtepomp-in-wenum-wiesel/
LOCATION:Wenumse watermolen\, Oude Zwolseweg 160\, Wenum-Wiesel\, 7345 DG
CATEGORIES:Energie,Informatie,Klimaatweek,Workshop
ATTACH;FMTTYPE=image/jpeg:https://zerowasteapeldoorn.nl/wp-content/uploads/2024/07/wenumse-watermolen.jpg
END:VEVENT
END:VCALENDAR