BEGIN:VCALENDAR
VERSION:2.0
PRODID:-//Zero Waste Apeldoorn - ECPv6.15.20//NONSGML v1.0//EN
CALSCALE:GREGORIAN
METHOD:PUBLISH
X-WR-CALNAME:Zero Waste Apeldoorn
X-ORIGINAL-URL:https://zerowasteapeldoorn.nl
X-WR-CALDESC:Evenementen voor Zero Waste Apeldoorn
REFRESH-INTERVAL;VALUE=DURATION:PT1H
X-Robots-Tag:noindex
X-PUBLISHED-TTL:PT1H
BEGIN:VTIMEZONE
TZID:Europe/Amsterdam
BEGIN:DAYLIGHT
TZOFFSETFROM:+0100
TZOFFSETTO:+0200
TZNAME:CEST
DTSTART:20230326T010000
END:DAYLIGHT
BEGIN:STANDARD
TZOFFSETFROM:+0200
TZOFFSETTO:+0100
TZNAME:CET
DTSTART:20231029T010000
END:STANDARD
BEGIN:DAYLIGHT
TZOFFSETFROM:+0100
TZOFFSETTO:+0200
TZNAME:CEST
DTSTART:20240331T010000
END:DAYLIGHT
BEGIN:STANDARD
TZOFFSETFROM:+0200
TZOFFSETTO:+0100
TZNAME:CET
DTSTART:20241027T010000
END:STANDARD
BEGIN:DAYLIGHT
TZOFFSETFROM:+0100
TZOFFSETTO:+0200
TZNAME:CEST
DTSTART:20250330T010000
END:DAYLIGHT
BEGIN:STANDARD
TZOFFSETFROM:+0200
TZOFFSETTO:+0100
TZNAME:CET
DTSTART:20251026T010000
END:STANDARD
END:VTIMEZONE
BEGIN:VEVENT
DTSTART;TZID=Europe/Amsterdam:20241023T140000
DTEND;TZID=Europe/Amsterdam:20241023T170000
DTSTAMP:20260420T062733
CREATED:20241014T100027Z
LAST-MODIFIED:20241014T100027Z
UID:9340-1729692000-1729702800@zerowasteapeldoorn.nl
SUMMARY:DeA - Energiearmoede in Apeldoorn – Netwerkbijeenkomst
DESCRIPTION:Hoge energierekeningen\, niet stoken in huis; energiearmoede is actueel. Maar wat is het eigenlijk?  Hoe herken je het en welke hulp is er Apeldoorn beschikbaar? Graag nodigt DeA je uit voor de netwerkbijeenkomst Energiearmoede in Apeldoorn. \nPuzzelstukje in jouw werkveld?\nEnergiearmoede is een puzzelstukje van een geheel. Tijdens deze bijeenkomst krijg je informatie\, en we gaan met elkaar in gesprek om te kijken waar dit puzzelstukje past in jouw werkveld. En bij de mensen die jij spreekt en ontmoet. De bijeenkomst is meteen de start van het project Energiehulp op Maat. \nJe wordt bijgepraat door energiecooperatie deA en door gemeente Apeldoorn. Milieucentraal legt uit hoe je energiearmoede herkent. Verder gaan we graag met je in gesprek over welke mogelijkheden jij ziet om hierover met mensen in contact te komen. \nProgramma\n\nAftrap – Floriske van Geest\, innovator en directeur bij deA\nGesprek met  Sunita Biharie\, wethouder welzijn\, armoedebestrijding\, werk en inkomen gemeente Apeldoorn\nWat is energiearmoede en wat zijn de signalen? En hoe gaan mensen met verschillende culturele achtergronden om met energie? – Yvonne Feuerhahn\, Milieucentraal\nWelke hulp biedt gemeente Apeldoorn? – Janet van Wegen\, gemeente Apeldoorn\nEnergiehulp op Maat door de Energiecoach –  Arjan van der Plas\, projectleider Energiehulp op Maat\nSamenwerken en uitwisselen – door iedereen\nAansluitend: borrel en gelegenheid voor gesprek en ontmoeting\n\nVoor wie?\nDeze bijeenkomst is bedoeld voor organisaties en personen in Apeldoorn die zich inzetten voor anderen. Heb je te maken met mensen in energiearmoede\, of armoede in het algemeen\, of wil je er meer over te weten komen? Meld je dan aan\, dan weten we hoeveel mensen we kunnen verwachten. \nMocht je collega’s of contacten hebben waarvoor dit ook interessant is\, stuur deze uitnodiging dan gerust door. \n\nMELD JE AAN: https://www.de-a.nl/agenda/energiearmoede-in-apeldoorn-netwerkbijeenkomst/\n\n__________________________________________\nDeze activiteit is door DeA georganiseerd.
URL:https://zerowasteapeldoorn.nl/agenda/energiearmoede-netwerkbijeenkomst-dea/
LOCATION:ACEC café\, Roggestraat 44\, Apeldoorn\, 7311 CD\, Nederland
CATEGORIES:Energie,Informatie,Meet up
ATTACH;FMTTYPE=image/webp:https://zerowasteapeldoorn.nl/wp-content/uploads/2024/10/Klushulp-deA-ernergiearmoede.webp
END:VEVENT
BEGIN:VEVENT
DTSTART;TZID=Europe/Amsterdam:20241024T150000
DTEND;TZID=Europe/Amsterdam:20241024T170000
DTSTAMP:20260420T062733
CREATED:20241014T095210Z
LAST-MODIFIED:20241014T095210Z
UID:9335-1729782000-1729789200@zerowasteapeldoorn.nl
SUMMARY:Speeddate Energiecoach | Driehuizen
DESCRIPTION:Kom langs\, maak kennis met Groene Buur Driehuizen en deel je duurzame ervaringen met je buren. Misschien kun je iets vertellen over het isoleren van je woning\, heb je je tuin vergroend of heb je iets anders vindingrijks bedacht. Tijdens deze momenten worden er ervaringen uitgewisseld en activiteiten -zoals deze!- bedacht voor jouw buurt. \nIn een speeddate met de energiecoach kun je je vragen stellen over bijvoorbeeld isoleren\, ventileren of een warmtepomp. De energiecoach denkt met je mee en geeft passend advies. Je kunt ook meteen een afspraak maken voor bij je thuis (huur en koop). \nWil je meer weten? Bezoek dan je buurtpagina: Groene Buur Driehuizen \nLocatie: Hoek Henri Dunantlaan / Asselsestraat \n__________________________________________\nDeze activiteit is door DeA georganiseerd.
URL:https://zerowasteapeldoorn.nl/agenda/speeddate-energiecoach-driehuizen-dea/
CATEGORIES:Energie,Informatie,Meet up
ATTACH;FMTTYPE=image/jpeg:https://zerowasteapeldoorn.nl/wp-content/uploads/2024/10/Speeddate-deA-Driehuizen.jpg
END:VEVENT
END:VCALENDAR