BEGIN:VCALENDAR
VERSION:2.0
PRODID:-//Zero Waste Apeldoorn - ECPv6.15.20//NONSGML v1.0//EN
CALSCALE:GREGORIAN
METHOD:PUBLISH
X-WR-CALNAME:Zero Waste Apeldoorn
X-ORIGINAL-URL:https://zerowasteapeldoorn.nl
X-WR-CALDESC:Evenementen voor Zero Waste Apeldoorn
REFRESH-INTERVAL;VALUE=DURATION:PT1H
X-Robots-Tag:noindex
X-PUBLISHED-TTL:PT1H
BEGIN:VTIMEZONE
TZID:Europe/Amsterdam
BEGIN:DAYLIGHT
TZOFFSETFROM:+0100
TZOFFSETTO:+0200
TZNAME:CEST
DTSTART:20230326T010000
END:DAYLIGHT
BEGIN:STANDARD
TZOFFSETFROM:+0200
TZOFFSETTO:+0100
TZNAME:CET
DTSTART:20231029T010000
END:STANDARD
BEGIN:DAYLIGHT
TZOFFSETFROM:+0100
TZOFFSETTO:+0200
TZNAME:CEST
DTSTART:20240331T010000
END:DAYLIGHT
BEGIN:STANDARD
TZOFFSETFROM:+0200
TZOFFSETTO:+0100
TZNAME:CET
DTSTART:20241027T010000
END:STANDARD
BEGIN:DAYLIGHT
TZOFFSETFROM:+0100
TZOFFSETTO:+0200
TZNAME:CEST
DTSTART:20250330T010000
END:DAYLIGHT
BEGIN:STANDARD
TZOFFSETFROM:+0200
TZOFFSETTO:+0100
TZNAME:CET
DTSTART:20251026T010000
END:STANDARD
END:VTIMEZONE
BEGIN:VEVENT
DTSTART;VALUE=DATE:20241111
DTEND;VALUE=DATE:20241118
DTSTAMP:20260420T055313
CREATED:20241002T140246Z
LAST-MODIFIED:20241117T151730Z
UID:8914-1731283200-1731887999@zerowasteapeldoorn.nl
SUMMARY:Nationale Klimaatweek in Apeldoorn*
DESCRIPTION:Wat ga jĳ doen tĳdens de Nationale Klimaatweek in Apeldoorn?\nTijdens de Nationale Klimaatweek van 11 november tot en met 17 november worden in het hele land activiteiten georganiseerd voor een beter klimaat. Stichting Zero Waste Apeldoorn doet hieraan mee\, samen met andere impact makers en de Gemeente Apeldoorn. \nOok jij kunt meedoen!\nJe kunt ieder moment beginnen met duurzamer leven. Bespaar energie\, wees zuinig op spullen\, en pak eens vaker de fiets. Tijdens de Nationale Klimaatweek leer je hoe je in kleine stappen ook een steente kunt bijdragen aan een beter klimaat. Zet ook de knop op en doe mee! \n\n\nBekijk het hele programma en meld je aan: https://zerowasteapeldoorn.nl/nationale-klimaatweek/
URL:https://zerowasteapeldoorn.nl/agenda/nationale-klimaatweek-apeldoorn/
CATEGORIES:Circulariteit,Energie,Informatie,Klimaatweek,Natuur & biodiversiteit,Repareren,Rondleiding,Verbinden,Workshop
ATTACH;FMTTYPE=image/jpeg:https://zerowasteapeldoorn.nl/wp-content/uploads/2024/09/nationale-klimaatweek-apeldoorn-foto-Rob-Voss.jpg
END:VEVENT
BEGIN:VEVENT
DTSTART;TZID=Europe/Amsterdam:20241111T100000
DTEND;TZID=Europe/Amsterdam:20241117T170000
DTSTAMP:20260420T055313
CREATED:20241016T130948Z
LAST-MODIFIED:20241117T151712Z
UID:9521-1731319200-1731862800@zerowasteapeldoorn.nl
SUMMARY:Expositie [Af]Breekbaar*
DESCRIPTION:Expositie | Showroom CODA |Van 29 september 2024 t/m 09 februari 2025 \nZie voor meer informatie: https://www.coda-apeldoorn.nl/nl/agenda/af-breekbaar \nDe expositie [Af]breekbaar laat het urgente belang zien om efficiënter om te gaan met grondstoffen en hun toepassingen. Materialen worden steeds schaarser en het milieu is fragiel. CODA ExperienceLab nodigt je in de Showroom bij CODA Museum uit om de mogelijkheden van afbreekbare en composteerbare (bouw)materialen te ontdekken. Ook wordt met de expositie onderzocht welke concessies ontwerpers doen in hun streven naar duurzamer maken en werken. De deelnemende ontwerpers en initiatieven zijn pioniers in het experimenteren met materialiteit\, toepassingen en design. Zij bevragen de rol en verantwoordelijkheid van kunstenaars\, ontwerpers en vormgevers in deze context. CODA ExperienceLab presenteert aansluitend een selectie van biodesignprojecten uit haar Makerspace en makerscommunity die de grenzen van duurzaam design verkennen. \nDuurzaamheid staat centraal in CODA ExperienceLab. We richten ons onder andere op het recyclen van plastic en textiel\, waarbij we samen met onze bezoekers zoveel mogelijk materialen hergebruiken en tegelijkertijd onderzoek doen naar alternatieve en duurzame oplossingen. In het BiodesignLab\, onderdeel van de Makerspace van CODA ExperienceLab\, verkennen we samen met bezoekers de mogelijkheden van natuurlijke materialen\, circulariteit en een zero waste-samenleving. CODA hanteert het principe ‘one person’s trash is another person’s treasure’ en moedigt mensen aan om bewust naar hun eigen verbruik te kijken en te ontdekken welke (rest)materialen uit afval kunnen worden hergebruikt. \n[Af]breekbaar toont werkt van Basse Stittgen\, Esther Kaya Stögerer & Jannis Kempkens en Nature Building Project. \nBeeld: Nature Building Kit Company New Heroes\, © Quint-Verschuren
URL:https://zerowasteapeldoorn.nl/agenda/expositie-afbreekbaar-2/
LOCATION:CODA\, Vosselmanstraat 299\, Apeldoorn\, 7311CL\, Nederland
CATEGORIES:Circulariteit,Klimaatweek
ATTACH;FMTTYPE=image/png:https://zerowasteapeldoorn.nl/wp-content/uploads/2024/09/Afbreekbaar-meetup.png
END:VEVENT
BEGIN:VEVENT
DTSTART;TZID=Europe/Amsterdam:20241112T183000
DTEND;TZID=Europe/Amsterdam:20241112T210000
DTSTAMP:20260420T055313
CREATED:20241023T200204Z
LAST-MODIFIED:20241117T151658Z
UID:9769-1731436200-1731445200@zerowasteapeldoorn.nl
SUMMARY:Energy Talks & uitreiking Energy Award - Gemeente Apeldoorn & DeA*
DESCRIPTION:Energy Talks – en uitreiking Energy Award\nAchmea en de gemeente Apeldoorn organiseren samen een feestelijke ondernemersavond met Energy Talks voor het MKB. Op deze avond wordt de Energy Award 2024 uitgereikt als onderdeel van de Nationale Klimaatweek. De avond is toegankelijk voor alle bedrijven en organisaties in de gemeente Apeldoorn \nEnergy Award 2024\nWie wint de Energy Award 2024? Dit wordt bekend gemaakt op 12 november tijdens de ondernemersavond bij Achmea. De award is een speciale prijs voor bedrijven en organisaties in de gemeente Apeldoorn die veelbelovende maatregelen treffen om over te stappen naar duurzame energie. \n\n\n\n\n\n\n\n\nDe Energy Award Apeldoorn wordt georganiseerd door Gemeente Apeldoorn in samenwerking met  Duurzame Energiecoöperatie Apeldoorn (deA). De Energy Award is voortgekomen uit de zonnedak-award. Al vanaf 2018 zetten energiecoöperatie deA en de gemeente bedrijven en organisaties in het zonnetje  die investeren in duurzame energie en andere duurzame maatregelen. \nEnergy Talks 12 november \n\n\n\n\n\n\nInspireer jezelf tijdens de Energy Talks op dinsdagavond 12 november\, netwerk- en ondernemersavond bij Achmea. Hoe kun je blijven ondernemen en groeien als (MKB)-ondernemer\, instelling of organisatie terwijl het stroomnet vol is? \nInloop 18.30 uur (aanvang programma 18.45 uur) – 21.00 uur\nLocatie: Achmea\, Laan van Malkenschoten 20\, Apeldoorn \nAanmelden voor de Energy Talks en ondernemersavond 12 november \nEnergy talk 1: Mogelijkheden van een duurzame verzekeraar voor ondernemend NL\, Marco Bobeldijk\, Chief Underwriting Officer Achmea. \nEnergy talk 2: Eerste hulp bij Netcongestie\,  Jan Straatman\, Gelders Energie Akkoord (GEA).
URL:https://zerowasteapeldoorn.nl/agenda/energy-talks-en-energy-award/
LOCATION:Achmea\, Laan van Malkenschoten 20\, Apeldoorn\, 7333NP
CATEGORIES:Energie,Informatie,Klimaatweek
ATTACH;FMTTYPE=image/png:https://zerowasteapeldoorn.nl/wp-content/uploads/2024/10/energy-talks-en-award.png
END:VEVENT
END:VCALENDAR