BEGIN:VCALENDAR
VERSION:2.0
PRODID:-//Zero Waste Apeldoorn - ECPv6.15.20//NONSGML v1.0//EN
CALSCALE:GREGORIAN
METHOD:PUBLISH
X-ORIGINAL-URL:https://zerowasteapeldoorn.nl
X-WR-CALDESC:Evenementen voor Zero Waste Apeldoorn
REFRESH-INTERVAL;VALUE=DURATION:PT1H
X-Robots-Tag:noindex
X-PUBLISHED-TTL:PT1H
BEGIN:VTIMEZONE
TZID:Europe/Amsterdam
BEGIN:DAYLIGHT
TZOFFSETFROM:+0100
TZOFFSETTO:+0200
TZNAME:CEST
DTSTART:20230326T010000
END:DAYLIGHT
BEGIN:STANDARD
TZOFFSETFROM:+0200
TZOFFSETTO:+0100
TZNAME:CET
DTSTART:20231029T010000
END:STANDARD
BEGIN:DAYLIGHT
TZOFFSETFROM:+0100
TZOFFSETTO:+0200
TZNAME:CEST
DTSTART:20240331T010000
END:DAYLIGHT
BEGIN:STANDARD
TZOFFSETFROM:+0200
TZOFFSETTO:+0100
TZNAME:CET
DTSTART:20241027T010000
END:STANDARD
BEGIN:DAYLIGHT
TZOFFSETFROM:+0100
TZOFFSETTO:+0200
TZNAME:CEST
DTSTART:20250330T010000
END:DAYLIGHT
BEGIN:STANDARD
TZOFFSETFROM:+0200
TZOFFSETTO:+0100
TZNAME:CET
DTSTART:20251026T010000
END:STANDARD
END:VTIMEZONE
BEGIN:VEVENT
DTSTART;TZID=Europe/Amsterdam:20241103T100000
DTEND;TZID=Europe/Amsterdam:20241109T170000
DTSTAMP:20260422T084749
CREATED:20241002T130601Z
LAST-MODIFIED:20241023T121751Z
UID:8907-1730628000-1731171600@zerowasteapeldoorn.nl
SUMMARY:Expositie [Af]Breekbaar
DESCRIPTION:Expositie | Showroom CODA |Van 29 september 2024 t/m 09 februari 2025 \nZie voor meer informatie: https://www.coda-apeldoorn.nl/nl/agenda/af-breekbaar \nDe expositie [Af]breekbaar laat het urgente belang zien om efficiënter om te gaan met grondstoffen en hun toepassingen. Materialen worden steeds schaarser en het milieu is fragiel. CODA ExperienceLab nodigt je in de Showroom bij CODA Museum uit om de mogelijkheden van afbreekbare en composteerbare (bouw)materialen te ontdekken. Ook wordt met de expositie onderzocht welke concessies ontwerpers doen in hun streven naar duurzamer maken en werken. De deelnemende ontwerpers en initiatieven zijn pioniers in het experimenteren met materialiteit\, toepassingen en design. Zij bevragen de rol en verantwoordelijkheid van kunstenaars\, ontwerpers en vormgevers in deze context. CODA ExperienceLab presenteert aansluitend een selectie van biodesignprojecten uit haar Makerspace en makerscommunity die de grenzen van duurzaam design verkennen. \nDuurzaamheid staat centraal in CODA ExperienceLab. We richten ons onder andere op het recyclen van plastic en textiel\, waarbij we samen met onze bezoekers zoveel mogelijk materialen hergebruiken en tegelijkertijd onderzoek doen naar alternatieve en duurzame oplossingen. In het BiodesignLab\, onderdeel van de Makerspace van CODA ExperienceLab\, verkennen we samen met bezoekers de mogelijkheden van natuurlijke materialen\, circulariteit en een zero waste-samenleving. CODA hanteert het principe ‘one person’s trash is another person’s treasure’ en moedigt mensen aan om bewust naar hun eigen verbruik te kijken en te ontdekken welke (rest)materialen uit afval kunnen worden hergebruikt. \n[Af]breekbaar toont werkt van Basse Stittgen\, Esther Kaya Stögerer & Jannis Kempkens en Nature Building Project. \nBeeld: Nature Building Kit Company New Heroes\, © Quint-Verschuren
URL:https://zerowasteapeldoorn.nl/agenda/expositie-afbreekbaar/
LOCATION:CODA\, Vosselmanstraat 299\, Apeldoorn\, 7311CL\, Nederland
CATEGORIES:Circulariteit,Zero Waste Week
ATTACH;FMTTYPE=image/png:https://zerowasteapeldoorn.nl/wp-content/uploads/2024/09/Afbreekbaar-meetup.png
END:VEVENT
BEGIN:VEVENT
DTSTART;TZID=Europe/Amsterdam:20241107T183000
DTEND;TZID=Europe/Amsterdam:20241107T203000
DTSTAMP:20260422T084749
CREATED:20240903T190935Z
LAST-MODIFIED:20241017T135610Z
UID:7746-1731004200-1731011400@zerowasteapeldoorn.nl
SUMMARY:Fixing Fashion - Zero Waste editie bij CODA
DESCRIPTION:Fixing Fashion @ CODA Fashion Recycle Hub\nWil je meer leren over hoe je jouw oude kleding kan repareren? Kom dan langs tijdens de Fixing Fashion avonden in CODA ExperienceLab. \nRepareer je kapotte kleding of geef oude kleding een nieuwe look in onze Fashion Recycle Hub. Aan de hand van handige tips en tricks van de Fixing Fashion Community leer je repareren\, verstellen en hoe je kleding kunt customizen. \nJe kunt hiervoor een (bijv. oud of kapot) kledingstuk meenemen van jezelf waarmee je aan de slag wilt gaan of gebruik maken van een van de aanwezige kledingstukken. Het repareren van kleding kan onder andere met de hand gedaan worden\, maar je kan ook gebruik maken van de naai- en loc machines van CODA ExperienceLab. \nZero Waste Winter Week\nTijdens de Zero Waste Week\, van 3 t/m 9 november\, is er een speciale editie. Naast het repareren van je kleding kun je deze avond ook aan de slag met oude CODA-banners. Hiervan kun je een leuke boodschappentas maken. Hoe je dat doet\, leggen we graag aan je uit. \n  \nWil je meer te weten komen over de Makerspace van CODA ExperienceLab? Klik dan hier! \nFixing Fashion is een onderdeel van One Army. \nAanmelden vereist via Eventbrite
URL:https://zerowasteapeldoorn.nl/agenda/fixing-fashion-november/
LOCATION:CODA\, Vosselmanstraat 299\, Apeldoorn\, 7311CL\, Nederland
CATEGORIES:Repareren,Slow fashion,Zero Waste Week
ATTACH;FMTTYPE=image/png:https://zerowasteapeldoorn.nl/wp-content/uploads/2024/09/Fixing-Fashion-ZWW-tas.png
END:VEVENT
END:VCALENDAR