BEGIN:VCALENDAR
VERSION:2.0
PRODID:-//Zero Waste Apeldoorn - ECPv6.15.20//NONSGML v1.0//EN
CALSCALE:GREGORIAN
METHOD:PUBLISH
X-ORIGINAL-URL:https://zerowasteapeldoorn.nl
X-WR-CALDESC:Evenementen voor Zero Waste Apeldoorn
REFRESH-INTERVAL;VALUE=DURATION:PT1H
X-Robots-Tag:noindex
X-PUBLISHED-TTL:PT1H
BEGIN:VTIMEZONE
TZID:Europe/Amsterdam
BEGIN:DAYLIGHT
TZOFFSETFROM:+0100
TZOFFSETTO:+0200
TZNAME:CEST
DTSTART:20240331T010000
END:DAYLIGHT
BEGIN:STANDARD
TZOFFSETFROM:+0200
TZOFFSETTO:+0100
TZNAME:CET
DTSTART:20241027T010000
END:STANDARD
BEGIN:DAYLIGHT
TZOFFSETFROM:+0100
TZOFFSETTO:+0200
TZNAME:CEST
DTSTART:20250330T010000
END:DAYLIGHT
BEGIN:STANDARD
TZOFFSETFROM:+0200
TZOFFSETTO:+0100
TZNAME:CET
DTSTART:20251026T010000
END:STANDARD
BEGIN:DAYLIGHT
TZOFFSETFROM:+0100
TZOFFSETTO:+0200
TZNAME:CEST
DTSTART:20260329T010000
END:DAYLIGHT
BEGIN:STANDARD
TZOFFSETFROM:+0200
TZOFFSETTO:+0100
TZNAME:CET
DTSTART:20261025T010000
END:STANDARD
END:VTIMEZONE
BEGIN:VEVENT
DTSTART;VALUE=DATE:20250517
DTEND;VALUE=DATE:20250524
DTSTAMP:20260421T155652
CREATED:20250509T064114Z
LAST-MODIFIED:20250509T064114Z
UID:13798-1747440000-1748044799@zerowasteapeldoorn.nl
SUMMARY:Zero Waste Week Apeldoorn - Voorjaar 2025
DESCRIPTION:Zero Waste Week Apeldoorn – Voorjaar 2025\n📅 Zaterdag 17 mei t/m vrijdag 23 mei 2025 \nAlweer de 6e editie van de Zero Waste Week in Apeldoorn! Na het succes van de afgelopen jaren pakken we in 2025 opnieuw groots uit. Dit jaar organiseren we zowel een voorjaars- als een najaarseditie. \nVan restjes redden tot ruilen en repareren: tijdens de Zero Waste Week Apeldoorn – Voorjaar 2025 ontdekken inwoners hoe kleine stappen grote impact maken. \nDeze inspirerende week vol duurzame activiteiten vindt plaats in het voorjaar van 2025 en valt deels samen met de Week van de Biodiversiteit. Het thema dit jaar: “Natuurlijk Afvalvrij!” \nDe Zero Waste Week staat in het teken van creativiteit\, bewustwording en verbinding. Inwoners worden uitgenodigd om op een laagdrempelige manier kennis te maken met een afvalarme levensstijl. Van jong tot oud\, van beginner tot doorgewinterde duurzaamheidsliefhebber: iedereen kan meedoen. \nWat staat er op het programma? \n\n🌿 Inspirerende workshops\n Leer hoe je zelf natuurlijke verzorgingsproducten maakt\, textiel verft met planten of een herbruikbare lunchwrap in elkaar zet.\n\n🛠 Ruilactiviteiten\n Geef spullen een tweede leven. Kom langs bij ruilpunten voor kleding\, puzzels\, boeken of plantenstekjes. Ruilen is het nieuwe kopen!\n\n🎒 Duurzaam boodschappen doen\n Ontdek winkels waar je verpakkingsvrij kunt winkelen\, leer meer over lokaal en natuurlijk eten\, de moestuin en zelfs het kweken van paddenstoelen.\n\n🎬 Film & gesprek\n Laat je inspireren door verhalen vol hoop en daadkracht. Na de film gaan we met elkaar in gesprek: wat kun jij doen voor een groenere toekomst?\n\n🌻 Zwerfvuilacties\n Ga zelf of samen aan de slag om je buurt schoner te maken. Laat je inspireren door afvalheld Paul Waye\, die tijdens zijn landelijke plogtour ook Apeldoorn aandoet!\n\n\nAfvalvrij = biodiversiteitsrijk\n Wat we weggooien\, heeft direct invloed op de natuur. Minder verspilling betekent meer ruimte voor bloemen\, bijen en biodiversiteit. Met het thema Natuurlijk Afvalvrij laten we zien dat wat goed is voor de aarde\, ook goed is voor onszelf. \nDoe mee!\n Iedereen is welkom. Of je nu één activiteit bezoekt of de hele week meedoet – elke stap telt. Samen maken we Apeldoorn groener\, schoner en bewuster. \n📍 Bekijk het volledige programma en meld je aan via \n 👉 Zero Waste Week Apeldoorn – Voorjaar 2025 \nSamen gaan we voor minder verspilling\, meer verbinding en een afvalvrij Apeldoorn. Natuurlijk doe je mee! 🌍💚
URL:https://zerowasteapeldoorn.nl/agenda/zero-waste-week-voorjaar-2025/
CATEGORIES:Circulariteit,Energie,Eten & drinken,Informatie,Markt,Natuur & biodiversiteit,Opruimen,Recycling,Repareren,Rondleiding,Ruilbeurs,Slow fashion,Verbinden,Workshop,Zero Waste Week,Zwerfafval
ATTACH;FMTTYPE=image/png:https://zerowasteapeldoorn.nl/wp-content/uploads/2025/04/ZWWAP-url-05-2025-web.png
END:VEVENT
BEGIN:VEVENT
DTSTART;TZID=Europe/Amsterdam:20250518T140000
DTEND;TZID=Europe/Amsterdam:20250518T153000
DTSTAMP:20260421T155652
CREATED:20250408T191357Z
LAST-MODIFIED:20250424T092425Z
UID:13344-1747576800-1747582200@zerowasteapeldoorn.nl
SUMMARY:Excursie Sprengenpark - IVN
DESCRIPTION:Excursie Sprengenpark\n\nWandel mee met een IVN-natuurgids door het Sprengenpark dat omstreeks 1950 is aangelegd. Het park is waardevol voor de bezoekers ook in ecologisch opzicht: weides\, bloemen\, struiken\, een rijke variatie aan bomen\, een vijver\, speeltoestellen\, banken\, verharde paden en een spreng wisselen elkaar af. De vele beelden langs de Badhuisspreng maken het park bijzonder.\nZowel de eerste Apeldoornse flatwoningen langs de Sprengenparklaan als het park zijn gemeentelijk monument geworden. \nDatum: zondagmiddag 18 mei 2025 ~ Tijd: 14.00 – 15.30 uur\nLocatie: Volgt per mail na aanmelding\nAanmelding verplicht op de IVN website.
URL:https://zerowasteapeldoorn.nl/agenda/excursie-sprengenpark-ivn-mei-2025/
LOCATION:Sprengenpark
CATEGORIES:Informatie,Natuur & biodiversiteit,Zero Waste Week
ATTACH;FMTTYPE=image/png:https://zerowasteapeldoorn.nl/wp-content/uploads/2025/04/Sprengenpark-Excursie-IVN.png
END:VEVENT
BEGIN:VEVENT
DTSTART;TZID=Europe/Amsterdam:20250522T100000
DTEND;TZID=Europe/Amsterdam:20250522T130000
DTSTAMP:20260421T155652
CREATED:20250414T083644Z
LAST-MODIFIED:20250414T083644Z
UID:13471-1747908000-1747918800@zerowasteapeldoorn.nl
SUMMARY:Stekjes ruilen bij CODA
DESCRIPTION:Donderdag 22 mei en vrijdag 23 mei | CODA Daktuin | Gratis | Open inloop \nTijdens de Zero Waste Week mag een stekjesruilmarkt niet ontbreken. Heb je plantenstekjes over of ben je op zoek naar nieuwe groene gewassen voor in huis of tuin? Kom naar CODA Daktuin om je planten en stekjes te ruilen! \nEen vrijwilliger staat klaar om je te helpen bij het ruilen of om je stekjes alvast te verpotten. Daarnaast laat de vrijwilliger je graag de daktuin zien\, zodat je inspiratie kunt opdoen voor je eigen tuin of balkon. \nWist je dat…\nJe het hele jaar door je bloem- en plantenzaadjes kunt inleveren bij CODA Bibliotheek? Op de eerste verdieping vind je een inleverbak waar je de zaadjes verpakt en onder vermelding van de naam en datum kan achterlaten. In de lente- en zomermaanden kun je ze elke donderdag en vrijdag ruilen met zaden uit de zadenbibliotheek op de CODA Daktuin. \nGratis entree\nKijk voor meer informatie: CODA Daktuin. \n_______________ \n*Dit evenement is georganiseerd door: CODA
URL:https://zerowasteapeldoorn.nl/agenda/stekjes-ruilen-coda-daktuin-22-mei/
LOCATION:CODA\, Vosselmanstraat 299\, Apeldoorn\, 7311CL\, Nederland
CATEGORIES:Natuur & biodiversiteit,Zero Waste Week
ATTACH;FMTTYPE=image/png:https://zerowasteapeldoorn.nl/wp-content/uploads/2025/02/CODA-daktuin-banner.png
END:VEVENT
BEGIN:VEVENT
DTSTART;TZID=Europe/Amsterdam:20250522T140000
DTEND;TZID=Europe/Amsterdam:20250522T153000
DTSTAMP:20260421T155652
CREATED:20250321T093303Z
LAST-MODIFIED:20250513T210133Z
UID:12947-1747922400-1747927800@zerowasteapeldoorn.nl
SUMMARY:Paddenstoelenwandeling met de Paddenstoelenman
DESCRIPTION:Paddenstoelenwandeling met de Paddenstoelenman 🍄\n🔹 Datum: Donderdag 22 mei🔹 Tijd: 14:00 – 15:30 uur🔹 Locatie: Parkeerplaats Dennen Heuvel (Zie op Google Maps)🔹 Kosten: Gratis \nStap in de fascinerende wereld van paddenstoelen en schimmels! 🍄✨ \nOnder begeleiding van Reinier\, de Paddenstoelenman ontdek je hoe deze bijzondere organismen het bos met elkaar verbinden en voeden. Je leert paddenstoelen en schimmels herkennen\, determineren en krijgt inzicht in welke soorten eetbaar zijn – en welke je beter kunt laten staan. \nWat kun je verwachten?\n📍 Een wandeling van ± 2\,5 km in rustig tempo\, geschikt voor alle leeftijden🌱 Leer hoe schimmels en paddenstoelen samenwerken in de natuur🔎 Ontdek diverse soorten en hoe je ze herkent⚠️ Handige tips over eetbare en niet-eetbare paddenstoelen \nPraktische info\n✅ Starttijd: 14:00 uur (Stipt!) – zorg dat je op tijd bent✅ Verzamelpunt: Parkeerplaats Dennen Heuvel aan de Zuster Meyboomlaan (achter Randerode)✅ Kledingadvies: Trek stevige schoenen en geschikte buitenkleding aan✅ Kom op de fiets! De parkeerplaats is beperkt bereikbaar met de auto \n🔸 Meld je snel aan! Deelname is gratis\, maar er zijn een beperkt aantal plekken beschikbaar. \nExtra leuk: deze paddenstoelenwandeling is perfect te combineren met de wildplukwandeling die op dezelfde dag en plek plaatsvindt van 15:00 uur tot 17:30 uur!
URL:https://zerowasteapeldoorn.nl/agenda/paddenstoelenwandeling-met-de-paddenstoelenman-mei-2025/
LOCATION:Parkeerplaats Dennen Heuvel\, Zuster Meyboomlaan\, Apeldoorn
CATEGORIES:Eten & drinken,Natuur & biodiversiteit,Zero Waste Week
ATTACH;FMTTYPE=image/jpeg:https://zerowasteapeldoorn.nl/wp-content/uploads/2024/05/Paddenstoel-3.jpg
END:VEVENT
BEGIN:VEVENT
DTSTART;TZID=Europe/Amsterdam:20250523T100000
DTEND;TZID=Europe/Amsterdam:20250523T130000
DTSTAMP:20260421T155652
CREATED:20250305T143929Z
LAST-MODIFIED:20250414T083741Z
UID:12725-1747994400-1748005200@zerowasteapeldoorn.nl
SUMMARY:Stekjes ruilen bij CODA
DESCRIPTION:Donderdag 22 mei en vrijdag 23 mei | CODA Daktuin | Gratis | Open inloop \nTijdens de Zero Waste Week mag een stekjesruilmarkt niet ontbreken. Heb je plantenstekjes over of ben je op zoek naar nieuwe groene gewassen voor in huis of tuin? Kom naar CODA Daktuin om je planten en stekjes te ruilen! \nEen vrijwilliger staat klaar om je te helpen bij het ruilen of om je stekjes alvast te verpotten. Daarnaast laat de vrijwilliger je graag de daktuin zien\, zodat je inspiratie kunt opdoen voor je eigen tuin of balkon. \nWist je dat…\nJe het hele jaar door je bloem- en plantenzaadjes kunt inleveren bij CODA Bibliotheek? Op de eerste verdieping vind je een inleverbak waar je de zaadjes verpakt en onder vermelding van de naam en datum kan achterlaten. In de lente- en zomermaanden kun je ze elke donderdag en vrijdag ruilen met zaden uit de zadenbibliotheek op de CODA Daktuin. \nGratis entree\nKijk voor meer informatie: CODA Daktuin. \n_______________ \n*Dit evenement is georganiseerd door: CODA
URL:https://zerowasteapeldoorn.nl/agenda/stekjes-ruilen-coda-daktuin-23-mei/
LOCATION:CODA\, Vosselmanstraat 299\, Apeldoorn\, 7311CL\, Nederland
CATEGORIES:Natuur & biodiversiteit,Zero Waste Week
ATTACH;FMTTYPE=image/png:https://zerowasteapeldoorn.nl/wp-content/uploads/2025/02/CODA-daktuin-banner.png
END:VEVENT
BEGIN:VEVENT
DTSTART;TZID=Europe/Amsterdam:20250523T140000
DTEND;TZID=Europe/Amsterdam:20250523T160000
DTSTAMP:20260421T155652
CREATED:20250227T085942Z
LAST-MODIFIED:20250227T163058Z
UID:12524-1748008800-1748016000@zerowasteapeldoorn.nl
SUMMARY:Boscafé - Wandeling met Bosbeheerder Tim
DESCRIPTION:Een fijne boswandeling met uitleg over het gemeentelijk bos en zijn bewoners! \nBeleef Natuurpark Berg & Bos door de ogen van de Bosbeheerder.\nTim van Alen weet alles van het bos en de voorkomende biodiversiteit. Laat je verrassen door zijn verhalen over het bos en al het leven dat er gekoesterd wordt.\nDit is een gratis wandeling van ongeveer 2 tot 2\,5 uur door het Natuurpark Berg & Bos. Wij zorgen voor koffie en thee.\nDe wandeling start bij de parkeerplaats Berg & Bos\, op de kruising  Asselsestraat de Paalweg bij het gele bushaltebord met daarop ‘Trim Apeldoorn’ – Parkeerplaats Berg en Bos. \nTip: kom op de fiets! \nReserveer je plek door je hiernaast aan te melden.
URL:https://zerowasteapeldoorn.nl/agenda/boscafe-boswandeling-met-boswachter-tim-mei-2025/
LOCATION:Natuurpark Berg & Bos\, Asselsestraat 400\, Apeldoorn\, 7312 TS
CATEGORIES:Informatie,Natuur & biodiversiteit,Zero Waste Week
ATTACH;FMTTYPE=image/jpeg:https://zerowasteapeldoorn.nl/wp-content/uploads/2024/04/herten-in-het-bos-tim-van-alen-gr.jpg
END:VEVENT
BEGIN:VEVENT
DTSTART;TZID=Europe/Amsterdam:20250524T140000
DTEND;TZID=Europe/Amsterdam:20250524T160000
DTSTAMP:20260421T155652
CREATED:20250414T131149Z
LAST-MODIFIED:20250414T133027Z
UID:13492-1748095200-1748102400@zerowasteapeldoorn.nl
SUMMARY:Petitie & Biodiversiteitsparade*
DESCRIPTION:Kom op voor de biodiversiteit op de Veluwe. Bewoners\, bezoekers\, natuurliefhebbers en natuurorganisaties die de Veluwe willen beschermen\, vragen overheden om meer en sneller in actie te komen. De initiatiefnemers organiseren op 24 mei een biodiversiteitsparade door Apeldoorn en roepen op een petitie te ondertekenen. Ook IVN Oost-Veluwezoom ondersteunt deze actie. \nDe actie is een initiatief van natuurliefhebbers die actief zijn bij onder meer IVN Apeldoorn\, Stadsakkers\, SDG-groep Apeldoorn\, GroenLinks en Partij voor de Dieren. Ze hebben een manifest opgesteld. Daarin roepen zij op tot: \n\nMeer ruimte voor natuur in onze leefomgeving\nBescherming van en juridische rechten voor de natuur\nZicht op de ontwikkeling van biodiversiteit op de Veluwe\n\nJe kan deze actie ondersteunen door een petitie te ondertekenen. Op 24 mei 2025 start om 14 uur een biodiversiteitsparade op het Stationsplein in Apeldoorn. Daarna wordt het manifest met handtekeningen aangeboden aan het college van burgemeester en wethouders van Apeldoorn en een gedeputeerde  van provincie Gelderland. \n\n\n\n————————-\n*Deze activiteit is georganiseerd door:  Partij voor de Dieren i.s.m. bezorgde natuurliefhebbers en verschillende betrokken organisaties waaronder\, IVN Apeldoorn\, SDG-groep Apeldoorn\, GroenLinks en Stadsakkers.
URL:https://zerowasteapeldoorn.nl/agenda/biodiversiteitsparade-24-mei-2025/
LOCATION:stationsplein\, Stationsplein 1\, Apeldoorn\, 7311 NZ\, Nederland
CATEGORIES:Informatie,Natuur & biodiversiteit,Verbinden,Zero Waste Week
ATTACH;FMTTYPE=image/png:https://zerowasteapeldoorn.nl/wp-content/uploads/2025/04/biodiversiteitsparade.png
END:VEVENT
BEGIN:VEVENT
DTSTART;TZID=Europe/Amsterdam:20250525T133000
DTEND;TZID=Europe/Amsterdam:20250525T160000
DTSTAMP:20260421T155652
CREATED:20250226T103740Z
LAST-MODIFIED:20250502T201425Z
UID:12505-1748179800-1748188800@zerowasteapeldoorn.nl
SUMMARY:Wespencafé - PvdD & Wespenstichting Apeldoorn*
DESCRIPTION:Partij voor de Dieren netwerk Apeldoorn organiseert op zondagmiddag 25 mei haar jaarlijkse themacafé. Vorig jaar ging het café over kikkers\, dit jaar is de wesp aan de beurt. Een dier dat van groot belang is voor de biodiversiteit in ons land. Ze bestuiven planten\, ruimen kadavers op en ze zijn zelf voedsel voor bijvoorbeeld de wespendief. \nWespenstichting \nTijdens het Wespencafé neemt de Wespenstichting je mee in de wondere wereld van wespen\, en ontdek je hoe fascinerend\, nuttig en zelfs alom aanwezig wespen zijn. Woordvoerder Nathan Veenstra vertelt over de sociale wespen in Nederland\, en entomologen Jitte Groothuis en Joes Stellingwerf delen hun kennis over solitaire wespen. \nVerbaas je over de enorme variëteit in wespensoorten\, en wie weet word je ook fan van wespen! \nLocatie en tijdstip: \nHet Wespencafé wordt gehouden in De Smulkrul bij Speelboerderij Binky aan de Dubbelbeek 4 in Apeldoorn. De inloop is vanaf 13.30 uur. De lezingen beginnen om 14.00 uur. De toegang is gratis\, drankjes zijn voor eigen rekening. \nAanmelden \nAanmelden doe je door te mailen naar:  apeldoorn@partijvoordedieren.nl.  Geef meteen even door met hoeveel personen je komt.  Een gift voor de onkosten van de sprekers wordt op prijs gesteld. \nBelangrijk om te weten: \nVoor je je inschrijft is het volgende wel belangrijk: wie eenmaal meer weet over de wesp is verkocht en wordt ook fan van dit dier. Je bent vanaf dan ambassadeur voor de wesp.  Een opleiding tot wespenconsulent bij de Wespenstichting is mogelijk de vervolgstap. Dan kan je echt het verschil maken. \nMede namens de wespen nodigen we jullie allemaal uit om naar ons wespencafé te komen. Laat je verrassen en wordt wespenambassadeur. Je redt er veel onschuldige levens mee. \n\n\n\n————————-\n*Deze activiteit is georganiseerd door:  Partij voor de Dieren i.s.m. Wespenstichting
URL:https://zerowasteapeldoorn.nl/agenda/wespencafe-25-mei-2025/
LOCATION:Speelboerderij Binky\, Dubbelbeek 4\, Apeldoorn\, 7333 NJ\, Nederland
CATEGORIES:Informatie,Natuur & biodiversiteit,Verbinden,Zero Waste Week
ATTACH;FMTTYPE=image/png:https://zerowasteapeldoorn.nl/wp-content/uploads/2025/02/wespencafe.png
END:VEVENT
END:VCALENDAR