BEGIN:VCALENDAR
VERSION:2.0
PRODID:-//Zero Waste Apeldoorn - ECPv6.15.20//NONSGML v1.0//EN
CALSCALE:GREGORIAN
METHOD:PUBLISH
X-WR-CALNAME:Zero Waste Apeldoorn
X-ORIGINAL-URL:https://zerowasteapeldoorn.nl
X-WR-CALDESC:Evenementen voor Zero Waste Apeldoorn
REFRESH-INTERVAL;VALUE=DURATION:PT1H
X-Robots-Tag:noindex
X-PUBLISHED-TTL:PT1H
BEGIN:VTIMEZONE
TZID:Europe/Amsterdam
BEGIN:DAYLIGHT
TZOFFSETFROM:+0100
TZOFFSETTO:+0200
TZNAME:CEST
DTSTART:20230326T010000
END:DAYLIGHT
BEGIN:STANDARD
TZOFFSETFROM:+0200
TZOFFSETTO:+0100
TZNAME:CET
DTSTART:20231029T010000
END:STANDARD
BEGIN:DAYLIGHT
TZOFFSETFROM:+0100
TZOFFSETTO:+0200
TZNAME:CEST
DTSTART:20240331T010000
END:DAYLIGHT
BEGIN:STANDARD
TZOFFSETFROM:+0200
TZOFFSETTO:+0100
TZNAME:CET
DTSTART:20241027T010000
END:STANDARD
BEGIN:DAYLIGHT
TZOFFSETFROM:+0100
TZOFFSETTO:+0200
TZNAME:CEST
DTSTART:20250330T010000
END:DAYLIGHT
BEGIN:STANDARD
TZOFFSETFROM:+0200
TZOFFSETTO:+0100
TZNAME:CET
DTSTART:20251026T010000
END:STANDARD
END:VTIMEZONE
BEGIN:VEVENT
DTSTART;VALUE=DATE:20241027
DTEND;VALUE=DATE:20241104
DTSTAMP:20260421T155054
CREATED:20241005T194333Z
LAST-MODIFIED:20241103T231945Z
UID:9003-1729987200-1730678399@zerowasteapeldoorn.nl
SUMMARY:Paddenstoelroute in Park Berg en Bos - IVN
DESCRIPTION:Het is een traditie geworden: in de herfstvakantie kan de paddenstoelroute in Park Berg en Bos weer gelopen worden\, ook dit jaar weer!\n\nVlak voor de herfstvakantie wordt de route uitgezet door meerdere IVN leden. Bij de voorkomende paddenstoelen langs de route komen naambordjes te staan en interessante weetjes. Er komen bordjes bij met andere informatie\, zodat er voor de trouwe bezoeker iets nieuws te ontdekken valt.\n\nDe route kan individueel gelopen worden vanaf zondag 27 oktober tot en met de laatste zondag van de herfstvakantie\, 3 november\, tijdens openingstijden van Stadspark Berg en Bos.\n\nOp zondag 27 oktober staat ook de info kraam van IVN natuureducatie bij het Theehuis. Hier is van alles te zien over wat in de omgeving van Apeldoorn in de natuur voorkomt. Wanneer de regen de komende weken op het juiste moment gaat vallen\, zien we misschien net als in oktober 2023 meer dan 50 soorten!\nWaaronder toen een aantal nieuwe soorten\, zoals het sparrenveertje en het varkensoor. Het is bijzonder leuk om met kinderen de route van ongeveer 2 km te volgen. Zij ontdekken steeds weer iets nieuws. Neem een spiegeltje mee om onder de hoedjes te kijken.\n\nDeze activiteit is door IVN Apeldoorn georganiseerd (Carolien Londerman en Marieke Spreij) \nKosten: Gratis\nAanmelden verplicht: Nee
URL:https://zerowasteapeldoorn.nl/agenda/paddenstoelroute-park-berg-en-bos-ivn/
LOCATION:Natuurpark Berg & Bos\, Asselsestraat 400\, Apeldoorn\, 7312 TS
CATEGORIES:Informatie,Natuur & biodiversiteit
ATTACH;FMTTYPE=image/png:https://zerowasteapeldoorn.nl/wp-content/uploads/2024/10/Paddenstoelenroute-Park-Berg-en-Bos.png
END:VEVENT
BEGIN:VEVENT
DTSTART;TZID=Europe/Amsterdam:20241130T110000
DTEND;TZID=Europe/Amsterdam:20241130T140000
DTSTAMP:20260421T155054
CREATED:20241121T182839Z
LAST-MODIFIED:20241121T182926Z
UID:10347-1732964400-1732975200@zerowasteapeldoorn.nl
SUMMARY:Excursie HAPS kamp op 30 november💚 - IVN*
DESCRIPTION:Neem een kijkje in het Hapskamp\, prehistorische nederzetting in Stadspark Berg en Bos.\n\nOp zaterdag 30 November vanaf 11.00 uur nemen IVN natuurgidsen je mee naar dit sfeervolle Hapskamp.\nSlechts een paar keer per jaar gaan de hekken van de prehistorische nederzetting in Stadspark Berg en Bos open voor belangstellenden.\nGa je mee terug in de tijd? Wil je kijken hoe onze verre voorouders in de bossen wisten te overleven? Wat kunnen wij van hen leren?\nIn het Hapsdorp is een boerderij uit de IJzertijd (ca. 500 jaar v. Chr.) nagebouwd. Er komen groepen\, voornamelijk scholieren\, van april tot oktober voor gewoonlijk drie dagen bij elkaar om zo goed mogelijk het leven in de IJzertijd te ervaren. Dit betekent proberen\, zonder de gemakken van de moderne tijd\, in het dagelijkse onderhoud te voorzien: brood bakken\, water halen\, dieren verzorgen\, de akker bewerken\, de hoeve onderhouden\, spinnen en weven. etc. Van heel dichtbij de natuur ervaren\, die ons voedsel en grondstoffen verschaft.\nBij aankomst op het Haps kamp kan je rondkijken hoe de prehistorische bewoners in de IJzertijd hun dagen sleten met kleinschalige tuinbouw en het houden van kleinvee. Met een beetje geluk staat er een prehistorische bewoner te koken en kan je een kop soep of thee drinken.\nDe wandeling naar het Haps kamp duurt ca ½ uur en start vanaf 11.00 uur bij de parkeerplaats aan de Soerenseweg. Er zijn meerdere gidsen aanwezig om de groepen deelnemers te begeleiden.\nDeze parkeerplaats bevindt zich aan de eerste weg links vanaf de kruising Soerenseweg met de J.C. Wilslaan\, richting Hoog Soeren.\nIVN vlaggen staan bij de oprit van de parkeerplaats aan de weg.\nIVN leden/vrienden en kinderen kunnen gratis mee\, voor niet leden bedragen de kosten € 2\,- per persoon.\n\n\nAanmelden via de IVN website (vergeet niet het aantal deelnemers te vermelden)\n\n\n——————————–\nDit evenement is georganiseerd door: IVN Apeldoorn.
URL:https://zerowasteapeldoorn.nl/agenda/excursie-hapskamp-ivn/
LOCATION:Parkeerplaats kruising Soerenseweg / J.C. Wilslaan\, richting Hoog Soeren.\, Groenlandlaan\, Apeldoorn\, Netherlands
CATEGORIES:Informatie,Natuur & biodiversiteit
ATTACH;FMTTYPE=image/png:https://zerowasteapeldoorn.nl/wp-content/uploads/2024/11/excursie-hapskamp-ivn.png
END:VEVENT
END:VCALENDAR