BEGIN:VCALENDAR
VERSION:2.0
PRODID:-//Zero Waste Apeldoorn - ECPv6.15.20//NONSGML v1.0//EN
CALSCALE:GREGORIAN
METHOD:PUBLISH
X-WR-CALNAME:Zero Waste Apeldoorn
X-ORIGINAL-URL:https://zerowasteapeldoorn.nl
X-WR-CALDESC:Evenementen voor Zero Waste Apeldoorn
REFRESH-INTERVAL;VALUE=DURATION:PT1H
X-Robots-Tag:noindex
X-PUBLISHED-TTL:PT1H
BEGIN:VTIMEZONE
TZID:Europe/Amsterdam
BEGIN:DAYLIGHT
TZOFFSETFROM:+0100
TZOFFSETTO:+0200
TZNAME:CEST
DTSTART:20240331T010000
END:DAYLIGHT
BEGIN:STANDARD
TZOFFSETFROM:+0200
TZOFFSETTO:+0100
TZNAME:CET
DTSTART:20241027T010000
END:STANDARD
BEGIN:DAYLIGHT
TZOFFSETFROM:+0100
TZOFFSETTO:+0200
TZNAME:CEST
DTSTART:20250330T010000
END:DAYLIGHT
BEGIN:STANDARD
TZOFFSETFROM:+0200
TZOFFSETTO:+0100
TZNAME:CET
DTSTART:20251026T010000
END:STANDARD
BEGIN:DAYLIGHT
TZOFFSETFROM:+0100
TZOFFSETTO:+0200
TZNAME:CEST
DTSTART:20260329T010000
END:DAYLIGHT
BEGIN:STANDARD
TZOFFSETFROM:+0200
TZOFFSETTO:+0100
TZNAME:CET
DTSTART:20261025T010000
END:STANDARD
END:VTIMEZONE
BEGIN:VEVENT
DTSTART;TZID=Europe/Amsterdam:20250201T100000
DTEND;TZID=Europe/Amsterdam:20250201T113000
DTSTAMP:20260419T213202
CREATED:20250109T140942Z
LAST-MODIFIED:20250115T111033Z
UID:11274-1738404000-1738409400@zerowasteapeldoorn.nl
SUMMARY:Kinderkledingruil Kleertjescafé Apeldoorn – Februari 2025
DESCRIPTION:Dit evenement is momenteel volgeboekt.\nKom je graag op de reservelijst te staan? Stuur een mail naar: kleertjescafe@zerowasteapeldoorn.nl \n📅 Zaterdag 1 februari 2025\n🕙 10:00 – 11:30 uur\n📍 Locatie: ontvang na aanmelding \nBreng je najaar- en winterkleding (maat 44-176) in en ruil ze voor een nieuwe garderobe! Denk aan lange broeken\, truien\, jurken met lange mouwen en meer. Zorg ervoor dat de kleding schoon\, onbeschadigd en actueel is. \nBelangrijk:\n✔ Sorteer kleding thuis op maat.\n✔ Aanmelden is verplicht en kan via: kleertjescafe@zerowasteapeldoorn.nl\n✔ Beperkte plekken beschikbaar. Bij no-show kom je op de zwarte lijst. \nSamen werken we aan een circulaire toekomst – doe je mee?
URL:https://zerowasteapeldoorn.nl/agenda/kinderkledingruil-kleertjescafe-februari-2025/
LOCATION:Apeldoorn
CATEGORIES:Circulariteit,Kleertjes Café,Ruilbeurs
ATTACH;FMTTYPE=image/png:https://zerowasteapeldoorn.nl/wp-content/uploads/2025/01/KleertjesCafe-banner-volgeboekt-1.png
END:VEVENT
BEGIN:VEVENT
DTSTART;TZID=Europe/Amsterdam:20250207T100000
DTEND;TZID=Europe/Amsterdam:20250207T150000
DTSTAMP:20260419T213202
CREATED:20241121T190330Z
LAST-MODIFIED:20250203T111414Z
UID:10379-1738922400-1738940400@zerowasteapeldoorn.nl
SUMMARY:Uitdeelactie: Boompje erbij (Anklaar) - Gemeente Apeldoorn*
DESCRIPTION:Uitdeelactie – Boompje erbij\nBegin het nieuwe jaar groen! 🌱 \nBomen brengen de natuur in de stad tot leven. Ze maken onze stad groener\, geven verkoeling en houden het regenwater langer –vast. Ze bieden kleine dieren en insecten een thuis. Geen wonder dus dat we in Apeldoorn onze bomen koesteren.\nJe kunt helpen door in jouw tuin ruimte te maken voor een boom. Deze krijg je van de Gemeente Apeldoorn. \nDit jaar gaat Gemeente Apeldoorn met de actie Boompje Erbij de wijk in en deelt bomen uit op 8 verschillende locaties in de gemeente. Deze locaties zijn gekozen op basis van hoeveelheid bomen in een wijk en locaties van extreme hitte in de zomers. Het gaat om een klein formaat boom\, wat je makkelijk mee kunt nemen naar huis\, naar jouw eigen tuin of balkon. Zelfs op de fiets! \n\n\n\nSpelregels: \n\n\n\n\n\n\n\nVoor deze actie geldt OP=OP\nJe kunt je niet vooraf aanmelden\n1 boompje per adres\n\nZie voor meer informatie – Locaties en tijden \n\n\n\nAnklaar\nNocturnestraat hoek Symfoniestraat\n7 februari 10.00 – 15.00\n\n\n\n\n___________________ \n*Dit event is georganiseerd door: Gemeente Apeldoorn.
URL:https://zerowasteapeldoorn.nl/agenda/uitdeelactie-boompje-erbij-anklaar/
LOCATION:Anklaar\, Op het veld bij de Gentiaanstraat\, tegenover Kindcentrum 't Schrijvertje (Gentiaanstraat 594)\, Apeldoorn\, 7322 CL\, Netherlands
CATEGORIES:Natuur & biodiversiteit
ATTACH;FMTTYPE=image/png:https://zerowasteapeldoorn.nl/wp-content/uploads/2025/02/Boompje-erbij-banner.png
END:VEVENT
BEGIN:VEVENT
DTSTART;TZID=Europe/Amsterdam:20250207T183000
DTEND;TZID=Europe/Amsterdam:20250207T223000
DTSTAMP:20260419T213202
CREATED:20241121T195002Z
LAST-MODIFIED:20241121T195459Z
UID:10397-1738953000-1738967400@zerowasteapeldoorn.nl
SUMMARY:Puzzelavond in Apeldoorn (februari)
DESCRIPTION:Maandelijkse Puzzelavond in Apeldoorn \nWat: Een gezellige avond vol puzzelplezier en leuke gesprekken!\nWaar: Energiepunt\, Paslaan 1 (naast de fietstenstalling)\nWanneer: Meestal op de eerste vrijdag van de maand (met af en toe een uitzondering!)\nTijd: Inloop vanaf 18.30 uur\, start om 19.00 uur tot ongeveer 22.30 uur\nKosten: Gratis (maar aanmelden is verplicht!) \nHoud je van puzzelen\, een goed gesprek en een gezellige sfeer? Kom dan naar de Puzzelavond! Ruil puzzels met anderen (zonder dat je portemonnee open hoeft)\, ontdek nieuwe uitdagingen en breng een ontspannen avond door met gelijkgestemden. De setting is intiem en ontspannen\, perfect om de tijd te vergeten en je creativiteit te laten stromen. \nWe leggen samen uitdagende puzzels\, zoals een Wasgij of een Jan van Haasteren\, maar ook rustgevende plaatjes. Of je nu een doorgewinterde puzzelaar bent of gewoon zin hebt in een gezellige avond\, iedereen is welkom! Tussendoor wordt er volop gekletst\, gelachen\, en wie weet wordt er zelfs een dansje gewaagd. \nLet op: Er is plaats voor 12 deelnemers. Vol = vol\, dus meld je snel aan! \nWaarom je dit niet wilt missen: \n\nJe geeft oude puzzels een tweede leven door te ruilen.\nJe ontmoet nieuwe mensen met een passie voor puzzelen.\nEen unieke combinatie van ontspanning\, gezelligheid én milieubewustzijn.\nEn ja\, het is helemaal gratis!\n\nZin om mee te doen? Meld je snel aan en verzeker jezelf van een plekje! \n  
URL:https://zerowasteapeldoorn.nl/agenda/puzzelavond-februari-2025/
LOCATION:Energiepunt\, Paslaan 1\, Apeldoorn\, Nederland
CATEGORIES:Circulariteit,Ruilbeurs,Verbinden
ATTACH;FMTTYPE=image/png:https://zerowasteapeldoorn.nl/wp-content/uploads/2024/11/puzzelavond-event-banner.png
END:VEVENT
BEGIN:VEVENT
DTSTART;TZID=Europe/Amsterdam:20250209T100000
DTEND;TZID=Europe/Amsterdam:20250209T120000
DTSTAMP:20260419T213202
CREATED:20241121T201910Z
LAST-MODIFIED:20250203T090420Z
UID:10416-1739095200-1739102400@zerowasteapeldoorn.nl
SUMMARY:Ploggen op zondag - De Schone 8 van Apeldoorn!
DESCRIPTION:Plogrun ‘De Schone 8  van Apeldoorn’\nSpeciaal voor de liefhebbers van de Midwinther Marathon én van een Schoon Apeldoorn\, gaan we op zondag 9 februari (grotendeels) langs de route van de ‘8 van Apeldoorn‘ ploggen! \nAangepaste route: Het start- en eindpunt van de route is bij Stayokay Apeldoorn\, en we slaan de Loolaan over. \nDoe mee met de maandelijkse Plogrun van Zero Waste Apeldoorn!\nWat: Actief en afvalvrij hardlopen (of wandelen 😉)\nWanneer: (Meestal) Iedere tweede zondag van de maand\, van 10:00 tot 12:00 uur (LET OP: deze editie starten we om 9.00u met de warming-up)\nWaar: Elke maand een nieuwe locatie in of rondom Apeldoorn\nVoor wie: Iedereen die houdt van een schone omgeving en beweging! \nWat is ploggen? 🎽👟\nPloggen is dé perfecte mix van sporten en iets goeds doen voor het milieu. Terwijl je hardloopt of wandelt\, raap je zwerfafval op. Goed voor je gezondheid én voor de planeet—a true win-win! Of je nu een fanatieke hardloper bent of liever rustig wandelt\, iedereen kan meedoen. \nWaarom meedoen? 💪♻️ \n\nJe helpt Apeldoorn schoner en mooier te maken.\nJe krijgt een complete workout: denk aan squats\, lunges en het dragen van plogtassen.\nJe ontmoet een gezellige groep gelijkgestemden die houden van actie én impact.\nHet is geschikt voor alle niveaus: van beginners tot geoefende hardlopers.\n\nHoe gaat het in z’n werk?\nDe routes zijn meestal 4-6 km en de snelheid ligt laag (ongeveer 3 km/u) door alle stops om afval te rapen. Wij zorgen voor alles wat je nodig hebt: handschoenen\, hesjes\, plogtassen en afvalzakken. \nMeld je aan!\nWil je meedoen? Stuur een mail naar info@zerowasteapeldoorn.nl en sluit je aan bij onze WhatsApp-groep voor updates over locaties en meer. \nSamen maken we Apeldoorn schoner\, één stap en één stuk afval tegelijk. Tot snel bij de volgende Plogrun! 🏃‍♂️ \nDeze activiteit wordt door Heel Apeldoorn is Rein (Gemeente Apeldoorn) gefaciliteerd. \n 
URL:https://zerowasteapeldoorn.nl/agenda/ploggen-op-zondag-februari-2025/
LOCATION:Stayokay Apeldoorn\, Asselsestraat 330\, Apeldoorn\, 7312 TS\, Netherlands
CATEGORIES:Opruimen,Zwerfafval
ATTACH;FMTTYPE=image/jpeg:https://zerowasteapeldoorn.nl/wp-content/uploads/2024/02/Ploggen-Op-Zondag.jpg
END:VEVENT
BEGIN:VEVENT
DTSTART;TZID=Europe/Amsterdam:20250212T100000
DTEND;TZID=Europe/Amsterdam:20250212T150000
DTSTAMP:20260419T213202
CREATED:20250203T105719Z
LAST-MODIFIED:20250203T105719Z
UID:11957-1739354400-1739372400@zerowasteapeldoorn.nl
SUMMARY:Uitdeelactie: Boompje erbij (Markthal) - Gemeente Apeldoorn*
DESCRIPTION:Uitdeelactie – Boompje erbij\nBegin het nieuwe jaar groen! 🌱 \nBomen brengen de natuur in de stad tot leven. Ze maken onze stad groener\, geven verkoeling en houden het regenwater langer –vast. Ze bieden kleine dieren en insecten een thuis. Geen wonder dus dat we in Apeldoorn onze bomen koesteren.\nJe kunt helpen door in jouw tuin ruimte te maken voor een boom. Deze krijg je van de Gemeente Apeldoorn. \nDit jaar gaat Gemeente Apeldoorn met de actie Boompje Erbij de wijk in en deelt bomen uit op 8 verschillende locaties in de gemeente. Deze locaties zijn gekozen op basis van hoeveelheid bomen in een wijk en locaties van extreme hitte in de zomers. Het gaat om een klein formaat boom\, wat je makkelijk mee kunt nemen naar huis\, naar jouw eigen tuin of balkon. Zelfs op de fiets! \nLaatste kans!\n\nOnder de Markthal in Apeldoorn is woensdag 12 februari tussen 10.00 en 15.00 uur het tiende en laatste uitdeelmoment van de succesvolle Boompje Erbij-actie. Heb je eerdere uitdeelacties van Boompje Erbij gemist? Dit is je laatste kans van dit jaar om een boompje op te halen. \nDe actie Boompje Erbij blijkt een groot succes. Sinds de start in het najaar van 2024 zijn er bijna 2000 exemplaren uitgedeeld aan inwoners met een groen hart. Het meest populaire boompje? De fruitbomen\, met hun prachtige bloesem en compacte formaat. \n\n\n\n\nSpelregels: \n\n\n\n\n\n\n\nVoor deze actie geldt OP=OP\nJe kunt je niet vooraf aanmelden\n1 boompje per adres\n\n\nBelang van vergroening\nBoompje Erbij is opgezet om inwoners te stimuleren bij te dragen aan een groenere leefomgeving. Vergroening is belangrijk voor het klimaat en de natuur. Het is goed voor de biodiversiteit en gaat hittestress en wateroverlast tegen. Door het planten van bomen op particulier terrein helpen inwoners mee aan een leefbare en toekomstbestendige stad. \nToekomstplannen voor een groenere stad\nDe binnenstad van Apeldoorn verandert de komende 15 jaar in het Stadspark van Apeldoorn. Het hart van de stad wordt een groene en levendige ontmoetingsplek. Meer planten\, dieren en maatregelen voor klimaatadaptatie zorgen voor een gezonder en toekomstbestendiger leefklimaat. Meer informatie hierover vind je op de webpagina ‘Stadspark van Apeldoorn’. \nBereikbaarheid\nDe boompjes zijn nog klein en kun je in de meeste gevallen lopend of per fiets meenemen. Kom je liever met de auto? In parkeergarage Koningshaven is parkeren het goedkoopst. Het is niet toegestaan je auto op of nabij het Marktplein te parkeren. \nWoensdag 12 februari\nTijdstip: 10:00 en 15:00 uur\nMarkthal Apeldoorn \nVoor deze actie geldt: één boompje per adres en zolang de voorraad strekt. Als je bij een eerder uitdeelmoment een boompje het opgehaald\, dan kom je niet in aanmerking voor een tweede. Meer informatie over de actie vind je op de webpagina webpagina Boompje erbij. \nLIFE-IP Klimaatadaptatie\nDeze actie wordt mede mogelijk gemaakt door de Europese subsidie vanuit het LIFE-IP Klimaatadaptatie fonds. Meer informatie hierover: webpagina Project Life-IP Klimaatadaptatie. \n___________________ \n*Dit event is georganiseerd door: Gemeente Apeldoorn.
URL:https://zerowasteapeldoorn.nl/agenda/uitdeelactie-boompje-erbij-markthal/
LOCATION:Marktplein\, Marktplein 1\, Apeldoorn\,\, 7311 LG\, Netherlands
CATEGORIES:Natuur & biodiversiteit
ATTACH;FMTTYPE=image/png:https://zerowasteapeldoorn.nl/wp-content/uploads/2025/02/Boompje-erbij-banner.png
END:VEVENT
BEGIN:VEVENT
DTSTART;TZID=Europe/Amsterdam:20250215T090000
DTEND;TZID=Europe/Amsterdam:20250215T120000
DTSTAMP:20260419T213202
CREATED:20241121T210810Z
LAST-MODIFIED:20250113T204059Z
UID:10437-1739610000-1739620800@zerowasteapeldoorn.nl
SUMMARY:Maandelijkse Plandeldag in heel Apeldoorn
DESCRIPTION:Doe mee met de Maandelijkse Plandeldag in Apeldoorn! ♻️🚶‍♂️✨ \nWat: Samen Apeldoorn schoner maken tijdens een gezellige wandeling\nWanneer: Iedere derde zaterdag van de maand\, in de ochtend\nWaar: 12 vaste locaties verspreid over de stad (en in Loenen!)\nVoor wie: Iedereen die een schone omgeving belangrijk vindt \nWat is de Plandeldag?\nTijdens de Maandelijkse Plandeldag trekken we met kleine groepen vrijwilligers de wijken\, parken en straten in om zwerfafval op te ruimen. Het is dé kans om op een ontspannen manier een positieve impact te maken en nieuwe mensen te ontmoeten. Of je nu een buurtbewoner bent\, jong of oud\, iedereen kan meedoen! \nHoe werkt het? \n\nJe sluit je aan bij één van de 12 vaste locaties.\nWij zorgen voor alle benodigde materialen\, zoals grijpers\, handschoenen en afvalzakken. Alles om veilig en efficiënt aan de slag te gaan!\nNa afloop heb je niet alleen een schonere buurt\, maar ook een voldaan gevoel en misschien zelfs een nieuwe vriend of buur leren kennen.\n\nHoe doe je mee? \n\nMeld je aan via info@zerowasteapeldoorn.nl.\nOf kom spontaan naar het verzamelpunt van een locatie op de dag zelf!\n\nWaar kun je aansluiten?\nHier zijn de verzamelpunten en tijden: \n\nBrummelhof (Oost): 10.00-12.00 uur – Ons Honk (Zuid Doet Samen)\, Sperwerlaan 18\nBrummelhof (West): 09.00-11.00 uur – naast de parkeerplaats Wissellaan / Wagenstraat\nCentrum: 10.00-12.00 uur – Youngster\, Prins Willem-Alexanderlaan 201B\nOrden: 10.00-12.00 uur – Orca\, Germanenlaan 360\nMatenpark: 10.00-12.00 uur – Kinderboerderij de Maten\, Pallietergaarde 25\nGentiaan/ Sluisoord: 10.30-12.00 uur – Sluisoordlaan 200\nSprengenpark: 10.00-12.00 uur – Sprengenhonk\, Wolweg 35c\nWestenenkerpark: 09.30-11.00 uur – Theehuis Westenenkerpark\, Zilverweg 32\nWoudhuis/Osseveld: 10.00-12.00 uur – Afwisselend\, zie sociale media voor updates\nZuidbroek: 10.30-12.00 uur – Vuurvlinder 24\nZuiderpark: 10.00-12.00 uur – Buurthuis Maasstraat\, Maasstraat 4\nZwitsal terrein: 10.00-12.00 uur – Foenix kringloopwinkel\, Vlijtseweg 136\n\nLoenen ook actief!\nIn Loenen kun je aansluiten bij het opruimteam! Verzamelpunt: De Brink\, van 10.00-12.00 uur\, met koffie na afloop. \nBekijk de plattegrond van de opruimlocaties of lees meer over de Plandeldag via deze link \nSamen houden we Apeldoorn en Loenen schoon en mooi. Doe je mee? ♻️
URL:https://zerowasteapeldoorn.nl/agenda/maandelijkse-plandeldag-in-heel-apeldoorn-februari-2025/
LOCATION:Apeldoorn
CATEGORIES:Natuur & biodiversiteit,Opruimen,Zwerfafval
ATTACH;FMTTYPE=image/jpeg:https://zerowasteapeldoorn.nl/wp-content/uploads/2024/02/Maandelijkse-Plandeldag-banner.jpg
END:VEVENT
BEGIN:VEVENT
DTSTART;TZID=Europe/Amsterdam:20250219T140000
DTEND;TZID=Europe/Amsterdam:20250219T153000
DTSTAMP:20260419T213202
CREATED:20250216T162329Z
LAST-MODIFIED:20250216T162329Z
UID:12334-1739973600-1739979000@zerowasteapeldoorn.nl
SUMMARY:Wildexcursie op ’t Leesten - Wildwise*
DESCRIPTION:Ga met wildgids Sebastiaan op pad op ’t Leesten en leer alles over het Veluwse wild\n\n\nSpeuren naar diersporen \nJe gaat met de gids op pad in het onbekende\, stille deel van natuurgebied ’t Leesten. Je ontdekt sporen van wilde dieren in het landschap en leert herkennen welke dieren er allemaal bezig zijn geweest. Was het een das\, een edelhert\, een ree\, vos of specht? Of wie weet wilde zwijnen of wolven. Ze leven hier allemaal samen in het gebied. Onderweg vertelt gids Sebastiaan je er alles over. En natuurlijk mag je hem er ook alles over vragen! Of je ook echt wild gaan zien blijft altijd een verrassing\, de wilde dieren zijn hier echt wild en vrij om te gaan en staan waar ze willen. \nDe grote vijf van de Veluwe \nDe bossen en de heide op ‘t Leesten zijn het leefgebied van de grote vijf van de Veluwe: edelherten\, reeën\, wilde zwijnen\, dassen en vossen. Overal zijn sporen van hun aanwezigheid zichtbaar. Ook de wolven van de Veluwe zijn hier gezien. Gids Sebastiaan vertelt je er alles over. \nLeuk voor jong en ouder \nVertrek bij het bospaviljoen op ‘t Leesten in Ugchelen. De wandeling duurt ongeveer anderhalf uur\, in een ontspannen tempo. Leuk voor iedereen\, van jong tot ouder. Deelname is €20\,- per persoon en €10\,- voor kinderen t/m 12 jaar.\nZin om mee te gaan? Bel Sebastiaan: 06-42523101 of mail sebastiaan@wildwise.nl. om te reserveren. \nOok te boeken als privéwandeling \nDeze wildexcursie is ook te boeken als privéwandeling. Op aanvraag het hele jaar door op dag en tijd in overleg voor groepen tot 20 personen. \n\n\n\n\n\n\n\n__________________\n*Dit evenement is georganiseerd door: Wildwise.
URL:https://zerowasteapeldoorn.nl/agenda/wildexcursie-wildwise-februari-2025/
LOCATION:Bospaviljoen ’t Leesten\, Hoenderloseweg 191\, Ugchelen\, Gelderland\, 7339 GG\, Netherlands
CATEGORIES:Informatie,Natuur & biodiversiteit
ATTACH;FMTTYPE=image/png:https://zerowasteapeldoorn.nl/wp-content/uploads/2025/02/wilddieren-sporen.png
END:VEVENT
BEGIN:VEVENT
DTSTART;TZID=Europe/Amsterdam:20250222T120000
DTEND;TZID=Europe/Amsterdam:20250222T150000
DTSTAMP:20260419T213202
CREATED:20250216T153046Z
LAST-MODIFIED:20250216T153046Z
UID:12283-1740225600-1740236400@zerowasteapeldoorn.nl
SUMMARY:Nestkastjes timmeren - Staatsbosbeheer*
DESCRIPTION:Timmer je eigen vogelnestkastje op ’t Leesten!\nMet een bouwpakketje timmer je heel makkelijk je eigen vogelhuisje in elkaar. Daarna mag je hem nog mooi versieren. Thuis krijgt hij natuurlijk een mooi plekje in de tuin of op het balkon. \nStaatsbosbeheer zorgt voor de hamers en de spijkers! \nVrije inloop tussen 12.00 en 15.00. Per bouwpakketje €17\,00 \n\n\n\n\n\n\n__________________\n*Dit evenement is georganiseerd door: Staatsbosbeheer.
URL:https://zerowasteapeldoorn.nl/agenda/nestkastjes-timmeren-staatsbosbeheer/
LOCATION:Informatiecentrum ’t Leesten\, Hoenderloseweg 191\, Ugchelen\, Gelderland\, 7339 GG\, Netherlands
CATEGORIES:Informatie,Natuur & biodiversiteit
ATTACH;FMTTYPE=image/png:https://zerowasteapeldoorn.nl/wp-content/uploads/2025/02/staatsbosbeheer-kinderen.png
END:VEVENT
END:VCALENDAR