BEGIN:VCALENDAR
VERSION:2.0
PRODID:-//Zero Waste Apeldoorn - ECPv6.15.20//NONSGML v1.0//EN
CALSCALE:GREGORIAN
METHOD:PUBLISH
X-WR-CALNAME:Zero Waste Apeldoorn
X-ORIGINAL-URL:https://zerowasteapeldoorn.nl
X-WR-CALDESC:Evenementen voor Zero Waste Apeldoorn
REFRESH-INTERVAL;VALUE=DURATION:PT1H
X-Robots-Tag:noindex
X-PUBLISHED-TTL:PT1H
BEGIN:VTIMEZONE
TZID:Europe/Amsterdam
BEGIN:DAYLIGHT
TZOFFSETFROM:+0100
TZOFFSETTO:+0200
TZNAME:CEST
DTSTART:20240331T010000
END:DAYLIGHT
BEGIN:STANDARD
TZOFFSETFROM:+0200
TZOFFSETTO:+0100
TZNAME:CET
DTSTART:20241027T010000
END:STANDARD
BEGIN:DAYLIGHT
TZOFFSETFROM:+0100
TZOFFSETTO:+0200
TZNAME:CEST
DTSTART:20250330T010000
END:DAYLIGHT
BEGIN:STANDARD
TZOFFSETFROM:+0200
TZOFFSETTO:+0100
TZNAME:CET
DTSTART:20251026T010000
END:STANDARD
BEGIN:DAYLIGHT
TZOFFSETFROM:+0100
TZOFFSETTO:+0200
TZNAME:CEST
DTSTART:20260329T010000
END:DAYLIGHT
BEGIN:STANDARD
TZOFFSETFROM:+0200
TZOFFSETTO:+0100
TZNAME:CET
DTSTART:20261025T010000
END:STANDARD
END:VTIMEZONE
BEGIN:VEVENT
DTSTART;TZID=Europe/Amsterdam:20250301T090000
DTEND;TZID=Europe/Amsterdam:20250301T163000
DTSTAMP:20260420T083833
CREATED:20250216T145013Z
LAST-MODIFIED:20250216T145013Z
UID:12271-1740819600-1740846600@zerowasteapeldoorn.nl
SUMMARY:Midden Veluwe wandeltocht - Stichting Internationale Vierdaagse Apeldoorn*
DESCRIPTION:Op zaterdag en zondag 2 maart 2025 wordt de 7e Midden-Veluwe wandeltocht georganiseerd door de werkgroep Wandeltochten Apeldoorn e.o. van de Stichting Internationale Vierdaagse Apeldoorn. \n\n\nBij deze ééndaagse wandeltocht kunnen de deelnemers kennismaken met het gebied waarin zich in juli een deel van de 70e Cantharel Internationale Vierdaagse Apeldoorn zal afspelen. De routes gaan door uitgestrekte bossen\, over heide en langs cultuurhistorische landbouwgronden met o.a. stuwwallen en een diep ingesleten smeltwaterdal uit de ijstijd. Samen met de natuurgebieden van Kootwijk is het\, met 10.000 hectare\, één van de grootste aaneengesloten stukken vrije natuur van Nederland. \nAfstanden\nEr kan gekozen worden uit afstanden van 5\, 10\, 15 en 20 kilometer. De routes zijn op beide wandeldagen gelijk en zijn met pijlen aangegeven. \nDeelnemers\nIedere wandelliefhebber kan aan deze tocht deelnemen. Nordic walkers zijn ook welkom. Honden mogen meelopen\, mits aangelijnd. Er kunnen wildroosters in het parkoers aanwezig zijn. \nStart\nDe start is bij Van Der Valk hotel Apeldoorn De Cantharel\, Van Golsteinlaan 20\, 7339 GT Ugchelen. Vanwege de beperkte parkeergelegenheid is het verzoek om zoveel mogelijk met het openbaar vervoer of op de fiets te komen. \nAanmelden\nMeer informatie + aanmelden. \nKosten \nIedere wandelliefhebber kan aan deze tocht deelnemen. Deelname is € 5\,50 per persoon\, leden van een erkende wandelsportorganisatie betalen € 4\,50. Kinderen tot 12 jaar mogen gratis meewandelen. Kosten medaille € 2\,50. \n\n\n\n\n\n\n\n__________________\n*Dit evenement is georganiseerd door: Stichting Internationale Vierdaagse Apeldoorn
URL:https://zerowasteapeldoorn.nl/agenda/7e-midden-veluwe-wandeltocht-zaterdag/
LOCATION:Van Der Valk hotel Apeldoorn De Cantharel\, Van Golsteinlaan 20\, Ugchelen\, Gelderland\, 7339 GT\, Netherlands
CATEGORIES:Natuur & biodiversiteit
ATTACH;FMTTYPE=image/png:https://zerowasteapeldoorn.nl/wp-content/uploads/2025/02/wandeling-bos.png
END:VEVENT
BEGIN:VEVENT
DTSTART;TZID=Europe/Amsterdam:20250302T090000
DTEND;TZID=Europe/Amsterdam:20250302T163000
DTSTAMP:20260420T083833
CREATED:20250216T145136Z
LAST-MODIFIED:20250216T153129Z
UID:12280-1740906000-1740933000@zerowasteapeldoorn.nl
SUMMARY:Midden Veluwe wandeltocht - Stichting Internationale Vierdaagse Apeldoorn*
DESCRIPTION:Op zaterdag en zondag 2 maart 2025 wordt de 7e Midden-Veluwe wandeltocht georganiseerd door de werkgroep Wandeltochten Apeldoorn e.o. van de Stichting Internationale Vierdaagse Apeldoorn. \n\n\nBij deze ééndaagse wandeltocht kunnen de deelnemers kennismaken met het gebied waarin zich in juli een deel van de 70e Cantharel Internationale Vierdaagse Apeldoorn zal afspelen. De routes gaan door uitgestrekte bossen\, over heide en langs cultuurhistorische landbouwgronden met o.a. stuwwallen en een diep ingesleten smeltwaterdal uit de ijstijd. Samen met de natuurgebieden van Kootwijk is het\, met 10.000 hectare\, één van de grootste aaneengesloten stukken vrije natuur van Nederland. \nAfstanden\nEr kan gekozen worden uit afstanden van 5\, 10\, 15 en 20 kilometer. De routes zijn op beide wandeldagen gelijk en zijn met pijlen aangegeven. \nDeelnemers\nIedere wandelliefhebber kan aan deze tocht deelnemen. Nordic walkers zijn ook welkom. Honden mogen meelopen\, mits aangelijnd. Er kunnen wildroosters in het parkoers aanwezig zijn. \nStart\nDe start is bij Van Der Valk hotel Apeldoorn De Cantharel\, Van Golsteinlaan 20\, 7339 GT Ugchelen. Vanwege de beperkte parkeergelegenheid is het verzoek om zoveel mogelijk met het openbaar vervoer of op de fiets te komen. \nAanmelden\nMeer informatie + aanmelden. \nKosten \nIedere wandelliefhebber kan aan deze tocht deelnemen. Deelname is € 5\,50 per persoon\, leden van een erkende wandelsportorganisatie betalen € 4\,50. Kinderen tot 12 jaar mogen gratis meewandelen. Kosten medaille € 2\,50. \n\n\n\n\n\n\n\n__________________\n*Dit evenement is georganiseerd door: Stichting Internationale Vierdaagse Apeldoorn
URL:https://zerowasteapeldoorn.nl/agenda/7e-midden-veluwe-wandeltocht-zondag/
LOCATION:Van Der Valk hotel Apeldoorn De Cantharel\, Van Golsteinlaan 20\, Ugchelen\, Gelderland\, 7339 GT\, Netherlands
CATEGORIES:Natuur & biodiversiteit
ATTACH;FMTTYPE=image/png:https://zerowasteapeldoorn.nl/wp-content/uploads/2025/02/wandeling-bos.png
END:VEVENT
BEGIN:VEVENT
DTSTART;TZID=Europe/Amsterdam:20250309T100000
DTEND;TZID=Europe/Amsterdam:20250309T120000
DTSTAMP:20260420T083833
CREATED:20250124T114155Z
LAST-MODIFIED:20250124T114512Z
UID:11762-1741514400-1741521600@zerowasteapeldoorn.nl
SUMMARY:Ploggen op zondag
DESCRIPTION:Doe mee met de maandelijkse Plogrun van Zero Waste Apeldoorn!  \nWat: Actief en afvalvrij hardlopen (of wandelen 😉)\nWanneer: (Meestal) Iedere tweede zondag van de maand\, van 10:00 tot 12:00 uur\nWaar: Elke maand een nieuwe locatie in of rondom Apeldoorn\nVoor wie: Iedereen die houdt van een schone omgeving en beweging! \nWat is ploggen? 🎽👟\nPloggen is dé perfecte mix van sporten en iets goeds doen voor het milieu. Terwijl je hardloopt of wandelt\, raap je zwerfafval op. Goed voor je gezondheid én voor de planeet—a true win-win! Of je nu een fanatieke hardloper bent of liever rustig wandelt\, iedereen kan meedoen. \nWaarom meedoen? 💪♻️ \n\nJe helpt Apeldoorn schoner en mooier te maken.\nJe krijgt een complete workout: denk aan squats\, lunges en het dragen van plogtassen.\nJe ontmoet een gezellige groep gelijkgestemden die houden van actie én impact.\nHet is geschikt voor alle niveaus: van beginners tot geoefende hardlopers.\n\nHoe gaat het in z’n werk?\nDe routes zijn meestal 4-6 km en de snelheid ligt laag (ongeveer 3 km/u) door alle stops om afval te rapen. Wij zorgen voor alles wat je nodig hebt: handschoenen\, hesjes\, plogtassen en afvalzakken. \nMeld je aan!\nWil je meedoen? Stuur een mail naar info@zerowasteapeldoorn.nl en sluit je aan bij onze WhatsApp-groep voor updates over locaties en meer. \nSamen maken we Apeldoorn schoner\, één stap en één stuk afval tegelijk. Tot snel bij de volgende Plogrun! 🏃‍♂️ \nDeze activiteit wordt door Heel Apeldoorn is Rein (Gemeente Apeldoorn) gefaciliteerd.
URL:https://zerowasteapeldoorn.nl/agenda/ploggen-op-zondag-maart-2025/
CATEGORIES:Opruimen,Zwerfafval
ATTACH;FMTTYPE=image/jpeg:https://zerowasteapeldoorn.nl/wp-content/uploads/2024/02/Ploggen-Op-Zondag.jpg
END:VEVENT
END:VCALENDAR