BEGIN:VCALENDAR
VERSION:2.0
PRODID:-//Zero Waste Apeldoorn - ECPv6.15.20//NONSGML v1.0//EN
CALSCALE:GREGORIAN
METHOD:PUBLISH
X-ORIGINAL-URL:https://zerowasteapeldoorn.nl
X-WR-CALDESC:Evenementen voor Zero Waste Apeldoorn
REFRESH-INTERVAL;VALUE=DURATION:PT1H
X-Robots-Tag:noindex
X-PUBLISHED-TTL:PT1H
BEGIN:VTIMEZONE
TZID:Europe/Amsterdam
BEGIN:DAYLIGHT
TZOFFSETFROM:+0100
TZOFFSETTO:+0200
TZNAME:CEST
DTSTART:20240331T010000
END:DAYLIGHT
BEGIN:STANDARD
TZOFFSETFROM:+0200
TZOFFSETTO:+0100
TZNAME:CET
DTSTART:20241027T010000
END:STANDARD
BEGIN:DAYLIGHT
TZOFFSETFROM:+0100
TZOFFSETTO:+0200
TZNAME:CEST
DTSTART:20250330T010000
END:DAYLIGHT
BEGIN:STANDARD
TZOFFSETFROM:+0200
TZOFFSETTO:+0100
TZNAME:CET
DTSTART:20251026T010000
END:STANDARD
BEGIN:DAYLIGHT
TZOFFSETFROM:+0100
TZOFFSETTO:+0200
TZNAME:CEST
DTSTART:20260329T010000
END:DAYLIGHT
BEGIN:STANDARD
TZOFFSETFROM:+0200
TZOFFSETTO:+0100
TZNAME:CET
DTSTART:20261025T010000
END:STANDARD
END:VTIMEZONE
BEGIN:VEVENT
DTSTART;TZID=Europe/Amsterdam:20250603T193000
DTEND;TZID=Europe/Amsterdam:20250603T210000
DTSTAMP:20260419T201618
CREATED:20250515T085128Z
LAST-MODIFIED:20250527T085434Z
UID:13963-1748979000-1748984400@zerowasteapeldoorn.nl
SUMMARY:Slim tuinieren voor een veranderend klimaat - deA*
DESCRIPTION:Groene Buur inspiratiebijeenkomst\nKom op dinsdagavond 3 juni naar de Groene Buur bijeenkomst! Deze avond staat in het teken van het vergroenen van je tuin en hoe je daarmee beter voorbereid bent op klimaatverandering. Denk aan periodes van (extreme) droogte\, maar ook aan hevige regenbuien. Wat kun je doen om je tuin hiertegen bestand te maken? \nAnneke Stolk van Groei & Bloei Apeldoorn geeft een inspirerende lezing\, genaamd ‘Een groene tuin? Ja\, want…’. Daarnaast bespreken we handige acties en subsidies van de gemeente Apeldoorn\, zoals de Tegeltaxi en de subsidie voor het afkoppelen van regenwater. \nEen informatieve én praktische avond boordevol tips om zelf aan de slag te gaan! \nFoto header: Nanda Sluijsmans \n  \nWil je erbij zijn? Meld je dan aan! \nLocatie: deA\, Roggestraat 44\, 1e verdieping \n__________________________ \n*Dit evenement is georganiseerd door: deA. \n 
URL:https://zerowasteapeldoorn.nl/agenda/groene-buur-bijeenkomst-dea-juni-2025/
LOCATION:ACEC café\, Roggestraat 44\, Apeldoorn\, 7311 CD\, Nederland
CATEGORIES:Informatie,Natuur & biodiversiteit,Verbinden
ATTACH;FMTTYPE=image/webp:https://zerowasteapeldoorn.nl/wp-content/uploads/2025/05/Header-deA-GB-klimaatadaptatie.webp
END:VEVENT
BEGIN:VEVENT
DTSTART;TZID=Europe/Amsterdam:20250605T183000
DTEND;TZID=Europe/Amsterdam:20250605T203000
DTSTAMP:20260419T201618
CREATED:20250526T094857Z
LAST-MODIFIED:20250526T221935Z
UID:14184-1749148200-1749155400@zerowasteapeldoorn.nl
SUMMARY:Fixing Fashion - CODA ExperienceLab*
DESCRIPTION:Fixing Fashion @ CODA Fashion Recycle Hub \nWil je meer leren over hoe je jouw oude kleding kan repareren? Kom dan langs tijdens de Fixing Fashion avonden in CODA ExperienceLab. \nRepareer je kapotte kleding of geef oude kleding een nieuwe look in de Fashion Recycle Hub. Aan de hand van handige tips en tricks van de Fixing Fashion Community leer je repareren\, verstellen en hoe je kleding kunt customizen. \nJe kunt hiervoor een (bijv. oud of kapot) kledingstuk meenemen van jezelf waarmee je aan de slag wilt gaan of gebruik maken van een van de aanwezige kledingstukken. Het repareren van kleding kan onder andere met de hand gedaan worden\, maar je kan ook gebruik maken van de naai- en loc machines van CODA ExperienceLab. \nWil je meer te weten komen over de Makerspace van CODA ExperienceLab? Klik dan hier! \nFixing Fashion is een onderdeel van One Army. \nAanmelden via CODA website \n——————————-\n*Deze activiteit is georganiseerd door: CODA Experience Lab.
URL:https://zerowasteapeldoorn.nl/agenda/coda-fixing-fashion-juni-2025/
LOCATION:CODA\, Vosselmanstraat 299\, Apeldoorn\, 7311CL\, Nederland
CATEGORIES:Repareren,Slow fashion
ATTACH;FMTTYPE=image/png:https://zerowasteapeldoorn.nl/wp-content/uploads/2025/05/Fixing-Fashion.png
END:VEVENT
BEGIN:VEVENT
DTSTART;TZID=Europe/Amsterdam:20250606T133000
DTEND;TZID=Europe/Amsterdam:20250606T153000
DTSTAMP:20260419T201618
CREATED:20250514T185921Z
LAST-MODIFIED:20250514T190548Z
UID:13955-1749216600-1749223800@zerowasteapeldoorn.nl
SUMMARY:Feestelijke Opening Kruidenavontuur Wenum
DESCRIPTION:Feestelijke Opening Kruidenavontuur Wenum\nHet kruidenavontuur Wenum is een nieuw aangelegde ecologische tuin met meer dan veertig kruidensoorten. De tuin brengt zowel mens en natuur bij elkaar. De belevenistuin biedt gelegenheid om kruiden te bekijken\, plukken\, ruiken\, proeven en voelen. \n​Op vrijdag 6 juni opent Stichting Kruidenavontuur Wenum officieel de deuren van haar gloednieuwe kruidentuin in het hart van Wenum.  \nHet Kruidenavontuur wordt om 14:00 uur officieel geopend door de wethouder Anja Prins. Na de officiële opening is er een mogelijkheid voor een rondleiding\, kruidenproeverij en elkaar ontmoeten.   \n📅 Vrijdag 6 juni 2025 \n📍 Kruidentuin Wenum \n​ ​🕒 13:30 – 15:30 uur (met officiële moment om 14:00 uur) \nWe willen graag alles in goede banen laten verlopen en vragen om hieronder aan te melden voor deze opening: https://kruidenavontuur.nl/  \n 
URL:https://zerowasteapeldoorn.nl/agenda/feestelijke-opening-kruidenavontuur-wenum/
LOCATION:Kruidenavontuur\, Stadhoudersmolenweg 190\, Apeldoorn\, Gelderland\, 7341 AZ\, Netherlands
CATEGORIES:Eten & drinken,Natuur & biodiversiteit
ATTACH;FMTTYPE=image/webp:https://zerowasteapeldoorn.nl/wp-content/uploads/2025/05/Foodies-Ard-Jan-Harm-en-Marnix-van-LIF-startten-Het-Kruidenavontuur-Wenun-Wiesel-in-gemeente-Apeldoorn-680x453-1.webp
END:VEVENT
BEGIN:VEVENT
DTSTART;TZID=Europe/Amsterdam:20250606T183000
DTEND;TZID=Europe/Amsterdam:20250606T223000
DTSTAMP:20260419T201618
CREATED:20250509T072653Z
LAST-MODIFIED:20250606T141035Z
UID:13802-1749234600-1749249000@zerowasteapeldoorn.nl
SUMMARY:Puzzelavond in Apeldoorn (juni)
DESCRIPTION:Maandelijkse Puzzelavond in Apeldoorn \nWat: Een gezellige avond vol puzzelplezier en leuke gesprekken!\nWaar: Energiepunt\, Paslaan 1 (naast de fietstenstalling)\nTijd: Inloop vanaf 18.30 uur\, start om 19.00 uur tot ongeveer 22.30 uur\nKosten: Gratis (maar aanmelden is verplicht!) \nHoud je van puzzelen\, een goed gesprek en een gezellige sfeer? Kom dan naar de Puzzelavond! Ruil puzzels met anderen (zonder dat je portemonnee open hoeft)\, ontdek nieuwe uitdagingen en breng een ontspannen avond door met gelijkgestemden. De setting is intiem en ontspannen\, perfect om de tijd te vergeten en je creativiteit te laten stromen. \nWe leggen samen uitdagende puzzels\, zoals een Wasgij of een Jan van Haasteren\, maar ook rustgevende plaatjes. Of je nu een doorgewinterde puzzelaar bent of gewoon zin hebt in een gezellige avond\, iedereen is welkom! Tussendoor wordt er volop gekletst\, gelachen\, en wie weet wordt er zelfs een dansje gewaagd. \nLet op: Er is plaats voor 12 deelnemers. Vol = vol\, dus meld je snel aan! \nWaarom je dit niet wilt missen: \n\nJe geeft oude puzzels een tweede leven door te ruilen.\nJe ontmoet nieuwe mensen met een passie voor puzzelen.\nEen unieke combinatie van ontspanning\, gezelligheid én milieubewustzijn.\nEn ja\, het is helemaal gratis!\n\nZin om mee te doen? Meld je snel aan en verzeker jezelf van een plekje! \n  
URL:https://zerowasteapeldoorn.nl/agenda/puzzelavond-juni-2025/
LOCATION:Energiepunt\, Paslaan 1\, Apeldoorn\, Nederland
CATEGORIES:Circulariteit,Ruilbeurs,Verbinden
ATTACH;FMTTYPE=image/png:https://zerowasteapeldoorn.nl/wp-content/uploads/2024/11/puzzelavond-event-banner.png
END:VEVENT
BEGIN:VEVENT
DTSTART;TZID=Europe/Amsterdam:20250607T100000
DTEND;TZID=Europe/Amsterdam:20250607T113000
DTSTAMP:20260419T201618
CREATED:20250331T134650Z
LAST-MODIFIED:20250331T134650Z
UID:13217-1749290400-1749295800@zerowasteapeldoorn.nl
SUMMARY:Rondleiding Herenboerderij Groote Modderkolk*
DESCRIPTION:Rondleiding Herenboerderij Groote Modderkolk\nVerzamelen bij de ronde bank rond de eik als je het terrein van Natuurmonumenten op komt. \n\n\n\n\n\nAanmelden via: Rondleidingformulier\n\n\n——————————\n*Deze activiteit is georganiseerd door: Herenboeren De Groote Modderkolk
URL:https://zerowasteapeldoorn.nl/agenda/rondleiding-herenboerderij-groote-modderkolk-7-juni-2025/
LOCATION:Herenboerderij Groote Modderkolk\, Vrijenbergweg 24\, Loenen\, Gelderland\, 7371 AA\, Netherlands
CATEGORIES:Eten & drinken,Informatie,Natuur & biodiversiteit,Rondleiding
ATTACH;FMTTYPE=image/jpeg:https://zerowasteapeldoorn.nl/wp-content/uploads/2024/05/Herenboeren-Wenumseveld-opendag.jpg
END:VEVENT
BEGIN:VEVENT
DTSTART;TZID=Europe/Amsterdam:20250608T140000
DTEND;TZID=Europe/Amsterdam:20250608T170000
DTSTAMP:20260419T201618
CREATED:20250526T084337Z
LAST-MODIFIED:20250526T084337Z
UID:14150-1749391200-1749402000@zerowasteapeldoorn.nl
SUMMARY:Apeldoornse IVN Slootjesdag
DESCRIPTION:Kinderen tussen de 4 en 12 jaar kunnen op zondag 8 juni met hun (groot)ouders\, vriendjes\, en vriendinnetjes ontdekken hoe bijzonder het leven is in schijnbaar doodgewoon vijverwater.\nWil je meedoen aan de Apeldoornse IVN Slootjesdag dan ben je 8 juni\, eerste Pinksterdag\, tussen 14.00 en 17.00 uur van harte welkom bij de vijver van het Woldhuis in Apeldoorn.\n\nIVN Natuureducatie Apeldoorn viert haar 65 jarig jubileum en biedt deze feestelijke activiteit dit jaar gratis aan!\nKinderen tussen de 4 en 12 jaar kunnen met hun (groot)ouders\, vriendjes\, en vriendinnetjes ontdekken hoe bijzonder het leven is in schijnbaar doodgewoon vijverwater.\n\nSamen met IVN gidsen en medewerkers van Waterschap Vallei en Veluwe ga je op onderzoek uit en goed bekijken wat je hebt ontdekt. IVN zorgt voor schepnetten\, waterbakken\, loeppotjes en zoekkaarten.\nDoor kinderen te laten ontdekken wat er leeft in en om het water\, wil IVN Natuureducatie kinderen meer inzicht en betrokkenheid geven bij het waterleven. \nInformatie en aanmelden: https://www.ivn.nl/afdeling/apeldoorn/natuuractiviteiten/apeldoornse-ivn-slootjesdag-op-8-juni-2025/ \nParkeren van auto en fiets kan op de parkeerplaats aan de Zutphensestraat. Vandaar de bewegwijzering naar de vijver van het Woldhuis volgen. \nOver IVN\nIVN Natuureducatie zet zich als landelijke non-profit organisatie in voor een groen\, gezond en duurzaam Nederland. Dit doen we door de natuur in de harten van mensen te brengen. We laten jong en oud actief ervaren hoe leuk\, leerzaam\, gezond én belangrijk natuur is. Onze 130 professionals\, 25.000 leden en 170 vrijwilligers afdelingen organiseren natuuractiviteiten\, cursussen en campagnes. Daarbij focussen we op vier kernthema’s: Kind & natuur\, Natuur in de buurt\, Natuur & recreatie en Natuur & gezondheid. IVN is ervan overtuigd dat kennis van en betrokkenheid bij de natuur\, duurzaam handelen stimuleert. IVN: beleef de natuur!
URL:https://zerowasteapeldoorn.nl/agenda/apeldoornse-ivn-slootjesdag-2025/
LOCATION:Het Woldhuis\, Woldhuis 11\, Apeldoorn\, 7325 WN\, Nederland
CATEGORIES:Informatie,Natuur & biodiversiteit
ATTACH;FMTTYPE=image/jpeg:https://zerowasteapeldoorn.nl/wp-content/uploads/2024/04/Slootjesdagen.jpg
END:VEVENT
BEGIN:VEVENT
DTSTART;TZID=Europe/Amsterdam:20250614T140000
DTEND;TZID=Europe/Amsterdam:20250614T160000
DTSTAMP:20260419T201618
CREATED:20250610T102219Z
LAST-MODIFIED:20250610T102311Z
UID:14734-1749909600-1749916800@zerowasteapeldoorn.nl
SUMMARY:Puzzelruilmiddag bij Impact Plek
DESCRIPTION:📢 Puzzelfans opgelet! Puzzelruilmiddag op 14 juni 🧩♻️ \nBen jij dol op puzzelen? Heb je puzzels die je al gemaakt hebt en ben je toe aan een ‘nieuwe’? Kom dan naar onze puzzelruilmiddag op zaterdag 14 juni bij het Zero Waste Apeldoorn kantoor op Impact Plek! \nWaarom kopen als je kunt ruilen? Goed voor je portemonnee én het milieu – een echte win-win! 💚♻️ \n🔄 Hoe werkt het?\n\nNeem je complete en nette puzzels mee en ruil ze voor andere puzzels van ongeveer hetzelfde aantal stukjes.\nEr zijn zo’n 90 puzzels op voorraad om uit te kiezen!\n\n📍 Praktische info\n📌 Locatie: Zero Waste Apeldoorn\, Impact Plek\, Vlijtseweg 130\, Apeldoorn (Zie route hieronder)\nLET OP! Bij mooi weer vindt de puzzelruilmiddag plaats op het plein voor de Impact Plek. Bij slecht weer vindt de ruilmiddag binnen plaats; deze locatie is niet toegankelijk voor mindervaliden.\n🕑 Tijd: 14:00 – 16:00 uur (vrije inloop)\n💰 Kosten: Gratis!\n📩 Aanmelden? Niet verplicht\, maar wel fijn! Dan weten we hoeveel bezoekers we kunnen verwachten. \n💡 Extra puzzelruiltips!\n👉 Geen tijd op 14 juni? Geen probleem!\n– Het hele jaar door kun je puzzels ruilen via de Facebookgroep “De Apeldoornse Puzzelclub (ruilgroep legpuzzels)”. Nog geen lid? Meld je gratis aan!\n– Of je kunt meedoen met de Ketting Puzzelruil in Apeldoorn!\n👉 Samen puzzelen? Zero Waste Apeldoorn organiseert elke eerste vrijdag van de maand een gezellige puzzelavond bij het Energiepunt (Paslaan 1)\, van 18:30 tot 22:30 uur. Hier kun je ook puzzels delen met anderen! Check onze agenda voor de volgende puzzelavond. \n🎁 Liever doneren?\nHeb je puzzels die je niet wilt ruilen\, maar wél een tweede leven wilt geven? Doneer ze dan aan onze puzzelbank! Tijdens de puzzelruilmiddag kun je jouw complete puzzels inleveren\, zodat anderen er ook plezier van kunnen hebben. \nKom jij ook puzzels ruilen (of inleveren)? We zien je graag op 14 juni! 🎉♻️ \n\n  \n \n  \n\n  \n\n 
URL:https://zerowasteapeldoorn.nl/agenda/puzzelruilmiddag-juni-2025/
LOCATION:Zero Waste Apeldoorn\, Impact Plek\, K1 (kelder)\, Vlijtseweg 130\, Apeldoorn\, Gelderland\, 7317 AK\, Netherlands
CATEGORIES:Circulariteit,Ruilbeurs
ATTACH;FMTTYPE=image/png:https://zerowasteapeldoorn.nl/wp-content/uploads/2025/02/puzzelruilmiddag.png
END:VEVENT
BEGIN:VEVENT
DTSTART;TZID=Europe/Amsterdam:20250615T100000
DTEND;TZID=Europe/Amsterdam:20250615T120000
DTSTAMP:20260419T201618
CREATED:20250526T084959Z
LAST-MODIFIED:20250526T085617Z
UID:14153-1749981600-1749988800@zerowasteapeldoorn.nl
SUMMARY:Ploggen op zondag
DESCRIPTION:Doe mee met de maandelijkse Plogrun van Zero Waste Apeldoorn!  \nWat: Actief en afvalvrij hardlopen (of wandelen 😉)\nWanneer: (Meestal) Iedere tweede zondag van de maand\, van 10:00 tot 12:00 uur\nWaar: Elke maand een nieuwe locatie in of rondom Apeldoorn\nVoor wie: Iedereen die houdt van een schone omgeving en beweging! \nWat is ploggen? 🎽👟\nPloggen is dé perfecte mix van sporten en iets goeds doen voor het milieu. Terwijl je hardloopt of wandelt\, raap je zwerfafval op. Goed voor je gezondheid én voor de planeet—a true win-win! Of je nu een fanatieke hardloper bent of liever rustig wandelt\, iedereen kan meedoen. \nWaarom meedoen? 💪 \n\nJe helpt Apeldoorn schoner en mooier te maken.\nJe krijgt een complete workout: denk aan squats\, lunges en het dragen van plogtassen.\nJe ontmoet een gezellige groep gelijkgestemden die houden van actie én impact.\nHet is geschikt voor alle niveaus: van beginners tot geoefende hardlopers.\n\nHoe gaat het in z’n werk?\nDe routes zijn meestal 4-6 km en de snelheid ligt laag (ongeveer 3 km/u) door alle stops om afval te rapen. Wij zorgen voor alles wat je nodig hebt: handschoenen\, hesjes\, plogtassen en afvalzakken. \nMeld je aan!\nWil je meedoen? Stuur een mail naar info@zerowasteapeldoorn.nl en sluit je aan bij onze WhatsApp-groep voor updates over locaties en meer. \nSamen maken we Apeldoorn schoner\, één stap en één stuk afval tegelijk. Tot snel bij de volgende Plogrun! 🏃‍♂️ \nDeze activiteit wordt door Heel Apeldoorn is Rein (Gemeente Apeldoorn) gefaciliteerd.
URL:https://zerowasteapeldoorn.nl/agenda/ploggen-op-zondag-juni-2025/
CATEGORIES:Opruimen,Zwerfafval
ATTACH;FMTTYPE=image/jpeg:https://zerowasteapeldoorn.nl/wp-content/uploads/2024/02/Ploggen-Op-Zondag.jpg
END:VEVENT
BEGIN:VEVENT
DTSTART;TZID=Europe/Amsterdam:20250621T090000
DTEND;TZID=Europe/Amsterdam:20250621T120000
DTSTAMP:20260419T201618
CREATED:20250526T090943Z
LAST-MODIFIED:20250616T132443Z
UID:14171-1750496400-1750507200@zerowasteapeldoorn.nl
SUMMARY:Maandelijkse Plandeldag in heel Apeldoorn
DESCRIPTION:Doe mee met de Maandelijkse Plandeldag in Apeldoorn! 🚶‍♂️✨ \nWat: Samen Apeldoorn schoner maken tijdens een gezellige wandeling\nWanneer: Iedere derde zaterdag van de maand\, in de ochtend\nWaar: 12 vaste locaties verspreid over de stad (en in Loenen!)\nVoor wie: Iedereen die een schone omgeving belangrijk vindt \nWat is de Plandeldag?\nTijdens de Maandelijkse Plandeldag trekken we met kleine groepen vrijwilligers de wijken\, parken en straten in om zwerfafval op te ruimen. Het is dé kans om op een ontspannen manier een positieve impact te maken en nieuwe mensen te ontmoeten. Of je nu een buurtbewoner bent\, jong of oud\, iedereen kan meedoen! \nHoe werkt het? \n\nJe sluit je aan bij één van de 12 vaste locaties.\nWij zorgen voor alle benodigde materialen\, zoals grijpers\, handschoenen en afvalzakken. Alles om veilig en efficiënt aan de slag te gaan!\nNa afloop heb je niet alleen een schonere buurt\, maar ook een voldaan gevoel en misschien zelfs een nieuwe vriend of buur leren kennen.\n\nHoe doe je mee? \n\nMeld je aan via info@zerowasteapeldoorn.nl\nOf kom spontaan naar het verzamelpunt van een locatie op de dag zelf!\n\nWaar kun je aansluiten?\nHier zijn de verzamelpunten en tijden: \n\nBrummelhof (Oost): 10.00-12.00 uur – Ons Honk (Zuid Doet Samen)\, Sperwerlaan 18\nBrummelhof (West): 09.00-11.00 uur – naast de parkeerplaats Wissellaan / Wagenstraat\nCentrum: 9.00-11.00 uur – Youngster\, Prins Willem-Alexanderlaan 201B\nOrden: 9.00-11.00 uur – Orca\, Germanenlaan 360\nMatenpark: 10.00-12.00 uur – Kinderboerderij de Maten\, Pallietergaarde 25\nGentiaan/ Sluisoord: 10.30-12.00 uur – Sluisoordlaan 200\nSprengenpark: 10.00-12.00 uur – Sprengenhonk\, Wolweg 35c\nWestenenkerpark: 09.30-11.00 uur – Theehuis Westenenkerpark\, Zilverweg 32 (Voor deze locatie: graag eerst een mail sturen: info@zerowasteapeldoorn.nl)\nWoudhuis/Osseveld: 10.00-12.00 uur – Afwisselend\, zie sociale media voor updates\nZuidbroek: 10.30-12.00 uur – Vuurvlinder 24\nZuiderpark: 10.00-12.00 uur – Buurthuis Maasstraat\, Maasstraat 4\nZwitsal terrein: 10.00-12.00 uur – Foenix kringloopwinkel\, Vlijtseweg 136 – LET OP: GEEN opruimactie op deze locatie op 21 juni!\n\nLoenen ook actief!\nIn Loenen kun je op de 2e zaterdag van de maand aansluiten bij het opruimteam! Verzamelpunt: De Brink\, van 10.00-12.00 uur\, met koffie na afloop. \nBekijk de plattegrond van de opruimlocaties of lees meer over de Plandeldag via deze link \nSamen houden we Apeldoorn en Loenen schoon en mooi. Doe je mee?
URL:https://zerowasteapeldoorn.nl/agenda/maandelijkse-plandeldag-in-heel-apeldoorn-juni-2025/
LOCATION:Apeldoorn
CATEGORIES:Natuur & biodiversiteit,Opruimen,Zwerfafval
ATTACH;FMTTYPE=image/jpeg:https://zerowasteapeldoorn.nl/wp-content/uploads/2024/02/Maandelijkse-Plandeldag-banner.jpg
END:VEVENT
BEGIN:VEVENT
DTSTART;TZID=Europe/Amsterdam:20250621T100000
DTEND;TZID=Europe/Amsterdam:20250621T160000
DTSTAMP:20260419T201618
CREATED:20250526T104929Z
LAST-MODIFIED:20250526T104929Z
UID:14211-1750500000-1750521600@zerowasteapeldoorn.nl
SUMMARY:Jubileumfeest Moestuin Havenpark
DESCRIPTION:Moestuin Havenpark bestaat 10 jaar!\nTijdens het Opentuinenweekend worden meerdere activiteiten georganiseerd in Moestuin Havenpark. Een tipje van de feestsluier opgelicht: kraampjes\, rondleidingen\, doorlopende fotoshow en voor de jongeren wordt een leuke en leerzame activiteit verzorgd. Alles omlijst met hapjes\, drankjes en een muzikaal gastoptreden. En in de speciale jubileumkrant\, die op die dag wordt uitgereikt\, kunt u het verhaal van het ontstaan\, de toekomst en de vrijwilligers van Moestuin Havenpark nog eens op uw gemak nalezen. \nBij Moestuin Havenpark worden groente\, fruit\, kruiden en bloemen gekweekt op biologische wijze. In de zomer is de tuin op zijn hoogtepunt. Een vrolijke mix van geuren\, kleuren\, smaken en klanken. Een soort tuinsymfonie dus. Een lust voor oog\, oor en mond. \nDe moestuin in het Havenpark is een initiatief van Groei & Bloei Apeldoorn. Het wordt sinds 2015 gerund in samenwerking met de gemeente Apeldoorn\, Omnizorg\, Stimenz en de Wijkraad Centrum. Iedere woensdag en donderdag wordt er door een groep van zo’n 40 vrijwilligers gewerkt.  Het project is heel laagdrempelig. Er worden weinig eisen gesteld aan de vrijwilligers. Iedereen is welkom. Je hoeft geen ervaring te hebben\, een positieve instelling en plezier in samenwerking op de tuin zijn belangrijk voor de goede sfeer. \nDe groep bestaat uit mensen van allerlei pluimage: vrijwilligers van Groei & Bloei\, buurtbewoners\, cliënten van Omnizorg\, mensen die door Stimenz naar het project geleid worden om ervaring op te doen\, andere Apeldoorners en soms mensen van het AZC. Iedereen wordt liefdevol in de groep opgenomen en mag zijn wie hij of zij is. Kom gerust eens een kijkje nemen of koffiedrinken of meld je aan als vrijwilliger. Meer informatie: https://apeldoorn.groei.nl/activiteiten/moestuin-havenpark
URL:https://zerowasteapeldoorn.nl/agenda/jubileumfeest-moestuin-havenpark/
LOCATION:Moestuin Havenpark\, Korte Molenstraat 4\, Apeldoorn\, 7311 NV\, Nederland
CATEGORIES:Eten & drinken,Informatie,Natuur & biodiversiteit,Rondleiding
ATTACH;FMTTYPE=image/jpeg:https://zerowasteapeldoorn.nl/wp-content/uploads/2024/05/Havenpark-moestuin.jpg
END:VEVENT
BEGIN:VEVENT
DTSTART;TZID=Europe/Amsterdam:20250621T100000
DTEND;TZID=Europe/Amsterdam:20250621T160000
DTSTAMP:20260419T201618
CREATED:20250607T072956Z
LAST-MODIFIED:20250607T072956Z
UID:14693-1750500000-1750521600@zerowasteapeldoorn.nl
SUMMARY:Vrijwilligersklus! Sidekick plantenruil stand Moestuin Havenpark
DESCRIPTION:Vrijwilligersklus! Gezocht: Sidekick plantenruil stand Moestuin Havenpark 🎡\n\n\n\n\n\n\n\n\n\n\n\n\n📅 Datum: Zaterdag 21 juni\n⏰ Tijd: 10:00 – 16:00 uur\n📍 Locatie: Moestuin Havenpark\, Apeldoorn \nWil jij bijdragen aan een inspirerende\, impactvolle en gezellige middag? Wij zoeken twee enthousiaste sidekicks voor de Zero Waste Apeldoorn plantenruil stand tijdens het jubileumsfeest op Moestuin Havenpark! \nWij staan bij de Moestuin Havenpark met plantjes en stekjes (te ruil) én ons Duurzame Rad! We laten bezoekers ontdekken welke duurzame alternatieven er zijn voor wegwerpproducten en een assortiment buiten- en binnen planten en stekjes te ruil. En het leukste? Bezoekers kunnen duurzame producten winnen met een lucky spin aan het Duurzame Rad! 🎡🌱 \nWat ga jij doen als sidekick?\n✔️ Bezoekers enthousiasmeren en inspireren bij de plantenruil stand\n✔️ Uitleg geven over duurzame alternatieven voor wegwerpproducten\n✔️ Helpen bij het bedienen van het Duurzame Rad \nWie zoeken we?\n✅ Je bent sociaal en vindt het leuk om met mensen in gesprek te gaan\n✅ Je kunt enthousiast vertellen over duurzame alternatieven en afvalpreventie\n✅ Je staat open om meer te leren over Zero Waste en dit met anderen te delen \n💚 Lijkt het je leuk om mee te helpen? Meld je aan via de aanmeldknop hiernaast!
URL:https://zerowasteapeldoorn.nl/agenda/vrijwilligersklus-sidekick-plantenruil-21-juni/
LOCATION:Moestuin Havenpark\, Korte Molenstraat 4\, Apeldoorn\, 7311 NV\, Nederland
CATEGORIES:Vrijwilligersklus
ATTACH;FMTTYPE=image/png:https://zerowasteapeldoorn.nl/wp-content/uploads/2025/06/stekjes-planten-ruilbeurs-vrijwilligersklus.png
END:VEVENT
BEGIN:VEVENT
DTSTART;TZID=Europe/Amsterdam:20250621T100000
DTEND;TZID=Europe/Amsterdam:20250621T160000
DTSTAMP:20260419T201618
CREATED:20250618T142211Z
LAST-MODIFIED:20250618T142211Z
UID:14899-1750500000-1750521600@zerowasteapeldoorn.nl
SUMMARY:Planten- en stekjesruilbeurs bij Moestuin Havenpark
DESCRIPTION:Ben je ook dol op planten en heb je ook wat in de aanbieding om een ander blij mee te maken? Dan is de planten- en stekjesruilbeurs op zaterdag 21 juni bij Moestuin Havenpark echt wat voor jou!\nHet ruilen van planten en stekjes is een geweldige manier om je plantencollectie uit te breiden en tegelijkertijd nieuwe plantenvrienden te maken! En\, het is ook nog eens beter voor het milieu! \nIn het kader van het 10 jaar jubileumfeest van Moestuin Havenpark\, houdt Zero Waste Apeldoorn een kleine planten- en stekjesruilbeurs binnen de moestuin.\nBij de ruilbeurs zijn zowel leden als niet-leden van de moestuin welkom. \nDit kan je ruilen:\nJe kan alles met elkaar uitwisselen op het gebied van tuinen. Denk aan stekjes\, zaden\, bloembollen\, planten die te groot zijn geworden\, maar ook tuingereedschap en andere tuinartikelen. Heb je kamerplanten of vetplanten? Ook die mogen mee naar de ruilbeurs. \n🌱🌺🌸👩‍🌾 \n   
URL:https://zerowasteapeldoorn.nl/agenda/planten-en-stekjesruilbeurs-juni-2025/
LOCATION:Moestuin Havenpark\, Korte Molenstraat 4\, Apeldoorn\, 7311 NV\, Nederland
CATEGORIES:Circulariteit,Natuur & biodiversiteit,Ruilbeurs
ATTACH;FMTTYPE=image/jpeg:https://zerowasteapeldoorn.nl/wp-content/uploads/2024/05/Planten-Stekjes-ruilbeurs-1.jpg
END:VEVENT
BEGIN:VEVENT
DTSTART;TZID=Europe/Amsterdam:20250621T100000
DTEND;TZID=Europe/Amsterdam:20250622T160000
DTSTAMP:20260419T201618
CREATED:20250526T103719Z
LAST-MODIFIED:20250526T103831Z
UID:14208-1750500000-1750608000@zerowasteapeldoorn.nl
SUMMARY:Opentuinenweekend in Apeldoorn
DESCRIPTION:Het opentuinenweekend 2025 is op 21 en 22 juni in Apeldoorn. Heerlijk dwalen door tuinen en ideeën opdoen voor je eigen tuin!\nMeer dan 10 particuliere tuinen en pandhoven in en rond Apeldoorn\, waarvan de meeste op andere dagen niet openbaar toegankelijk zijn\, openen dan hun poorten voor het publiek. Dit landelijke groene evenement heeft inmiddels een vaste plek op de agenda gekregen en trekt jaarlijks veel bezoekers. \nOntdek mooie en bijzondere bloemen- en plantencombinaties\, wandel door origineel ontworpen tuinen en bekijk allerlei materialen en toepassingen. Een mooie gelegenheid om andere tuinliefhebbers te ontmoeten\, tips en trucs uit te wisselen en vernieuwende ideeën op te doen voor je eigen tuin. De tuinen zijn in heel Nederland te bezichtigen. \nVoor de Apeldoornse editie heeft Groei en Bloei een handige route voor je getekend met een verzameling van prachtige tuinen die je op zaterdag 21 juni\, tijdens de Open Tuinendag kunt bezichtigen. Tussen 10:00 uur en 16:00 uur staan de poorten open en laten de eigenaren je graag hun tuin zien. \nTIP: Kijk voor vertrek ook op de website van Groei en Bloei voor actuele informatie: er kan onverhoopt wat veranderd zijn. \n\n\nWe voegen nog één tuin toe aan deze mooie lijst: de CODA daktuin
URL:https://zerowasteapeldoorn.nl/agenda/opentuinenweekend-2025/
LOCATION:Moestuin Havenpark\, Korte Molenstraat 4\, Apeldoorn\, 7311 NV\, Nederland
CATEGORIES:Informatie,Natuur & biodiversiteit,Rondleiding
ATTACH;FMTTYPE=image/jpeg:https://zerowasteapeldoorn.nl/wp-content/uploads/2024/05/Havenpark-moestuin.jpg
END:VEVENT
BEGIN:VEVENT
DTSTART;TZID=Europe/Amsterdam:20250621T133000
DTEND;TZID=Europe/Amsterdam:20250621T153000
DTSTAMP:20260419T201618
CREATED:20250527T084635Z
LAST-MODIFIED:20250527T084635Z
UID:14226-1750512600-1750519800@zerowasteapeldoorn.nl
SUMMARY:Excursie: Tussen panelen en poelen - deA & IVN*
DESCRIPTION:Tussen panelen en poelen – excursie biodiversiteit op Zonnepark Klarenbeek\n\nDatum: 21 juni 2025 | Tijd: 13:30 tot 15:30 | Locatie: Zonnepark Klarenbeek\, de Kar tegenover huisnr. 18\, Klarenbeek\n\nFossielvrije energie opwekken\, en tegelijkertijd de biodiversiteit een handje helpen\, dat is het doel van Zonnepark Klarenbeek. Wil je zien hoe dat werkt? En welke dieren en planten er leven? Of wil je weten hoe dat wordt onderzocht? Kom dan naar de excursie op Zonnepark Klarenbeek! Loop zelf tussen de poelen en de panelen en ontdek het. Vrijwilligers van deA en van IVN leggen je het uit wat je kunt ontdekken. \n\n\nAanleg\nZonnepark Klarenbeek\, tussen de Kar en de Broekstraat\, is 20 hectare groot en is aangelegd met: \n\n41.704 zonnepanelen\n23.500 m2 bosplantsoen\n200 meter natuurvriendelijke oever\n145 bomen\n6 trafohuisjes\n3 poelen\n\nEr leven diverse soorten: de das\, reeën\, vogels als de buizerd\, muizen en insecten. \nHet ontwerp is zo gemaakt dat veel planten\, dieren en insecten kunnen leven. Daar is ook het onderhoud op gericht. Natuurlijk willen we ook weten wat het effect daarvan is. Daarom wordt jaarlijks gemonitord hoe het gaat met flora en fauna. \n\n\nWil je erbij zijn? Meld je dan aan! \n \n__________________________ \n*Dit evenement is georganiseerd door: deA en IVN
URL:https://zerowasteapeldoorn.nl/agenda/excursie-tussen-panelen-en-poelen-dea/
CATEGORIES:Energie,Informatie,Natuur & biodiversiteit
ATTACH;FMTTYPE=image/png:https://zerowasteapeldoorn.nl/wp-content/uploads/2025/05/Excursie-tussen-poelen-en-panelen.png
END:VEVENT
END:VCALENDAR