BEGIN:VCALENDAR
VERSION:2.0
PRODID:-//Zero Waste Apeldoorn - ECPv6.15.20//NONSGML v1.0//EN
CALSCALE:GREGORIAN
METHOD:PUBLISH
X-ORIGINAL-URL:https://zerowasteapeldoorn.nl
X-WR-CALDESC:Evenementen voor Zero Waste Apeldoorn
REFRESH-INTERVAL;VALUE=DURATION:PT1H
X-Robots-Tag:noindex
X-PUBLISHED-TTL:PT1H
BEGIN:VTIMEZONE
TZID:Europe/Amsterdam
BEGIN:DAYLIGHT
TZOFFSETFROM:+0100
TZOFFSETTO:+0200
TZNAME:CEST
DTSTART:20230326T010000
END:DAYLIGHT
BEGIN:STANDARD
TZOFFSETFROM:+0200
TZOFFSETTO:+0100
TZNAME:CET
DTSTART:20231029T010000
END:STANDARD
BEGIN:DAYLIGHT
TZOFFSETFROM:+0100
TZOFFSETTO:+0200
TZNAME:CEST
DTSTART:20240331T010000
END:DAYLIGHT
BEGIN:STANDARD
TZOFFSETFROM:+0200
TZOFFSETTO:+0100
TZNAME:CET
DTSTART:20241027T010000
END:STANDARD
BEGIN:DAYLIGHT
TZOFFSETFROM:+0100
TZOFFSETTO:+0200
TZNAME:CEST
DTSTART:20250330T010000
END:DAYLIGHT
BEGIN:STANDARD
TZOFFSETFROM:+0200
TZOFFSETTO:+0100
TZNAME:CET
DTSTART:20251026T010000
END:STANDARD
END:VTIMEZONE
BEGIN:VEVENT
DTSTART;TZID=Europe/Amsterdam:20241206T193000
DTEND;TZID=Europe/Amsterdam:20241206T230000
DTSTAMP:20260423T061243
CREATED:20241204T085807Z
LAST-MODIFIED:20241204T085807Z
UID:10791-1733513400-1733526000@zerowasteapeldoorn.nl
SUMMARY:Jubileumfeest 12\,5 jaar - deA*
DESCRIPTION:*Jubileumfeest 12\,5 jaar\, van deA\nOp 6 december bestaat deA 12\,5 jaar! Kom je op ons feestje?\nWe zijn bezig met het organiseren van een feestelijke en interessante avond.\nWe vinden het fijn om te weten hoeveel mensen er komen. Kun je ons per e-mail laten weten als je komt? \nLaat weten dat je komt: https://www.de-a.nl/agenda/jubileumfeest-125-jaar/ \nProgramma 12\,5 jaar deA\nJaap Tielbeke – Verbeter de wereld maar waar te beginnen\n\n\n\n\n\nJaap staat midden in de discussie rond klimaat\, schrijft voor de Groene Amsterdammer en maakt programma’s voor omroep HUMAN. Verder heeft hij twee boeken op zijn naam staan ‘Een beter milieu begint niet bij jezelf’ en ‘We waren gewaarschuwd’. \nWe laten ons door Jaap graag inspireren en horen welke ontwikkelingen hij ziet op het gebied van klimaat. In het bijzonder zijn we benieuwd welke rol en betekenis Jaap ziet voor de energiecoöperatie.  Zeker met het oog op de titel van zijn eerste boek: Een beter milieu begint niet bij jezelf. \nJaap start met een lezing waarna hij in gesprek gaat met drie bekende Nederlandse namen en met alle aanwezigen. \n\n\ndeA Prijs!\nWie jarig is trakteert. Op deze avond reiken we deA-prijs uit aan 3 positieve Apeldoornse initiatieven. In totaal zijn er 55 doelen aangedragen. Tien daarvan zijn genomineerd. In november stemmen de leden van deA welke 3 positieve initiatieven € 1250 krijgen. Ben je lid van deA? Bekijk ook de mail die je hierover hebt gekregen. \nFeest\n\n\n\n\n\nDaarna is er tot 23.00 alle gelegenheid voor gezelligheid\, muziek\, een hapje en drankje\, kortom: feest. \nKom je ook? Mail ons even dan weten we op hoeveel mensen we kunnen rekenen.
URL:https://zerowasteapeldoorn.nl/agenda/jubileumfeest-dea/
LOCATION:ACEC café\, Roggestraat 44\, Apeldoorn\, 7311 CD\, Nederland
CATEGORIES:Energie,Meet up,Verbinden
ATTACH;FMTTYPE=image/png:https://zerowasteapeldoorn.nl/wp-content/uploads/2024/12/DeA-125-jaar.png
END:VEVENT
BEGIN:VEVENT
DTSTART;TZID=Europe/Amsterdam:20241207T200000
DTEND;TZID=Europe/Amsterdam:20241207T211500
DTSTAMP:20260423T061243
CREATED:20241202T124919Z
LAST-MODIFIED:20241203T182017Z
UID:10751-1733601600-1733606100@zerowasteapeldoorn.nl
SUMMARY:Musical - In het oog van de orkaan (De Amazones*)
DESCRIPTION:Een wervelende musical over het geluk van de pechgeneratie.\nDe ene na de andere crisis vliegt ons om de oren en er is nogal veel waar we mee moeten dealen. Klimaatcrisis\, oorlogen\, studieschuld\, woningnood… \nDe pechgeneratie voelt zich behoorlijk gegrepen door al deze ongrijpbare invloeden. Dus gaan ze op standje overleven: ze vechten\, ze vluchten óf ze bevriezen. Maar als we allemaal anders reageren op bedreigende situaties\, hoe groot is de kans dan dat je elkaar onderweg uit het oog verliest? \nDe Amazones gaan niet bij de pakken neerzitten en nemen je mee in een komische én ontroerende zoektocht naar het vinden van geluk. Ze verliezen zich in een technorave\, raken verdwaald in het algoritme en zingen een musicalsong over de NEE-NEE-sticker. \nIn het Oog van de Orkaan is een wervelende\, eigentijdse musical. Stap uit het oog van de storm en laat je meesleuren door dreunende technobeats\, schurende scènes\, uitputtende choreo’s en natuurlijk ook een goede dosis humor\, want het moet wel leuk blijven. Of niet? Nooit eerder werden De Amazones zo persoonlijk. Ze houden zichzelf en het publiek een spiegel voor en dagen je uit je eigen positie in de wereld te bevragen. Blijf jij veilig buiten het geweld van het noodweer staan? Of durf jij je hand uit te steken? \nHet werk van De Amazones is interdisciplinair\, eigentijds en altijd muzikaal. Sinds 2021 maken zij voorstellingen\, voornamelijk musicals\, met eigen teksten en muziek. De Amazones bestaat uit Judith Boesen\, Pepijn van den Berg\, Willemijn Böcker en Ayla van Summeren. Zij kennen elkaar van de opleiding Muziektheater aan Codarts Hogeschool voor de Kunsten in Rotterdam\, waar ze tussen 2020 en 2022 zijn afgestudeerd. Maar hun activisme bij onder andere Extinction Rebellion was hetgeen wat ze echt bij elkaar bracht. \n“Voor ons is muziektheater een kunstzinnige vorm van activisme. We hebben een kritische blik op maatschappelijke thema’s. Ook willen we het musicalgenre opschudden en bijdragen aan een nieuwe generatie musicalmakers.”  \nOp zaterdag 7 december speelt de voorstelling om 20:00 in Theater Orpheus in Apeldoorn. Speciaal voor Zero Waste Apeldoorn hebben we een kortingscode van 50%. Je ontvangt de korting door de code ZEROWASTE in te vullen tijdens het bestelproces. \nInfo & Aanmelden \n\n\n7 december – 20.00 – 21.15 uur\nBij Theater & Concert Orpheus Churchillplein 1\, 7314 BZ Apeldoorn. \nBekijk de trailer: \n\n\n\n*Deze activiteit is een musical van De Amazones\, te zien bij Theater Orpheus op 7 december. 
URL:https://zerowasteapeldoorn.nl/agenda/in-het-oog-van-de-orkaan/
LOCATION:Theater en congres Orpheus\, Churchillplein\, 1\, Apeldoorn\, 7314 BZ
CATEGORIES:Meet up,Verbinden
ATTACH;FMTTYPE=image/png:https://zerowasteapeldoorn.nl/wp-content/uploads/2024/12/In-het-oog-van-de-orkaan.png
END:VEVENT
BEGIN:VEVENT
DTSTART;TZID=Europe/Amsterdam:20241213T183000
DTEND;TZID=Europe/Amsterdam:20241213T223000
DTSTAMP:20260423T061243
CREATED:20240723T094248Z
LAST-MODIFIED:20241204T100449Z
UID:7197-1734114600-1734129000@zerowasteapeldoorn.nl
SUMMARY:Puzzelavond in Apeldoorn (december)
DESCRIPTION:Maandelijkse Puzzelavond in Apeldoorn \nWat: Een gezellige avond vol puzzelplezier en leuke gesprekken!\nWaar: Energiepunt\, Paslaan 1 (naast de fietstenstalling)\nWanneer: Meestal op de eerste vrijdag van de maand (met af en toe een uitzondering!)\nTijd: Inloop vanaf 18.30 uur\, start om 19.00 uur tot ongeveer 22.30 uur\nKosten: Gratis (maar aanmelden is verplicht!) \nHoud je van puzzelen\, een goed gesprek en een gezellige sfeer? Kom dan naar de Puzzelavond! Ruil puzzels met anderen (zonder dat je portemonnee open hoeft)\, ontdek nieuwe uitdagingen en breng een ontspannen avond door met gelijkgestemden. De setting is intiem en ontspannen\, perfect om de tijd te vergeten en je creativiteit te laten stromen. \nWe leggen samen uitdagende puzzels\, zoals een Wasgij of een Jan van Haasteren\, maar ook rustgevende plaatjes. Of je nu een doorgewinterde puzzelaar bent of gewoon zin hebt in een gezellige avond\, iedereen is welkom! Tussendoor wordt er volop gekletst\, gelachen\, en wie weet wordt er zelfs een dansje gewaagd. \nLet op: Er is plaats voor 12 deelnemers. Vol = vol\, dus meld je snel aan! \nWaarom je dit niet wilt missen: \n\nJe geeft oude puzzels een tweede leven door te ruilen.\nJe ontmoet nieuwe mensen met een passie voor puzzelen.\nEen unieke combinatie van ontspanning\, gezelligheid én milieubewustzijn.\nEn ja\, het is helemaal gratis!\n\nZin om mee te doen? Meld je snel aan en verzeker jezelf van een plekje! \n  
URL:https://zerowasteapeldoorn.nl/agenda/puzzelavond-december-2024/
LOCATION:Energiepunt\, Paslaan 1\, Apeldoorn\, Nederland
CATEGORIES:Circulariteit,Ruilbeurs,Verbinden
ATTACH;FMTTYPE=image/png:https://zerowasteapeldoorn.nl/wp-content/uploads/2024/11/Kers-puzzelavond-1.png
END:VEVENT
BEGIN:VEVENT
DTSTART;TZID=Europe/Amsterdam:20241215T100000
DTEND;TZID=Europe/Amsterdam:20241215T120000
DTSTAMP:20260423T061243
CREATED:20240220T124306Z
LAST-MODIFIED:20241205T150713Z
UID:558-1734256800-1734264000@zerowasteapeldoorn.nl
SUMMARY:Ploggen op zondag
DESCRIPTION:Doe mee met de maandelijkse Plogrun van Zero Waste Apeldoorn!  \nWat: Actief en afvalvrij hardlopen (of wandelen 😉)\nWanneer: (Meestal) Iedere tweede zondag van de maand\, van 10:00 tot 12:00 uur\nWaar: Elke maand een nieuwe locatie in of rondom Apeldoorn\nVoor wie: Iedereen die houdt van een schone omgeving en beweging! \nWat is ploggen? 🎽👟\nPloggen is dé perfecte mix van sporten en iets goeds doen voor het milieu. Terwijl je hardloopt of wandelt\, raap je zwerfafval op. Goed voor je gezondheid én voor de planeet—a true win-win! Of je nu een fanatieke hardloper bent of liever rustig wandelt\, iedereen kan meedoen. \nWaarom meedoen? 💪♻️ \n\nJe helpt Apeldoorn schoner en mooier te maken.\nJe krijgt een complete workout: denk aan squats\, lunges en het dragen van plogtassen.\nJe ontmoet een gezellige groep gelijkgestemden die houden van actie én impact.\nHet is geschikt voor alle niveaus: van beginners tot geoefende hardlopers.\n\nHoe gaat het in z’n werk?\nDe routes zijn meestal 4-6 km en de snelheid ligt laag (ongeveer 3 km/u) door alle stops om afval te rapen. Wij zorgen voor alles wat je nodig hebt: handschoenen\, hesjes\, plogtassen en afvalzakken. \nMeld je aan!\nWil je meedoen? Stuur een mail naar info@zerowasteapeldoorn.nl en sluit je aan bij onze WhatsApp-groep voor updates over locaties en meer. \nSamen maken we Apeldoorn schoner\, één stap en één stuk afval tegelijk. Tot snel bij de volgende Plogrun! 🏃‍♂️ \nDeze activiteit wordt door Heel Apeldoorn is Rein (Gemeente Apeldoorn) gefaciliteerd.
URL:https://zerowasteapeldoorn.nl/agenda/ploggen-op-zondag-december/
CATEGORIES:Opruimen,Zwerfafval
ATTACH;FMTTYPE=image/png:https://zerowasteapeldoorn.nl/wp-content/uploads/2024/11/Kerstplog-2023.png
END:VEVENT
BEGIN:VEVENT
DTSTART;TZID=Europe/Amsterdam:20241221T090000
DTEND;TZID=Europe/Amsterdam:20241221T120000
DTSTAMP:20260423T061243
CREATED:20241121T210343Z
LAST-MODIFIED:20241204T100455Z
UID:10430-1734771600-1734782400@zerowasteapeldoorn.nl
SUMMARY:Maandelijkse Plandeldag in heel Apeldoorn
DESCRIPTION:Doe mee met de Maandelijkse Plandeldag in Apeldoorn! ♻️🚶‍♂️✨ \nWat: Samen Apeldoorn schoner maken tijdens een gezellige wandeling\nWanneer: Iedere derde zaterdag van de maand\, in de ochtend\nWaar: 12 vaste locaties verspreid over de stad (en in Loenen!)\nVoor wie: Iedereen die een schone omgeving belangrijk vindt \nWat is de Plandeldag?\nTijdens de Maandelijkse Plandeldag trekken we met kleine groepen vrijwilligers de wijken\, parken en straten in om zwerfafval op te ruimen. Het is dé kans om op een ontspannen manier een positieve impact te maken en nieuwe mensen te ontmoeten. Of je nu een buurtbewoner bent\, jong of oud\, iedereen kan meedoen! \nHoe werkt het? \n\nJe sluit je aan bij één van de 12 vaste locaties.\nWij zorgen voor alle benodigde materialen\, zoals grijpers\, handschoenen en afvalzakken. Alles om veilig en efficiënt aan de slag te gaan!\nNa afloop heb je niet alleen een schonere buurt\, maar ook een voldaan gevoel en misschien zelfs een nieuwe vriend of buur leren kennen.\n\nHoe doe je mee? \n\nMeld je aan via info@zerowasteapeldoorn.nl.\nOf kom spontaan naar het verzamelpunt van een locatie op de dag zelf!\n\nWaar kun je aansluiten?\nHier zijn de verzamelpunten en tijden: \n\nBrummelhof (Oost): 10.00-12.00 uur – Ons Honk (Zuid Doet Samen)\, Sperwerlaan 18\nBrummelhof (West): 09.00-11.00 uur – naast de parkeerplaats Wissellaan / Wagenstraat\nCentrum: 10.00-12.00 uur – Youngster\, Prins Willem-Alexanderlaan 201B\nOrden: 10.00-12.00 uur – Orca\, Germanenlaan 360\nMatenpark: 10.00-12.00 uur – Kinderboerderij de Maten\, Pallietergaarde 25\nMheenpark: 10.30-12.00 uur – Don Bosco\, Sluisoordlaan 200\nSprengenpark: 10.00-12.00 uur – Sprengenhonk\, Wolweg 35c\nWestenenkerpark: 09.30-11.00 uur – Theehuis Westenenkerpark\, Zilverweg 32\nWoudhuis/Osseveld: 10.00-12.00 uur – Afwisselend\, zie sociale media voor updates\nZuidbroek: 10.30-12.00 uur – Vuurvlinder 24\nZuiderpark: 10.00-12.00 uur – Buurthuis Maasstraat\, Maasstraat 4\nZwitsal terrein: 10.00-12.00 uur – Foenix kringloopwinkel\, Vlijtseweg 136\n\nLoenen ook actief!\nIn Loenen kun je aansluiten bij het opruimteam! Verzamelpunt: De Brink\, van 10.00-12.00 uur\, met koffie na afloop. \nBekijk de plattegrond van de opruimlocaties of lees meer over de Plandeldag via deze link \nSamen houden we Apeldoorn en Loenen schoon en mooi. Doe je mee? ♻️
URL:https://zerowasteapeldoorn.nl/agenda/maandelijkse-plandeldag-in-heel-apeldoorn-december-2024/
LOCATION:Apeldoorn
CATEGORIES:Natuur & biodiversiteit,Opruimen,Zwerfafval
ATTACH;FMTTYPE=image/png:https://zerowasteapeldoorn.nl/wp-content/uploads/2024/11/Winterse-Plandeldag-1.png
END:VEVENT
END:VCALENDAR