BEGIN:VCALENDAR
VERSION:2.0
PRODID:-//Zero Waste Apeldoorn - ECPv6.15.20//NONSGML v1.0//EN
CALSCALE:GREGORIAN
METHOD:PUBLISH
X-ORIGINAL-URL:https://zerowasteapeldoorn.nl
X-WR-CALDESC:Evenementen voor Zero Waste Apeldoorn
REFRESH-INTERVAL;VALUE=DURATION:PT1H
X-Robots-Tag:noindex
X-PUBLISHED-TTL:PT1H
BEGIN:VTIMEZONE
TZID:Europe/Amsterdam
BEGIN:DAYLIGHT
TZOFFSETFROM:+0100
TZOFFSETTO:+0200
TZNAME:CEST
DTSTART:20230326T010000
END:DAYLIGHT
BEGIN:STANDARD
TZOFFSETFROM:+0200
TZOFFSETTO:+0100
TZNAME:CET
DTSTART:20231029T010000
END:STANDARD
BEGIN:DAYLIGHT
TZOFFSETFROM:+0100
TZOFFSETTO:+0200
TZNAME:CEST
DTSTART:20240331T010000
END:DAYLIGHT
BEGIN:STANDARD
TZOFFSETFROM:+0200
TZOFFSETTO:+0100
TZNAME:CET
DTSTART:20241027T010000
END:STANDARD
BEGIN:DAYLIGHT
TZOFFSETFROM:+0100
TZOFFSETTO:+0200
TZNAME:CEST
DTSTART:20250330T010000
END:DAYLIGHT
BEGIN:STANDARD
TZOFFSETFROM:+0200
TZOFFSETTO:+0100
TZNAME:CET
DTSTART:20251026T010000
END:STANDARD
END:VTIMEZONE
BEGIN:VEVENT
DTSTART;TZID=Europe/Amsterdam:20240705T170000
DTEND;TZID=Europe/Amsterdam:20240705T190000
DTSTAMP:20260426T001930
CREATED:20240604T113905Z
LAST-MODIFIED:20240625T212100Z
UID:4789-1720198800-1720206000@zerowasteapeldoorn.nl
SUMMARY:Speeddate Energiecoach | Sprengenbos - DeA*
DESCRIPTION:Kom langs\, deel je duurzame ervaringen met je buren. Misschien kun je iets vertellen over het isoleren van je woning\, heb je je tuin vergroend of heb je iets anders vindingrijks bedacht. \nMaak kennis met de werkgroep Groene Buur; een groep buurtbewoners die regelmatig samenkomen bij deA. Tijden deze momenten worden er ervaringen uitgewisseld en activiteiten -zoals deze!- bedacht voor jouw buurt. \nIn een speeddate met de energiecoach kun je je vragen stellen over bijvoorbeeld isoleren\, ventileren of een warmtepomp. De energiecoach van DeA denkt met je mee en geeft passend advies. Je kunt ook meteen een afspraak maken voor bij je thuis (huur en koop). \nWil je meer weten? Bezoek dan je buurtpagina. \nLocatie: Grasveld aan de Smaragdstraat \n__________________________________________\nDeze activiteit is door DeA georganiseerd.
URL:https://zerowasteapeldoorn.nl/agenda/speeddate-energiecoach-sprengenbos-dea/
CATEGORIES:Energie,Informatie,Meet up
ATTACH;FMTTYPE=image/jpeg:https://zerowasteapeldoorn.nl/wp-content/uploads/2024/06/Header-deA-Sprengebos-5-juli.jpg
END:VEVENT
BEGIN:VEVENT
DTSTART;TZID=Europe/Amsterdam:20240705T183000
DTEND;TZID=Europe/Amsterdam:20240705T223000
DTSTAMP:20260426T001930
CREATED:20240603T181155Z
LAST-MODIFIED:20240603T181155Z
UID:4744-1720204200-1720218600@zerowasteapeldoorn.nl
SUMMARY:Puzzelavond in Apeldoorn (juli)
DESCRIPTION:De puzzelavond is een informatieve en sociale activiteit. Naast dat de deelnemers op deze avond puzzels met elkaar kunnen ruilen met een gesloten portemonnee en\, vanzelfsprekend\, met elkaar in gesprek gaan over duurzaamheidsthema’s\, leent de setting (kleine ruimte\, beperkte groep\, en in de avond)\, zich ervoor om op een relaxte manier en in alle vertrouwen met elkaar te tijd door te brengen. Er wordt op deze avonden uiteraard veel gepuzzeld\, maar ook uitbundig gekletst\, gezongen en soms zelfs gedanst!  \nOp de Puzzelavond gaan we in groepjes van max. 5 personen puzzels van 1000 stukjes in elkaar leggen: een wasgij of een Jan van Haasteren (of een soortgelijke) puzzel en een puzzel met een ‘rustiger’ plaatje. \nAanvang: 18.30 uur tot 19.00 uur\nDe puzzelavond duur tot ong. 22.30 uur \nDeelname aan de Puzzelavond is gratis.\nVooraf aanmelden is vereist.\nEr is plek voor 12 deelnemers. VOL = VOL
URL:https://zerowasteapeldoorn.nl/agenda/puzzelavond-juli/
LOCATION:Energiepunt\, Paslaan 1\, Apeldoorn\, Nederland
CATEGORIES:Circulariteit,Ruilbeurs,Verbinden
ATTACH;FMTTYPE=image/jpeg:https://zerowasteapeldoorn.nl/wp-content/uploads/2024/02/puzzelavond-maart.jpeg
END:VEVENT
BEGIN:VEVENT
DTSTART;TZID=Europe/Amsterdam:20240706T140000
DTEND;TZID=Europe/Amsterdam:20240706T160000
DTSTAMP:20260426T001930
CREATED:20240515T094413Z
LAST-MODIFIED:20240515T113000Z
UID:4054-1720274400-1720281600@zerowasteapeldoorn.nl
SUMMARY:PeukMeuk actiedag in Apeldoorn
DESCRIPTION:Doe mee met de 6e Plastic PeukMeuk actie op zaterdag 6 juli 2024\, met Zero Waste Apeldoorn 🚬🗑️\nWist je dat…\n\n… 90% van een sigaret uit cellulose acetaat bestaat\, een vorm van plastic\, dat niet biologisch afbreekbaar is?\n… het 12 tot 15 jaar duurt voordat een peuk lijkt te zijn opgelost\, en dat het dan nog bestaat uit kleine deeltjes die niet met het blote oog zichtbaar zijn?\n… één sigaret 8 liter water vervuilt omdat het meer dan 3000 giftige stoffen bevat?\n\nDaarom gaan we in het kader van de landelijke PeukMeuk actiedag op zaterdag 6 juli zoveel mogelijk sigarettenfilters opruimen in de stad.\nHelp je dit jaar ook mee? \nIedereen is welkom om een handje mee te helpen! Ook voor een uurtje of even een paar minuten.\nJe kunt helpen met flyers (#informatie) en zakasbakjes (#preventie) uit te delen\, of je kunt peuken gaan oprapen (#opruimactie). \nTijd & Locatie\nWe verzamelen op het Stationsplein om 14:00 uur.\nAan het einde van de grote peuken opruimactie\, rond 16:00 uur\, verzamelen we bij het Raadhuisplein om het aantal opgeraapte peuken grof te tellen en om te laten zien hoe vervuilend dit is voor de stad. \nDuizenden sigarettenfilters\nIn 2019 en 2020\, werden er tijdens de PeukMeuk Actiedag zo’n 15.000 peuken opgeruimd binnen 2 uur. In 2022 waren dat er ongeveer 19.000 en in 2021 werd het record verbroken met 23.000 peuken 😱 Voorlichting geven én opruimen is dus hard nodig! \nWereldwijd\nKun je niet in Apeldoorn zijn op 6 juli? 😜 Geen paniek! De Peukmeuk dag is inmiddels een landelijk (zelfs een internationaal) gebeuren geworden! 🤩 > Check op de website van Het Plastic Peuken Collectief of een opruimactie in jouw stad wordt georganiseerd\nSamen maken we het de GROOTSTE wereldwijde peuken cleanup ooit. \nLees hier alles over Plastic PeukMeuk 2023\, een groot landelijk én internationaal succes! \n  
URL:https://zerowasteapeldoorn.nl/agenda/peukmeuk-actiedag-in-apeldoorn/
LOCATION:stationsplein\, Stationsplein 1\, Apeldoorn\, 7311 NZ\, Nederland
CATEGORIES:Zwerfafval
ATTACH;FMTTYPE=image/jpeg:https://zerowasteapeldoorn.nl/wp-content/uploads/2024/05/Peukmeuk-actiedag.jpg
END:VEVENT
BEGIN:VEVENT
DTSTART;TZID=Europe/Amsterdam:20240709T190000
DTEND;TZID=Europe/Amsterdam:20240709T210000
DTSTAMP:20260426T001930
CREATED:20240708T141129Z
LAST-MODIFIED:20240708T141129Z
UID:6711-1720551600-1720558800@zerowasteapeldoorn.nl
SUMMARY:DeA - Rondje groene buur door Wenum-Wiesel
DESCRIPTION:Doe je mee een rondje Wenum-Wiesel op de fiets met DeA?\nOp dinsdagavond 9 juli fietsen we langs bij buurtgenoten die laten zien wat zij doen of gedaan hebben in huis of tuin. Gezellig en interessant!\n\nWel graag even aanmelden!\nWe starten om 19.00. Op de maandag ervoor mailen we je de laatste informatie met het startpunt van dit rondje. \nDaarna fietsen we langs enkele adressen in Wenum-Wiesel. Buurtgenoten vertellen wat zijn in en om hun huis hebben gedaan\, of aan het doen zijn. Zoals: \nMerel Woolderink en Jan Hoppe\nEen gedeelte van het huis van Jan en Merel is meer dan honderd jaar oud en direct op zand gebouwd. In de afgelopen jaren hebben ze de vloer vervangen en geisoleerd. En vloerverwarming aangelegd. Ook hebben ze zonnepanelen.\nOp dit moment zijn ze bezig met het vervangen van glas. We zijn welkom om een kijkje te nemen en te horen hoe ze het aanpakten. \nHerenboeren\nDeze collectieve boerderij heeft een zonnedak gelegd. Op een slimme manier: ze gebruiken de energie wanneer ze die opwekken. Daardoor hebben ze ook geen problemen met netcongestie. We gaan bij hen langs en kijken hoe ze dat gerealiseerd hebben. \nChris van der Lande\nChris heeft zijn huis van buitenaf gesoleerd. Momenteel is hij bezig met de aanleg een nieuw warmtesysteem: het zwembad in de tuin wordt de buffer voor de warmtepomp. We zijn welkom om te kijken naar de stand van zaken en hoe Chris het aanpakt. \nMeld je aan!\n 
URL:https://zerowasteapeldoorn.nl/agenda/dea-rondje-groene-buur-door-wenum-wiesel/
CATEGORIES:Energie,Informatie,Natuur & biodiversiteit
END:VEVENT
BEGIN:VEVENT
DTSTART;TZID=Europe/Amsterdam:20240709T193000
DTEND;TZID=Europe/Amsterdam:20240709T220000
DTSTAMP:20260426T001930
CREATED:20240708T144145Z
LAST-MODIFIED:20240708T144145Z
UID:6733-1720553400-1720562400@zerowasteapeldoorn.nl
SUMMARY:Moestuinieren voor beginners - Tuinwinkel De Boshommel
DESCRIPTION:Tuinwinkel De Boshommel organiseert de workshop: Moestuinieren voor beginners\nDroom jij van boontjes\, wortels en sla uit eigen tuin\, maar weet je niet waar je moet beginnen? Meld je dan snel aan voor de workshop ‘Moestuinieren voor beginners!’ In deze 2\,5 uur durende workshop neemt Câthy je mee in de basisprincipes van het telen van je eigen groente en fruit. Ook middenin de zomer kun nog hiermee starten! Niet alles kun je meer zaaien\, maar toch zeker nog genoeg! En dat kan al op 1 vierkante meter\, dus ja dat kan ook in een kleine tuin en zelfs op een balkon. Je leert over de juiste plek voor je moestuin\, over de bodem\, hoe je op de juiste manier zaait en hoe je voor bestuiving zorgt. \n\n\n\n\nEr is per avond plek voor maximaal 8 personen. \nKosten: 35 euro per persoon\, inclusief  een drankje en wat lekkers én 10% korting op zaden en moestuinbenodigdheden \n\n\n\n\n\n\n\n\nAanmelden en Contact
URL:https://zerowasteapeldoorn.nl/agenda/moestuinieren-voor-beginners-tuinwinkel-de-boshommel/
LOCATION:Tuinwinkel de Boshommel\, Asselsestraat 24\, Apeldoorn\, 7311 EL
CATEGORIES:Informatie,Natuur & biodiversiteit,Workshop
ATTACH;FMTTYPE=image/jpeg:https://zerowasteapeldoorn.nl/wp-content/uploads/2024/04/Zaailingen-Ruildag-Boshommel-3.jpg
END:VEVENT
BEGIN:VEVENT
DTSTART;TZID=Europe/Amsterdam:20240714T100000
DTEND;TZID=Europe/Amsterdam:20240714T120000
DTSTAMP:20260426T001930
CREATED:20240220T124122Z
LAST-MODIFIED:20240704T163706Z
UID:546-1720951200-1720958400@zerowasteapeldoorn.nl
SUMMARY:Ploggen op zondag - Zomerse Plogrun & SUP clean-up
DESCRIPTION:Voor de zomerstop in augustus\, gaan de ploggers op 14 juli nog een keer actief aan de slag om zwerfvuil te ruimen\, met een combi-clean up LANGS en OP het Apeldoorns Kanaal!\n———————————- \nPloggen met het Zero Waste Apeldoorn Plogging team \nPloggen is een trend uit Scandinavië. Kortgezegd komt het er op neer dat je hardlopen combineert met het oprapen van zwerfafval\, zodat je niet alleen goed bezig bent voor je gezondheid\, maar ook voor het milieu. Win-win dus. \n–Wanneer: Iedere 2e zondag van de maand. Vanaf 10:00 uur tot 12:00 uur.\n–Waar: elke keer op een andere locatie binnen of net buiten de bebouwde kom.\n–Wie kan meedoen? Ploggen met het Apeldoorns Plogging team is voor alle conditieniveaus geschikt\, van beginner tot goed getrainde hardloper. Omdat we vaak voor plogging routes binnen of net buiten de bebouwde kom kiezen is de route meestal een kilometer of 4-6 en de gemiddelde hardloop snelheid na 2 uur is zeer laag (3 km/u). Echter is het wel een complete workout met intervalletjes\,vele lunges/squats\, en sjouwen met plog tassen in de hand!\nWe zorgen voor materialen als werkhandschoenen\, hesjes\, “plogtassen” & afvalzakken\, om zwerfvuil op een veilige manier op te ruimen.\nDeze activiteit wordt door Heel Apeldoorn is Rein  (Gemeente Apeldoorn) gefaciliteerd. \n–Hoe kun je meedoen? Sluit je aan onze whatsapp groep voor meer info\, door een mail te sturen naar info@zerowasteapeldoorn.nl
URL:https://zerowasteapeldoorn.nl/agenda/ploggen-op-zondag-juli/
LOCATION:SUP School Apeldoorn\, Kanaal Noord 99\, Apeldoorn\, 7311 MK\, Nederland
CATEGORIES:Opruimen,Zwerfafval
ATTACH;FMTTYPE=image/jpeg:https://zerowasteapeldoorn.nl/wp-content/uploads/2024/02/plog-sup-cleanups.jpg
END:VEVENT
BEGIN:VEVENT
DTSTART;TZID=Europe/Amsterdam:20240720T090000
DTEND;TZID=Europe/Amsterdam:20240720T120000
DTSTAMP:20260426T001930
CREATED:20240220T092346Z
LAST-MODIFIED:20240718T124332Z
UID:481-1721466000-1721476800@zerowasteapeldoorn.nl
SUMMARY:Maandelijkse Plandeldag in heel Apeldoorn
DESCRIPTION:DOE MEE!\nMaandelijkse Plandeldag in Apeldoorn \nIedere derde zaterdag van de maand\, in de ochtend\, gaan tot wel 12 groepen vrijwilligers op pad\, verspreid over de hele stad\, om zwerfvuil op te ruimen\, tijdens een rustige wandeling in de wijk of in de parken. \nVoor elke opruimlocatie kunnen we 10-15 vrijwilligers van materialen voorzien waarmee het zwerfafval op een veilige manier kan worden verzameld. De opruimacties worden gefaciliteerd door ‘Heel Apeldoorn is Rein‘ (Gemeente Apeldoorn).\nOm mee te doen met de Maandelijkse Plandeldag kun je een mail sturen naar info@zerowasteapeldoorn.nl of gewoon je spontaan aanmelden bij het verzamelpunt van één van de opruimlocaties op een opruimdag\n \nHier is een overzicht van alle locaties en opruimtijden: \n\n\n~ Brummelhof (Oost): 10.00-12 uur – Verzamelpunt: Ons Honk (Zuid Doet Samen)\, Sperwerlaan 18\n~ Brummelhof (West): 9-11 uur / Verzamelpunt: naast de parkeerplaats Wissellaan / Wagenstraat\n~ Centrum: 10-12 uur / Verzamelpunt: Youngster ( Prins Willem-Alexanderlaan 201B)\n~ Orden: 10-12 uur / Verzamelpunt: Orca (Germanenlaan 360)\n~ Matenpark: 10-12 uur / Verzamelpunt: Kinderboerderij de Maten ( Pallietergaarde 25)\n~ Mheenpark: 10.30-12 uur / Verzamelpunt: Don Bosco (Sluisoordlaan 200) (Zomerpauze: Juli & Augustus)\n~ Sprengenpark: LET OP: Alleen op 20 juli 09-11 uur / Verzamelpunt: Sprengenhonk\, (Wolweg 35c)\n~ Westenenkerpark: 9.30-11 uur / Verzamelpunt: Theehuis Westenenkerpark\, Zilverweg 32\n~ Woudhuis/Osseveld: 10-12 uur / Verzamelpunt is afwisselend: Woudhuis\, Osseveld-Oost\, Osseveld-West -> Volg Denktank Breed op Facebook + DTB nieuwsbrief voor meer informatie (Zomerpauze: Juli)\n~ Zuidbroek: 10:30 -12 uur / Verzamelpunt: Vuurvlinder 24\n~ Zuiderpark: 10-12 uur / Verzamelpunt: Buurthuis Maasstraat (Maasstraat 4)\n~ Zwitsal terrein: 10-12 uur / Verzamelpunt: Foenix kringloopwinkel (Vlijtseweg 136) \nZie alle opruimlocaties hieronder één voor één voorgesteld. \n\n\n\n\nBekijk de plattegrond met de 12 vaste opruimlocaties van de Maandelijkse Plandeldag in Apeldoorn\, en sluit je aan bij een opruimactie in je buurt! \n\n\n\n\nLOENEN\nOok in Loenen is een opruimteam elke maand actief! Iedere 3e zaterdag van de maand: 10-12 uur (+kofie na afloop) / Verzamelpunt: De Brink \n\n\nZie voor alle informatie: Maandelijkse Plandeldag
URL:https://zerowasteapeldoorn.nl/agenda/maandelijkse-plandeldag-in-heel-apeldoorn-juli/
CATEGORIES:Opruimen,Zwerfafval
ATTACH;FMTTYPE=image/jpeg:https://zerowasteapeldoorn.nl/wp-content/uploads/2024/02/Maandelijkse-Plandeldag-banner.jpg
END:VEVENT
BEGIN:VEVENT
DTSTART;TZID=Europe/Amsterdam:20240724T193000
DTEND;TZID=Europe/Amsterdam:20240724T220000
DTSTAMP:20260426T001930
CREATED:20240708T144942Z
LAST-MODIFIED:20240708T145006Z
UID:6739-1721849400-1721858400@zerowasteapeldoorn.nl
SUMMARY:Workshop 'Zo krijg je een tuin vol natuur' - Tuinwinkel De Boshommel
DESCRIPTION:Tuinwinkel De Boshommel organiseert de workshop: ‘Zo krijg je een tuin vol natuur’\n\n\n\n\nIn deze 2\,5 uur durende workshop neemt Câthy je mee in de wereld van biodiversiteit in je tuin. Want wat is biodiversiteit en waarom is het belangrijk? En hoe zorg jij met jouw tuin voor een fijne plek voor vogels\, egels\, bijen\, vlinders en andere insecten? En hoe blijft het een fijne plek voor jou? Hoe onderhoud je een biodiverse tuin? \nNa alle informatie krijg je de tijd om je eigen tuin eens kritisch te bekijken. Welke elementen kun je toevoegen voor extra biodiversiteit? Aan het einde van de workshop kun je direct aan de slag om extra biodiversiteit toe te voegen aan je tuin! \nEr is per avond plek voor maximaal 8 personen \nKosten: 30 euro per persoon\, inclusief een drankje en wat lekkers \n\n\n\n\n\n\n\n\nAanmelden en Contact
URL:https://zerowasteapeldoorn.nl/agenda/workshop-een-tuin-vol-natuur-juli/
LOCATION:Tuinwinkel de Boshommel\, Asselsestraat 24\, Apeldoorn\, 7311 EL
CATEGORIES:Informatie,Natuur & biodiversiteit,Workshop
ATTACH;FMTTYPE=image/jpeg:https://zerowasteapeldoorn.nl/wp-content/uploads/2024/04/Zaailingen-Ruildag-Boshommel-3.jpg
END:VEVENT
END:VCALENDAR