BEGIN:VCALENDAR
VERSION:2.0
PRODID:-//Zero Waste Apeldoorn - ECPv6.15.20//NONSGML v1.0//EN
CALSCALE:GREGORIAN
METHOD:PUBLISH
X-ORIGINAL-URL:https://zerowasteapeldoorn.nl
X-WR-CALDESC:Evenementen voor Zero Waste Apeldoorn
REFRESH-INTERVAL;VALUE=DURATION:PT1H
X-Robots-Tag:noindex
X-PUBLISHED-TTL:PT1H
BEGIN:VTIMEZONE
TZID:Europe/Amsterdam
BEGIN:DAYLIGHT
TZOFFSETFROM:+0100
TZOFFSETTO:+0200
TZNAME:CEST
DTSTART:20240331T010000
END:DAYLIGHT
BEGIN:STANDARD
TZOFFSETFROM:+0200
TZOFFSETTO:+0100
TZNAME:CET
DTSTART:20241027T010000
END:STANDARD
BEGIN:DAYLIGHT
TZOFFSETFROM:+0100
TZOFFSETTO:+0200
TZNAME:CEST
DTSTART:20250330T010000
END:DAYLIGHT
BEGIN:STANDARD
TZOFFSETFROM:+0200
TZOFFSETTO:+0100
TZNAME:CET
DTSTART:20251026T010000
END:STANDARD
BEGIN:DAYLIGHT
TZOFFSETFROM:+0100
TZOFFSETTO:+0200
TZNAME:CEST
DTSTART:20260329T010000
END:DAYLIGHT
BEGIN:STANDARD
TZOFFSETFROM:+0200
TZOFFSETTO:+0100
TZNAME:CET
DTSTART:20261025T010000
END:STANDARD
END:VTIMEZONE
BEGIN:VEVENT
DTSTART;VALUE=DATE:20250310
DTEND;VALUE=DATE:20250315
DTSTAMP:20260423T000237
CREATED:20250220T122248Z
LAST-MODIFIED:20250220T122248Z
UID:12384-1741564800-1741996799@zerowasteapeldoorn.nl
SUMMARY:Week van Apeldoorn Schoon 2025*
DESCRIPTION:Opruimacties voor & door scholen\nElk jaar organiseert de gemeente een opruimactie voor basisscholen.\nTijdens de Week van Apeldoorn Schoon gaan honderden leerlingen op pad om zwerfafval op te ruimen in de schoolomgeving en krijgen ze informatie over het belang van zwerfafval opruimen en voorkomen.\nDit jaar is dat van 10 t/m 14 maart 2025.\nVoor meer informatie kun je een mail sturen naar rein@apeldoorn.nl. \n——————————-\n*Dit evenement is georganiseerd door: Heel Apeldoorn is Rein (Gemeente Apeldoorn)
URL:https://zerowasteapeldoorn.nl/agenda/week-van-apeldoorn-schoon-2025/
CATEGORIES:Zwerfafval
ORGANIZER;CN="Heel Apeldoorn is Rein":MAILTO:rein@apeldoorn.nl
END:VEVENT
END:VCALENDAR