BEGIN:VCALENDAR
VERSION:2.0
PRODID:-//Zero Waste Apeldoorn - ECPv6.15.20//NONSGML v1.0//EN
CALSCALE:GREGORIAN
METHOD:PUBLISH
X-WR-CALNAME:Zero Waste Apeldoorn
X-ORIGINAL-URL:https://zerowasteapeldoorn.nl
X-WR-CALDESC:Evenementen voor Zero Waste Apeldoorn
REFRESH-INTERVAL;VALUE=DURATION:PT1H
X-Robots-Tag:noindex
X-PUBLISHED-TTL:PT1H
BEGIN:VTIMEZONE
TZID:Europe/Amsterdam
BEGIN:DAYLIGHT
TZOFFSETFROM:+0100
TZOFFSETTO:+0200
TZNAME:CEST
DTSTART:20230326T010000
END:DAYLIGHT
BEGIN:STANDARD
TZOFFSETFROM:+0200
TZOFFSETTO:+0100
TZNAME:CET
DTSTART:20231029T010000
END:STANDARD
BEGIN:DAYLIGHT
TZOFFSETFROM:+0100
TZOFFSETTO:+0200
TZNAME:CEST
DTSTART:20240331T010000
END:DAYLIGHT
BEGIN:STANDARD
TZOFFSETFROM:+0200
TZOFFSETTO:+0100
TZNAME:CET
DTSTART:20241027T010000
END:STANDARD
BEGIN:DAYLIGHT
TZOFFSETFROM:+0100
TZOFFSETTO:+0200
TZNAME:CEST
DTSTART:20250330T010000
END:DAYLIGHT
BEGIN:STANDARD
TZOFFSETFROM:+0200
TZOFFSETTO:+0100
TZNAME:CET
DTSTART:20251026T010000
END:STANDARD
END:VTIMEZONE
BEGIN:VEVENT
DTSTART;VALUE=DATE:20241103
DTEND;VALUE=DATE:20241110
DTSTAMP:20260420T062907
CREATED:20241002T133121Z
LAST-MODIFIED:20241024T100345Z
UID:8910-1730592000-1731196799@zerowasteapeldoorn.nl
SUMMARY:Zero Waste Winter Week Apeldoorn
DESCRIPTION:Van zondag 3 november tot en met zaterdag 9 november organiseren wij in samenwerking met lokale organisaties en de fijnste impact makers\, de Zero Waste Winter Week. De tweede editie van twee Zero Waste Weken in 2024! \nThemaweek\nTijdens deze themaweek waarin verspillingsvrij en afvalvrij leven centraal staan\, laten wij inwoners van de gemeente Apeldoorn kennis maken met duurzame initiatieven\, activiteiten en organisaties in onze gemeente. \nHet thema: Stijlvol & Slim: Betaalbare Feestdagen met een Groene Twist \n5 R’en\nDoor het organiseren van allerlei activiteiten verspreid door de week en door de stad\, voor jong en oud\, laten we zien hoe je in kleine stapjes een positieve impact kan maken in je dagelijkse leven. De bekende 5 R’en van een zero waste leefstijl zijn daarbij het uitgangspunt: Refuse (weiger)\, Reduce (verminder)\, Reuse (hergebruik)\, Recycle en Rot (composteer). \n\n\n\n\n“De eerste grote stap naar verandering is het nemen van de eerste kleine stap.” \n\nOp onze website en socials geven we je tijdens de Zero Waste Winter Week praktische tips en handvatten om van de dure decembermaand\, een duurzame en betaalbare maand te maken. Daarnaast staan er tijdens de hele week activiteiten op de planning. Bekijk het hele programma en meld je aan! \n\n 
URL:https://zerowasteapeldoorn.nl/agenda/zero-waste-winter-week/
CATEGORIES:Circulariteit,Energie,Eten & drinken,Informatie,Markt,Natuur & biodiversiteit,Opruimen,Repareren,Rondleiding,Ruilbeurs,Slow fashion,Verbinden,Workshop,Zero Waste Week,Zwerfafval
ATTACH;FMTTYPE=image/png:https://zerowasteapeldoorn.nl/wp-content/uploads/2024/09/Zero-Waste-Winter-Week.png
END:VEVENT
BEGIN:VEVENT
DTSTART;TZID=Europe/Amsterdam:20241106T103000
DTEND;TZID=Europe/Amsterdam:20241106T110000
DTSTAMP:20260420T062907
CREATED:20241009T192737Z
LAST-MODIFIED:20241015T192624Z
UID:9112-1730889000-1730890800@zerowasteapeldoorn.nl
SUMMARY:BoekStart Inloop tijdens de Zero Waste Week - CODA
DESCRIPTION:BoekStart Inloop: het gezelligste voorleeshalfuurtje voor jou en je kindje (0-4 jaar) in CODA\nJong geleerd is oud gedaan! Tijdens de BoekStart op 6 november besteedt Tom aandacht aan de Zero Waste week. Hij leest voor uit een prentenboek over afval en leert kinderen op een speelse manier meer over afval scheiden \nOver BoekStart in CODA \nIn de speciale BoekStart-hoek in CODA geniet je samen met je kindje(s) van leuke en grappige voorleesverhaaltjes\, voorgelezen door een voorleesexpert van CODA. Luister\, geniet\, doe mee en snuffel na afloop nog even heerlijk tussen de prentenboeken. Heb je een vraag\, wil je advies of voorleestips? Stel ze gerust; de medewerkers van CODA beantwoorden ze graag. Je kunt natuurlijk ook voorleesideeën en boekentips met andere ouders/verzorgers uitwisselen. \nDe toegang is gratis en aanmelden is niet nodig; we zien jullie graag – ook als je (nog) geen lid bent van de bibliotheek. Werk je bij een peuterspeelzaal of kinderdagverblijf of ben je gastouder en wil je langskomen? Leuk! Jullie zijn van harte welkom. \nZie voor meer informatie over BoekStart: https://www.coda-apeldoorn.nl/nl/bibliotheek/boekstart
URL:https://zerowasteapeldoorn.nl/agenda/coda-boekstart-zero-waste-week/
LOCATION:CODA\, Vosselmanstraat 299\, Apeldoorn\, 7311CL\, Nederland
CATEGORIES:Informatie,Natuur & biodiversiteit,Verbinden,Zero Waste Week,Zwerfafval
ATTACH;FMTTYPE=image/png:https://zerowasteapeldoorn.nl/wp-content/uploads/2024/10/BoekStart-in-CODA.png
END:VEVENT
BEGIN:VEVENT
DTSTART;TZID=Europe/Amsterdam:20241110T100000
DTEND;TZID=Europe/Amsterdam:20241110T120000
DTSTAMP:20260420T062907
CREATED:20240220T124228Z
LAST-MODIFIED:20240420T201107Z
UID:555-1731232800-1731240000@zerowasteapeldoorn.nl
SUMMARY:Ploggen op zondag
DESCRIPTION:Ploggen met het Zero Waste Apeldoorn Plogging team \nPloggen is de nieuwste trend uit Scandinavië. Kortgezegd komt het er op neer dat je hardlopen combineert met het oprapen van zwerfafval\, zodat je niet alleen goed bezig bent voor je gezondheid\, maar ook voor het milieu. Win-win dus. \n–Wanneer: Iedere 2e zondag van de maand. Vanaf 10 uur tot 12 uur.\n–Waar: elke keer op een andere locatie binnen of net buiten de bebouwde kom.\n–Wie kan meedoen? Ploggen met het Apeldoorns Plogging team is voor alle conditieniveaus geschikt\, van beginner tot goed getrainde hardloper. Omdat we vaak voor plogging routes binnen of net buiten de bebouwde kom kiezen is de route meestal een kilometer of 4-6 en de gemiddelde hardloop snelheid na 2 uur is zeer laag (3 km/u). Echter is het wel een complete workout met intervalletjes\,vele lunges/squats\, en sjouwen met plog tassen in de hand!\nWe zorgen voor materialen als werkhandschoenen\, hesjes\, “plogtassen” & afvalzakken\, om zwerfvuil op een veilige manier op te ruimen.\nDeze activiteit wordt door Heel Apeldoorn is Rein (Gemeente Apeldoorn) gefaciliteerd. \n–Hoe kun je meedoen? Sluit je aan onze whatsapp groep voor meer info\, door een mail te sturen naar info@zerowasteapeldoorn.nl \nOpruim data 2024:\n14 januari\, 11 februari\, 10 maart\, 14 april\, 12 mei\, 9 juni\, 14 juli\, (augustus: zomerpauze)\, 08 september\, 13 oktober\, 10 november\, 08 december.
URL:https://zerowasteapeldoorn.nl/agenda/ploggen-op-zondag-november/
CATEGORIES:Opruimen,Zwerfafval
ATTACH;FMTTYPE=image/jpeg:https://zerowasteapeldoorn.nl/wp-content/uploads/2024/02/Ploggen-Op-Zondag.jpg
END:VEVENT
BEGIN:VEVENT
DTSTART;TZID=Europe/Amsterdam:20241111T080000
DTEND;TZID=Europe/Amsterdam:20241115T180000
DTSTAMP:20260420T062907
CREATED:20241023T184934Z
LAST-MODIFIED:20241023T184934Z
UID:9756-1731312000-1731693600@zerowasteapeldoorn.nl
SUMMARY:Zero Waste Wandeltour - Ga zelf op pad!
DESCRIPTION:Volg je eigen Zero Waste Wandeltour met onze handige Klimaatroute (Binnenstad)\nVolg de ‘klimaatroute’ van Zero Waste Apeldoorn en leer hoe je duurzame(re) keuzes en duurzame boodschappen kunt doen in de Apeldoornse binnenstad. Van winkels waar je zelf je eigen verpakkingen mee kunt nemen\, tot kledingreparatie en een biologische markt\, de route telt 20 knooppunten en tientallen informatieve en praktische tips! \nLeuk om zelf mee op pad te gaan!
URL:https://zerowasteapeldoorn.nl/agenda/klimaatroute/
LOCATION:Stadhuis Apeldoorn\, Marktplein 1\, Apeldoorn
CATEGORIES:Circulariteit,Energie,Eten & drinken,Informatie,Klimaatweek,Markt,Natuur & biodiversiteit,Repareren,Slow fashion,Verbinden,Zwerfafval
ATTACH;FMTTYPE=image/jpeg:https://zerowasteapeldoorn.nl/wp-content/uploads/2024/04/zero-waste-wandeltour-banner.jpg
END:VEVENT
BEGIN:VEVENT
DTSTART;TZID=Europe/Amsterdam:20241111T110000
DTEND;TZID=Europe/Amsterdam:20241115T140000
DTSTAMP:20260420T062907
CREATED:20241016T133235Z
LAST-MODIFIED:20241117T151705Z
UID:9527-1731322800-1731679200@zerowasteapeldoorn.nl
SUMMARY:Inloopspreekuur in Stadhuis Apeldoorn*
DESCRIPTION:In het kader van de Nationale Klimaatweek\, is er van maandag 11 november t/m vrijdag 15 november\, een inloopspreekuur in Stadhuis Apeldoorn (Burgerzaal). Voor al je vragen over het besparen van energie\, (verminderen van) afval en over het vergroenen van jouw tuin of balkon! (vrije inloop) \n\nMaandag 11 november: 11:00 – 14:00 uur\nDinsdag 12 november: 11:00 – 14:00 uur\nWoensdag 13 november: 11:00 – 14:00 uur\nDonderdag 14 november: 11:00 – 14:00 uur\nVrijdag 15 november: 11:00 – 14:00 uur\n\nKom langs!
URL:https://zerowasteapeldoorn.nl/agenda/inloopspreekuur-stadhuis/
LOCATION:Stadhuis Apeldoorn\, Marktplein 1\, Apeldoorn
CATEGORIES:Circulariteit,Energie,Informatie,Klimaatweek,Natuur & biodiversiteit,Repareren,Verbinden,Zwerfafval
ATTACH;FMTTYPE=image/jpeg:https://zerowasteapeldoorn.nl/wp-content/uploads/2024/09/nationale-klimaatweek-apeldoorn-foto-Rob-Voss.jpg
END:VEVENT
BEGIN:VEVENT
DTSTART;TZID=Europe/Amsterdam:20241113T103000
DTEND;TZID=Europe/Amsterdam:20241113T110000
DTSTAMP:20260420T062907
CREATED:20241009T193158Z
LAST-MODIFIED:20241117T151640Z
UID:9118-1731493800-1731495600@zerowasteapeldoorn.nl
SUMMARY:BoekStart Inloop tijdens de Klimaatweek - CODA*
DESCRIPTION:BoekStart Inloop: het gezelligste voorleeshalfuurtje voor jou en je kindje (0-4 jaar) in CODA\nVan 11 november t/m 17 november 2024 is het Nationale Klimaatweek. Daarom besteedt Tom tijdens de BoekStart Inloop ook aandacht aan het klimaat. Hij leest voor uit  een speciaal prentenboek om kinderen op een speelse manier meer te leren over het klimaat. \nOver BoekStart in CODA \nIn de speciale BoekStart-hoek in CODA geniet je samen met je kindje(s) van leuke en grappige voorleesverhaaltjes\, voorgelezen door een voorleesexpert van CODA. Luister\, geniet\, doe mee en snuffel na afloop nog even heerlijk tussen de prentenboeken. Heb je een vraag\, wil je advies of voorleestips? Stel ze gerust; de medewerkers van CODA beantwoorden ze graag. Je kunt natuurlijk ook voorleesideeën en boekentips met andere ouders/verzorgers uitwisselen. \nDe toegang is gratis en aanmelden is niet nodig; we zien jullie graag – ook als je (nog) geen lid bent van de bibliotheek. Werk je bij een peuterspeelzaal of kinderdagverblijf of ben je gastouder en wil je langskomen? Leuk! Jullie zijn van harte welkom. \nZie voor meer informatie over BoekStart: https://www.coda-apeldoorn.nl/nl/bibliotheek/boekstart
URL:https://zerowasteapeldoorn.nl/agenda/coda-boekstart-klimaatweek/
LOCATION:CODA\, Vosselmanstraat 299\, Apeldoorn\, 7311CL\, Nederland
CATEGORIES:Informatie,Klimaatweek,Natuur & biodiversiteit,Verbinden,Zwerfafval
ATTACH;FMTTYPE=image/png:https://zerowasteapeldoorn.nl/wp-content/uploads/2024/10/BoekStart-in-CODA.png
END:VEVENT
BEGIN:VEVENT
DTSTART;TZID=Europe/Amsterdam:20241115T103000
DTEND;TZID=Europe/Amsterdam:20241115T110000
DTSTAMP:20260420T062907
CREATED:20241112T185108Z
LAST-MODIFIED:20241117T151603Z
UID:10073-1731666600-1731668400@zerowasteapeldoorn.nl
SUMMARY:BoekStart Inloop tijdens de Klimaatweek - CODA*
DESCRIPTION:BoekStart Inloop: het gezelligste voorleeshalfuurtje voor jou en je kindje (0-4 jaar) in CODA\nVan 11 november t/m 17 november 2024 is het Nationale Klimaatweek. Daarom besteedt Tom tijdens de BoekStart Inloop ook aandacht aan het klimaat. Hij leest voor uit  een speciaal prentenboek om kinderen op een speelse manier meer te leren over het klimaat. \nOver BoekStart in CODA \nIn de speciale BoekStart-hoek in CODA geniet je samen met je kindje(s) van leuke en grappige voorleesverhaaltjes\, voorgelezen door een voorleesexpert van CODA. Luister\, geniet\, doe mee en snuffel na afloop nog even heerlijk tussen de prentenboeken. Heb je een vraag\, wil je advies of voorleestips? Stel ze gerust; de medewerkers van CODA beantwoorden ze graag. Je kunt natuurlijk ook voorleesideeën en boekentips met andere ouders/verzorgers uitwisselen. \nDe toegang is gratis en aanmelden is niet nodig; we zien jullie graag – ook als je (nog) geen lid bent van de bibliotheek. Werk je bij een peuterspeelzaal of kinderdagverblijf of ben je gastouder en wil je langskomen? Leuk! Jullie zijn van harte welkom. \nZie voor meer informatie over BoekStart: https://www.coda-apeldoorn.nl/nl/bibliotheek/boekstart
URL:https://zerowasteapeldoorn.nl/agenda/coda-boekstart-klimaatweek-2/
LOCATION:CODA\, Vosselmanstraat 299\, Apeldoorn\, 7311CL\, Nederland
CATEGORIES:Informatie,Klimaatweek,Natuur & biodiversiteit,Verbinden,Zwerfafval
ATTACH;FMTTYPE=image/png:https://zerowasteapeldoorn.nl/wp-content/uploads/2024/10/BoekStart-in-CODA.png
END:VEVENT
BEGIN:VEVENT
DTSTART;TZID=Europe/Amsterdam:20241116T090000
DTEND;TZID=Europe/Amsterdam:20241116T120000
DTSTAMP:20260420T062907
CREATED:20240220T092554Z
LAST-MODIFIED:20240925T201632Z
UID:493-1731747600-1731758400@zerowasteapeldoorn.nl
SUMMARY:Maandelijkse Plandeldag in heel Apeldoorn
DESCRIPTION:DOE MEE!\nMaandelijkse Plandeldag in Apeldoorn \nIedere derde zaterdag van de maand\, in de ochtend\, gaan tot wel 12 groepen vrijwilligers op pad\, verspreid over de hele stad\, om zwerfvuil op te ruimen\, tijdens een rustige wandeling in de wijk of in de parken. \nVoor elke opruimlocatie kunnen we 10-15 vrijwilligers van materialen voorzien waarmee het zwerfafval op een veilige manier kan worden verzameld. De opruimacties worden gefaciliteerd door ‘Heel Apeldoorn is Rein‘ (Gemeente Apeldoorn).\nOm mee te doen met de Maandelijkse Plandeldag kun je een mail sturen naar info@zerowasteapeldoorn.nl of gewoon je spontaan aanmelden bij het verzamelpunt van één van de opruimlocaties op een opruimdag\n \nHier is een overzicht van alle locaties en opruimtijden: \n\n\n~ Brummelhof (Oost): 10.00-12 uur – Verzamelpunt: Ons Honk (Zuid Doet Samen)\, Sperwerlaan 18\n~ Brummelhof (West): 9-11 uur / Verzamelpunt: naast de parkeerplaats Wissellaan / Wagenstraat\n~ Centrum: 10-12 uur / Verzamelpunt: Youngster ( Prins Willem-Alexanderlaan 201B)\n~ Orden: 10-12 uur / Verzamelpunt: Orca (Germanenlaan 360)\n~ Matenpark: 10-12 uur / Verzamelpunt: Kinderboerderij de Maten ( Pallietergaarde 25)\n~ Mheenpark: 10.30-12 uur / Verzamelpunt: Don Bosco (Sluisoordlaan 200)\n~ Sprengenpark: 10-12 uur / Verzamelpunt: Sprengenhonk\, (Wolweg 35c)\n~ Westenenkerpark: 9.30-11 uur / Verzamelpunt: Theehuis Westenenkerpark\, Zilverweg 32\n~ Woudhuis/Osseveld: 10-12 uur / Verzamelpunt is afwisselend: Woudhuis\, Osseveld-Oost\, Osseveld-West -> Volg Denktank Breed op Facebook + DTB nieuwsbrief voor meer informatie\n~ Zuidbroek: 10:30 -12 uur / Verzamelpunt: Vuurvlinder 24\n~ Zuiderpark: 10-12 uur / Verzamelpunt: Buurthuis Maasstraat (Maasstraat 4)\n~ Zwitsal terrein: 10-12 uur / Verzamelpunt: Foenix kringloopwinkel (Vlijtseweg 136) \nZie alle opruimlocaties hieronder één voor één voorgesteld. \n\n\n\n\nBekijk de plattegrond met de 12 vaste opruimlocaties van de Maandelijkse Plandeldag in Apeldoorn\, en sluit je aan bij een opruimactie in je buurt! \n\n\n\n\nLOENEN\nOok in Loenen is een opruimteam elke maand actief! Iedere 3e zaterdag van de maand: 10-12 uur (+kofie na afloop) / Verzamelpunt: De Brink \n\n\nZie voor alle informatie: Maandelijkse Plandeldag
URL:https://zerowasteapeldoorn.nl/agenda/maandelijkse-plandeldag-in-heel-apeldoorn-november/
CATEGORIES:Klimaatweek,Opruimen,Zwerfafval
ATTACH;FMTTYPE=image/jpeg:https://zerowasteapeldoorn.nl/wp-content/uploads/2024/02/Maandelijkse-Plandeldag-banner.jpg
END:VEVENT
END:VCALENDAR