BEGIN:VCALENDAR
VERSION:2.0
PRODID:-//Zero Waste Apeldoorn - ECPv6.15.20//NONSGML v1.0//EN
CALSCALE:GREGORIAN
METHOD:PUBLISH
X-ORIGINAL-URL:https://zerowasteapeldoorn.nl
X-WR-CALDESC:Evenementen voor Zero Waste Apeldoorn
REFRESH-INTERVAL;VALUE=DURATION:PT1H
X-Robots-Tag:noindex
X-PUBLISHED-TTL:PT1H
BEGIN:VTIMEZONE
TZID:Europe/Amsterdam
BEGIN:DAYLIGHT
TZOFFSETFROM:+0100
TZOFFSETTO:+0200
TZNAME:CEST
DTSTART:20230326T010000
END:DAYLIGHT
BEGIN:STANDARD
TZOFFSETFROM:+0200
TZOFFSETTO:+0100
TZNAME:CET
DTSTART:20231029T010000
END:STANDARD
BEGIN:DAYLIGHT
TZOFFSETFROM:+0100
TZOFFSETTO:+0200
TZNAME:CEST
DTSTART:20240331T010000
END:DAYLIGHT
BEGIN:STANDARD
TZOFFSETFROM:+0200
TZOFFSETTO:+0100
TZNAME:CET
DTSTART:20241027T010000
END:STANDARD
BEGIN:DAYLIGHT
TZOFFSETFROM:+0100
TZOFFSETTO:+0200
TZNAME:CEST
DTSTART:20250330T010000
END:DAYLIGHT
BEGIN:STANDARD
TZOFFSETFROM:+0200
TZOFFSETTO:+0100
TZNAME:CET
DTSTART:20251026T010000
END:STANDARD
END:VTIMEZONE
BEGIN:VEVENT
DTSTART;TZID=Europe/Amsterdam:20240908T100000
DTEND;TZID=Europe/Amsterdam:20240908T120000
DTSTAMP:20260421T060622
CREATED:20240220T124150Z
LAST-MODIFIED:20240831T200702Z
UID:549-1725789600-1725796800@zerowasteapeldoorn.nl
SUMMARY:Ploggen op zondag
DESCRIPTION:Ploggen met het Zero Waste Apeldoorn Plogging team \nPloggen is een trend uit Scandinavië. Kortgezegd komt het er op neer dat je hardlopen combineert met het oprapen van zwerfafval\, zodat je niet alleen goed bezig bent voor je gezondheid\, maar ook voor het milieu. Win-win dus. \n–Wanneer: Iedere 2e zondag van de maand. Vanaf 10 uur tot 12 uur.\n–Waar: elke keer op een andere locatie binnen of net buiten de bebouwde kom.\n–Wie kan meedoen? Ploggen met het Apeldoorns Plogging team is voor alle conditieniveaus geschikt\, van beginner tot goed getrainde hardloper. Omdat we vaak voor plogging routes binnen of net buiten de bebouwde kom kiezen is de route meestal een kilometer of 4-6 en de gemiddelde hardloop snelheid na 2 uur is zeer laag (3 km/u). Echter is het wel een complete workout met intervalletjes\,vele lunges/squats\, en sjouwen met plog tassen in de hand!\nWe zorgen voor materialen als werkhandschoenen\, hesjes\, “plogtassen” & afvalzakken\, om zwerfvuil op een veilige manier op te ruimen.\nDeze activiteit wordt door Heel Apeldoorn is Rein (Gemeente Apeldoorn) gefaciliteerd. \n–Hoe kun je meedoen? Sluit je aan onze whatsapp groep voor meer info\, door een mail te sturen naar info@zerowasteapeldoorn.nl
URL:https://zerowasteapeldoorn.nl/agenda/ploggen-op-zondag-september/
LOCATION:Sporthal Mheenpark\, Zilverschoon 112\, Apeldoorn
CATEGORIES:Opruimen,Zwerfafval
ATTACH;FMTTYPE=image/jpeg:https://zerowasteapeldoorn.nl/wp-content/uploads/2024/02/Ploggen-Op-Zondag.jpg
END:VEVENT
BEGIN:VEVENT
DTSTART;TZID=Europe/Amsterdam:20240921T090000
DTEND;TZID=Europe/Amsterdam:20240921T120000
DTSTAMP:20260421T060622
CREATED:20240220T092450Z
LAST-MODIFIED:20240901T153833Z
UID:487-1726909200-1726920000@zerowasteapeldoorn.nl
SUMMARY:Plandelen in Apeldoorn op World Cleanup Day
DESCRIPTION:Op zaterdag 21 september is het World Cleanup Day in Apeldoorn.\nOp deze dag worden diverse opruimacties georganiseerd en gecoördineerd door stichting Zero Waste Apeldoorn: SUP-cleanup\, Ploggen en Plandelen. \nMeld je hier aan om mee te gaan PLANDELEN. \n————————————– \nDOE MEE! World Clean up day & Maandelijkse Plandeldag in Apeldoorn!\n \nMaandelijkse Plandeldag in Apeldoorn\nIedere derde zaterdag van de maand in de ochtend\, gaan tot wel 12 groepen vrijwilligers op pad\, verspreid over de hele stad\, om zwerfvuil op te ruimen\, tijdens een rustige wandeling in de wijk of in de parken. \nVoor elke opruimlocatie kunnen we 10-15 vrijwilligers van materialen voorzien waarmee het zwerfafval op een veilige manier kan worden verzameld. De opruimacties worden gefaciliteerd door ‘Heel Apeldoorn is Rein‘ (Gemeente Apeldoorn).\nOm mee te doen met de Maandelijkse Plandeldag kun je een mail sturen naar info@zerowasteapeldoorn.nl of gewoon je spontaan aanmelden bij het verzamelpunt van één van de opruimlocaties op een opruimdag\n \nOverzicht van alle locaties en opruimtijden:\n\n\n~ Brummelhof (Oost): 10.00-12 uur – Verzamelpunt: Ons Honk (Zuid Doet Samen)\, Sperwerlaan 18\n~ Brummelhof (West): 9-11 uur / Verzamelpunt: naast de parkeerplaats Wissellaan / Wagenstraat\n~ Centrum: 10-12 uur / Verzamelpunt: Youngster ( Prins Willem-Alexanderlaan 201B)\n~ Orden: 10-12 uur / Verzamelpunt: Orca (Germanenlaan 360)\n~ Matenpark: 10-12 uur / Verzamelpunt: Kinderboerderij de Maten ( Pallietergaarde 25)\n~ Mheenpark: 10.30-12 uur / Verzamelpunt: Don Bosco (Sluisoordlaan 200)\n~ Sprengenpark: 10-12 uur / Verzamelpunt: Sprengenhonk\, (Wolweg 35c)\n~ Westenenkerpark: 9.30-11 uur / Verzamelpunt: Theehuis Westenenkerpark\, Zilverweg 32\n~ Woudhuis/Osseveld: 10-12 uur / Verzamelpunt is afwisselend: Woudhuis\, Osseveld-Oost\, Osseveld-West -> Volg Denktank Breed op Facebook + DTB nieuwsbrief voor meer informatie\n~ Zuidbroek: 10:30 -12 uur / Verzamelpunt: Vuurvlinder 24\n~ Zuiderpark: 10-12 uur / Verzamelpunt: Buurthuis Maasstraat (Maasstraat 4)\n~ Zwitsal terrein: 10-12 uur / Verzamelpunt: Foenix kringloopwinkel (Vlijtseweg 136) \nZie alle opruimlocaties hieronder één voor één voorgesteld. \n\n\n\n\nBekijk de plattegrond met de 12 vaste opruimlocaties van de Maandelijkse Plandeldag in Apeldoorn\, en sluit je aan bij een opruimactie in je buurt! \n\n\n\n\nLoenen\nOok in Loenen is een opruimteam elke maand actief! Iedere 3e zaterdag van de maand: 10-12 uur (+kofie na afloop) / Verzamelpunt: De Brink \n\n\nZie voor alle informatie: Maandelijkse Plandeldag
URL:https://zerowasteapeldoorn.nl/agenda/maandelijkse-plandeldag-in-heel-apeldoorn-september/
CATEGORIES:Opruimen,Zwerfafval
ATTACH;FMTTYPE=image/jpeg:https://zerowasteapeldoorn.nl/wp-content/uploads/2024/02/Maandelijkse-Plandeldag-banner.jpg
END:VEVENT
BEGIN:VEVENT
DTSTART;TZID=Europe/Amsterdam:20240921T090000
DTEND;TZID=Europe/Amsterdam:20240921T120000
DTSTAMP:20260421T060622
CREATED:20240818T143002Z
LAST-MODIFIED:20240901T163114Z
UID:7411-1726909200-1726920000@zerowasteapeldoorn.nl
SUMMARY:SUP-Cleanup op World Cleanup Day
DESCRIPTION:Op zaterdag 21 september is het World Cleanup Day in Apeldoorn.\nOp deze dag worden diverse opruimacties georganiseerd en gecoördineerd door stichting Zero Waste Apeldoorn: SUP-Cleanup\, Ploggen en Plandelen. \nMeld je hier aan voor de SUP-Cleanup. \n———————- \nSUP-Cleanup met SUP School Apeldoorn & Zero Waste Apeldoorn op het Apeldoorns Kanaal: \nHet water in het Apeldoorns Kanaal valt onder het schoonste water van Nederland. SUPschool Apeldoorn draagt hier mede bij door met regelmaat schoonmaakacties op het kanaal te houden. Vanaf je SUP board haal je troep uit het water: troep-SUPpen dus!  \nOp zaterdag 21 september\, in het kader van World Cleanup Day 2024\, kun je het water op voor een SUP Cleanup!\nWil jij ook deelnemen? Meld je gauw aan en reserveer hiernaast je gratis ticket. \nWij verzamelen om 09:00 uur bij Kanaal Noord 99\, naast Café de Oude Haven. De opruimactie duurt tot 12:00 uur waarna we aansluitend zullen genieten van een heerlijk (vega) hapje en een drankje. \n\nPraktische informatie:\n-SUP instructies: nog nooit op een SUP board gestaan? Geen probleem! De opruimactie start met een korte instructie waarna deelnemers het water op gaan.\n-Materiaal: board\, peddel\, grijper\, hesje\, vuilniszakken zijn aanwezig.\n-Heerlijk hapje na afloop.\n-Wat neem je zelf mee naar de SUP-Cleanup? Sportieve kleding die nat mag worden\, slippers\, handdoek\, zonnebrandcrème en -bril\, eventueel droge kleding.\n-Als je een wetsuit huurt kun je je omkleden in het pand en eventueel waardevolle spullen achterlaten\, de ruimte gaat op slot. \nJe mag ook op eigen SUP meedoen. Dan graag dit vooraf aangeven via de mail.\nWetsuit huren? Dat kan! Graag je maat via de mail doorgeven: info@zerowasteapeldoorn.nl \n  
URL:https://zerowasteapeldoorn.nl/agenda/suppen-op-world-cleanup-day/
LOCATION:SUP School Apeldoorn\, Kanaal Noord 99\, Apeldoorn\, 7311 MK\, Nederland
CATEGORIES:Opruimen,Zwerfafval
ATTACH;FMTTYPE=image/png:https://zerowasteapeldoorn.nl/wp-content/uploads/2024/08/SUP-cleanup-Banner.png
END:VEVENT
BEGIN:VEVENT
DTSTART;TZID=Europe/Amsterdam:20240921T100000
DTEND;TZID=Europe/Amsterdam:20240921T120000
DTSTAMP:20260421T060622
CREATED:20240818T142238Z
LAST-MODIFIED:20240901T163831Z
UID:7407-1726912800-1726920000@zerowasteapeldoorn.nl
SUMMARY:Ploggen op World Cleanup Day
DESCRIPTION:Op zaterdag 21 september is het World Cleanup Day in Apeldoorn.\nOp deze dag worden diverse opruimacties georganiseerd en gecoördineerd door stichting Zero Waste Apeldoorn: SUP-Cleanup\, Ploggen en Plandelen. \nMeld je hier aan om mee te gaan PLOGGEN. \n———————————- \nPLOGGEN langs het Apeldoorns Kanaal op World Cleanup Day 2024 \nPloggen met het Zero Waste Apeldoorn Plogging team \nPloggen is een trend uit Scandinavië. Kortgezegd komt het er op neer dat je hardlopen combineert met het oprapen van zwerfafval\, zodat je niet alleen goed bezig bent voor je gezondheid\, maar ook voor het milieu. Win-win dus. \n–Wanneer: Op zaterdag 21 september\, van 10:00 uur tot 12:00 uur.\n–Waar: Verzamelpunt is bij de SUP school Apeldoorn tussen 9:45 uur en 10:00 uur.\n–Wie kan meedoen? Ploggen met het Apeldoorns Plogging team is voor alle conditieniveaus geschikt\, van beginner tot goed getrainde hardloper. Omdat we vaak voor plogging routes binnen of net buiten de bebouwde kom kiezen is de route meestal een kilometer of 4-6 en de gemiddelde hardloop snelheid na 2 uur is zeer laag (3 km/u). Echter is het wel een complete workout met intervalletjes\,vele lunges/squats\, en sjouwen met plog tassen in de hand!\nWe zorgen voor materialen als werkhandschoenen\, hesjes\, “plogtassen” & afvalzakken\, om zwerfvuil op een veilige manier op te ruimen.\nDeze activiteit wordt door Heel Apeldoorn is Rein  (Gemeente Apeldoorn) gefaciliteerd. \n–Hoe kun je meedoen? Meld je aan via dit event en sluit je aan onze whatsapp groep voor meer info\, door een mail te sturen naar info@zerowasteapeldoorn.nl
URL:https://zerowasteapeldoorn.nl/agenda/ploggen-op-world-cleanup-day/
LOCATION:SUP School Apeldoorn\, Kanaal Noord 99\, Apeldoorn\, 7311 MK\, Nederland
CATEGORIES:Opruimen,Zwerfafval
ATTACH;FMTTYPE=image/jpeg:https://zerowasteapeldoorn.nl/wp-content/uploads/2024/02/Ploggen-Op-Zondag.jpg
END:VEVENT
BEGIN:VEVENT
DTSTART;TZID=Europe/Amsterdam:20240921T103000
DTEND;TZID=Europe/Amsterdam:20240921T160000
DTSTAMP:20260421T060622
CREATED:20240904T175201Z
LAST-MODIFIED:20240913T111004Z
UID:7807-1726914600-1726934400@zerowasteapeldoorn.nl
SUMMARY:Duurzame Doelen - Actiedag 2024 (Gelre Regio Partners)
DESCRIPTION:Nationale Actie week 2024 – Duurzame Ontwikkelingsdoelen (SDGʼs)\nApeldoorn op de kaart \n  \nJulianakerk\, Deventerstraat 91\, Apeldoorn\n– gratis toegang \n  \nProgramma zaterdagochtend 21 September \n  \n10:30 – 12:30 uur\, inloop vanaf 10:00 uur – Stadsgenoot & Wereldburger\nDe Democratie is in beweging\, nationale identiteit en grenzen\, de nadruk op ik en de ander markeren de tijdgeest. Onze opgave is ons zelf begrenzen. Ruimte maken en geven voor vernieuwing. Uit zorg voor de aarde\, natuur\, mensen en dieren. Respect\, wederzijds belang\, pro-actief en wederkerig samenwerken zijn waardevolle bouwstenen hiervoor. Op 21 september zijn we bij elkaar om daarmee te werken. In gesprek over duurzame werelddoelen\, (internationale) samenwerking\, nationale\, regionale en lokale acties.\nGastsprekers: Esmah Lahlah\, lid Tweede Kamer fractie GroenLinks – PvdA\, Rens de Boer\, VOLT Nederland\, Maaike Moulijn\, Fractievoorzitter Partij voor de Dieren Apeldoorn en Hans van Gerrevink\, Fractie vertegenwoordiger CDA-fractie\nApeldoorn.\nMuzikale omlijsting Oya Ergün\, sopraano\, solo -opera\, uit Engeland.\nDagvoorzitter: Sipan Kelani\n10:30 uur Oya Ergün zingt ‘Inclusieve Natuur’\n10:40 uur Esmah Lahlah\n10:55 uur Rens de Boer\n11:10 uur Maaike Moulijn\n11:25 uur Hans van Gerrevink\,\n11:40 – 12:20 uur vragen & antwoorden\n12:20 Oya Ergün zingt ‘Inclusieve Natuur’ \n  \n12:30 – 13:00 uur Lunch voor overblijvers ochtend \n  \nProgramma zaterdag middag 21 September \n  \n13:30 – 16:30 uur\, inloop vanaf 13:00 uur ʻGroene Kerken & de Zorg voor Morgenʼ\nGroeneKerken is het duurzame platform voor kerken waarvan\, sinds de start in 2012\, al meer dan 350 geloofsgemeenschappen deel zijn geworden. Het doel: actief aan de slag met duurzaamheid\, sociale rechtvaardigheid en het vergroenen van de eigen gemeenschap. Een gezamenlijk initiatief van Kerk in Actie en Maatschappij van Welstand. \n  \nMilieuplatform Zorgsector\, branche vereniging in de zorg\, nam in 2015 het initiatief voor de 1e Green Deal Zorg. Green Deal 3.0 heeft als doel de sector groener maken\, zodat de zorg ook op langere termijn goed is voor de mens en de aarde. Dus niet leidt tot gezondheidsklachten of extra vervuiling. Meer dan 300 bedrijven en instellingen in de zorg en daarbuiten hebben zich aangesloten. \n  \nGastsprekers: Radboud Universiteit\, Laudato Si\, Miranda Versteeg\,\nJachtlaankerk en Hans Segaar\, De Drie Ranken\, Lineke Maat\, Vrijwilligers – Mantelzorg organisatie De Kap.\nMuzikale omlijsting Projectkoor o.l.v. Chris Stellaard\nDagvoorzitter: Teun Wolters \n  \n13:30 uur Projectkoor\n13:40 uur Introductie ‘Laudato SiʼEncycliek van 24 mei 2015\, door Paus Franciscus\, in aanloop naar Klimaatakkoord van Parijs 12 december 2015. Over milieu – en klimaatproblemen. Een indringende oproep aan de mensheid tot ecologische bekering\, zorg voor planeet aarde\, ons gemeenschappelijk huis\, voor huidige en komende generaties.\n14:10 uur De Zorg voor Morgen Door personeelstekort en toename van zorgvragen – en zwaarte is zorg –\nassistentie vanuit de samenleving nodig. Zorg instellingen staan onder druk\, mantelzorgers worden overvraagd. De dialoog hierover van overheid\, burgers\, maatschappelijke – zorg organisaties en bedrijfsleven is noodzakelijk\n14:35 uur De GroeneKerk Informatie over het doel en de praktijk van GroeneKerk zijn.\n15:00 uur Projectkoor \n15:10 – 16:00 uur Panel ʻWat kunnen GroeneKerken en Zorginstellingen voor -en met elkaar\, voor de samenleving betekenen.’\nMet Leo Looman\, vice – voorzitter Franciscus Parochie\, Bert Blauw\, bestuurder woon – zorg instelling KleinGeluk\, Miranda Versteeg\, Jachtlaankerk\, Hans Segaar\, De Drie Ranken\, Gertrudeke van der Maas\, diaconaal ondernemer en Marian Heezen\, adviseur duurzame ontwikkeling. \n  \n16:00 uur Nazit \n  \n*SDGʼs\nVN – Agenda 2015 – 2030 met 17 Duurzame Ontwikkelingsdoelen (SDGʼs) is hetgezamenlijke verander-en aanpassings besluit van alle 193 landen – leden van de Verenigde Naties over de wereldwijde opgaven. Een nieuw tijdperk. \n  \nOrganisatie: SDG – werkgroep Gelre RegioPartners\, Gönül Hettema – Fidan\, Malou Koldenhof\, Arjin Jans\, Teun Wolters\, Dick Gorter\, Henk Janssen\, Simon Boon \n\n\n\n\n\n\n\n\n\nwww.worldproef.nl\n\n\n\n​
URL:https://zerowasteapeldoorn.nl/agenda/duurzame-doelen-actiedag-2024-gelre-regio-partners/
LOCATION:Julianakerk\, Deventerstraat 91\, Apeldoorn\, 7322 JL
CATEGORIES:Informatie,Meet up,Verbinden,Zwerfafval
ATTACH;FMTTYPE=image/png:https://zerowasteapeldoorn.nl/wp-content/uploads/2024/09/SDG-actiedagen-2024.png
END:VEVENT
BEGIN:VEVENT
DTSTART;TZID=Europe/Amsterdam:20240928T133000
DTEND;TZID=Europe/Amsterdam:20240928T153000
DTSTAMP:20260421T060622
CREATED:20240826T085158Z
LAST-MODIFIED:20240826T085158Z
UID:7509-1727530200-1727537400@zerowasteapeldoorn.nl
SUMMARY:Cleanup in Malkenschoten*
DESCRIPTION:Zaterdag 28 September gaat er weer een nieuwe clean-up van start! Wederom georganiseerd door het Partij voor de Dieren netwerk Apeldoorn.\n\nVerzamelpunt: Omstreeks 13:30 uur word je verwacht bij Aquacentrum Malkenschoten gelegen aan de Dubbelbeek 56\, 7333 NJ Te Apeldoorn. Op het terrein is voldoende plek om je fiets of auto te stallen. \nDe opruimactie zal om 13:45 uur van start gaan en om 15:15 uur gaan we afronden.\n\nMaterialen\nHet netwerk heeft voor zes personen opruim materiaal beschikbaar (grijper\, afvalzak\, ring om de zak open te houden). Wil je handschoenen dragen tijdens het afval rapen? Neem deze dan zelf mee.\nBeschik je niet over eigen opruim materiaal? En wil je die wel graag? Geen paniek! Je kan je eigen grijper ophalen bij de Receptie op Post Zuid\, Aruba 4 te Apeldoorn. Dit kan kan van maandag t/m donderdag van 7:30-15:30.\n\nAanmelden\nMensen die beschikken over een eigen grijper kunnen zich zonder aanmelding bij ons aansluiten. Houd er dan wel rekening mee dat wij jou niet kunnen bereiken als de Clean Up wegens omstandigheden niet door kan gaan.\nDaarom is aanmelden wel handig. We gaan er uiteraard vanuit dat alles gewoon doorgaat en er geen problemen zullen ontstaan. Aan het einde van de Clean Up spelen we nog een spel Afvalbingo. Wil je graag meedoen en bijdragen aan een schoner Apeldoorn? Stuur dan een mailtje naar: apeldoorn@partijvoordedieren.nl \n\n\nWij zien uit naar jullie komst! \n\n\n*Dit evenement wordt door Partij voor de Dieren Apeldoorn georganiseerd.
URL:https://zerowasteapeldoorn.nl/agenda/cleanup-malkenschoten/
LOCATION:Malkenschoten\, Dubbelbeek 56\, Apeldoorn\, 7333 NJ
CATEGORIES:Opruimen,Zwerfafval
ATTACH;FMTTYPE=image/jpeg:https://zerowasteapeldoorn.nl/wp-content/uploads/2024/08/cleanup-31-aug.jpg
END:VEVENT
END:VCALENDAR