BEGIN:VCALENDAR
VERSION:2.0
PRODID:-//Zero Waste Apeldoorn - ECPv6.15.20//NONSGML v1.0//EN
CALSCALE:GREGORIAN
METHOD:PUBLISH
X-ORIGINAL-URL:https://zerowasteapeldoorn.nl
X-WR-CALDESC:Evenementen voor Zero Waste Apeldoorn
REFRESH-INTERVAL;VALUE=DURATION:PT1H
X-Robots-Tag:noindex
X-PUBLISHED-TTL:PT1H
BEGIN:VTIMEZONE
TZID:Europe/Amsterdam
BEGIN:DAYLIGHT
TZOFFSETFROM:+0100
TZOFFSETTO:+0200
TZNAME:CEST
DTSTART:20230326T010000
END:DAYLIGHT
BEGIN:STANDARD
TZOFFSETFROM:+0200
TZOFFSETTO:+0100
TZNAME:CET
DTSTART:20231029T010000
END:STANDARD
BEGIN:DAYLIGHT
TZOFFSETFROM:+0100
TZOFFSETTO:+0200
TZNAME:CEST
DTSTART:20240331T010000
END:DAYLIGHT
BEGIN:STANDARD
TZOFFSETFROM:+0200
TZOFFSETTO:+0100
TZNAME:CET
DTSTART:20241027T010000
END:STANDARD
BEGIN:DAYLIGHT
TZOFFSETFROM:+0100
TZOFFSETTO:+0200
TZNAME:CEST
DTSTART:20250330T010000
END:DAYLIGHT
BEGIN:STANDARD
TZOFFSETFROM:+0200
TZOFFSETTO:+0100
TZNAME:CET
DTSTART:20251026T010000
END:STANDARD
END:VTIMEZONE
BEGIN:VEVENT
DTSTART;VALUE=DATE:20241103
DTEND;VALUE=DATE:20241110
DTSTAMP:20260420T090203
CREATED:20241002T133121Z
LAST-MODIFIED:20241024T100345Z
UID:8910-1730592000-1731196799@zerowasteapeldoorn.nl
SUMMARY:Zero Waste Winter Week Apeldoorn
DESCRIPTION:Van zondag 3 november tot en met zaterdag 9 november organiseren wij in samenwerking met lokale organisaties en de fijnste impact makers\, de Zero Waste Winter Week. De tweede editie van twee Zero Waste Weken in 2024! \nThemaweek\nTijdens deze themaweek waarin verspillingsvrij en afvalvrij leven centraal staan\, laten wij inwoners van de gemeente Apeldoorn kennis maken met duurzame initiatieven\, activiteiten en organisaties in onze gemeente. \nHet thema: Stijlvol & Slim: Betaalbare Feestdagen met een Groene Twist \n5 R’en\nDoor het organiseren van allerlei activiteiten verspreid door de week en door de stad\, voor jong en oud\, laten we zien hoe je in kleine stapjes een positieve impact kan maken in je dagelijkse leven. De bekende 5 R’en van een zero waste leefstijl zijn daarbij het uitgangspunt: Refuse (weiger)\, Reduce (verminder)\, Reuse (hergebruik)\, Recycle en Rot (composteer). \n\n\n\n\n“De eerste grote stap naar verandering is het nemen van de eerste kleine stap.” \n\nOp onze website en socials geven we je tijdens de Zero Waste Winter Week praktische tips en handvatten om van de dure decembermaand\, een duurzame en betaalbare maand te maken. Daarnaast staan er tijdens de hele week activiteiten op de planning. Bekijk het hele programma en meld je aan! \n\n 
URL:https://zerowasteapeldoorn.nl/agenda/zero-waste-winter-week/
CATEGORIES:Circulariteit,Energie,Eten & drinken,Informatie,Markt,Natuur & biodiversiteit,Opruimen,Repareren,Rondleiding,Ruilbeurs,Slow fashion,Verbinden,Workshop,Zero Waste Week,Zwerfafval
ATTACH;FMTTYPE=image/png:https://zerowasteapeldoorn.nl/wp-content/uploads/2024/09/Zero-Waste-Winter-Week.png
END:VEVENT
BEGIN:VEVENT
DTSTART;TZID=Europe/Amsterdam:20241103T100000
DTEND;TZID=Europe/Amsterdam:20241109T170000
DTSTAMP:20260420T090203
CREATED:20241002T130601Z
LAST-MODIFIED:20241023T121751Z
UID:8907-1730628000-1731171600@zerowasteapeldoorn.nl
SUMMARY:Expositie [Af]Breekbaar
DESCRIPTION:Expositie | Showroom CODA |Van 29 september 2024 t/m 09 februari 2025 \nZie voor meer informatie: https://www.coda-apeldoorn.nl/nl/agenda/af-breekbaar \nDe expositie [Af]breekbaar laat het urgente belang zien om efficiënter om te gaan met grondstoffen en hun toepassingen. Materialen worden steeds schaarser en het milieu is fragiel. CODA ExperienceLab nodigt je in de Showroom bij CODA Museum uit om de mogelijkheden van afbreekbare en composteerbare (bouw)materialen te ontdekken. Ook wordt met de expositie onderzocht welke concessies ontwerpers doen in hun streven naar duurzamer maken en werken. De deelnemende ontwerpers en initiatieven zijn pioniers in het experimenteren met materialiteit\, toepassingen en design. Zij bevragen de rol en verantwoordelijkheid van kunstenaars\, ontwerpers en vormgevers in deze context. CODA ExperienceLab presenteert aansluitend een selectie van biodesignprojecten uit haar Makerspace en makerscommunity die de grenzen van duurzaam design verkennen. \nDuurzaamheid staat centraal in CODA ExperienceLab. We richten ons onder andere op het recyclen van plastic en textiel\, waarbij we samen met onze bezoekers zoveel mogelijk materialen hergebruiken en tegelijkertijd onderzoek doen naar alternatieve en duurzame oplossingen. In het BiodesignLab\, onderdeel van de Makerspace van CODA ExperienceLab\, verkennen we samen met bezoekers de mogelijkheden van natuurlijke materialen\, circulariteit en een zero waste-samenleving. CODA hanteert het principe ‘one person’s trash is another person’s treasure’ en moedigt mensen aan om bewust naar hun eigen verbruik te kijken en te ontdekken welke (rest)materialen uit afval kunnen worden hergebruikt. \n[Af]breekbaar toont werkt van Basse Stittgen\, Esther Kaya Stögerer & Jannis Kempkens en Nature Building Project. \nBeeld: Nature Building Kit Company New Heroes\, © Quint-Verschuren
URL:https://zerowasteapeldoorn.nl/agenda/expositie-afbreekbaar/
LOCATION:CODA\, Vosselmanstraat 299\, Apeldoorn\, 7311CL\, Nederland
CATEGORIES:Circulariteit,Zero Waste Week
ATTACH;FMTTYPE=image/png:https://zerowasteapeldoorn.nl/wp-content/uploads/2024/09/Afbreekbaar-meetup.png
END:VEVENT
BEGIN:VEVENT
DTSTART;TZID=Europe/Amsterdam:20241108T110000
DTEND;TZID=Europe/Amsterdam:20241108T150000
DTSTAMP:20260420T090203
CREATED:20241025T104515Z
LAST-MODIFIED:20241025T104812Z
UID:9806-1731063600-1731078000@zerowasteapeldoorn.nl
SUMMARY:Kom een tas pimpen bij Terre des Hommes Apeldoorn
DESCRIPTION:Kom een tas pimpen bij Terre des Hommes Apeldoorn!\nMaak je klaar voor een creatieve middag tijdens de Zero Waste Winter Week! Op vrijdag 8 november\, van 11.00 tot 15.00 uur\, ben je van harte welkom bij Terre des Hommes Apeldoorn\, aan het Schubertplein 28\, om jouw eigen unieke tas te pimpen. Geen stress over een starttijd – je kunt op elk moment aanschuiven en aan de slag gaan. \nVoor slechts €5 kies je een tas\, gemaakt door vrijwilligers van Terre des Hommes met gerecyclede stoffen uit de winkel. Al het materiaal om je tas te versieren wordt gratis beschikbaar gesteld\, zodat je jouw creativiteit de vrije loop kunt laten. Van borduurwerk tot applicaties\, je pimpt de tas met de hand. Liever met de naaimachine aan de slag? Neem dan gerust je eigen machine mee! \nGoed voor jou en goed voor het goede doel\nDe opbrengst van deze activiteit gaat volledig naar de projecten van Terre des Hommes Nederland. Zo maak je niet alleen van jouw tas een feestje\, maar draag je ook bij aan een betere wereld. \nWil je zeker zijn van een plekje? Schrijf je dan in de winkel in of bel naar 055-2049009.
URL:https://zerowasteapeldoorn.nl/agenda/tas-pimpen-terre-des-hommes/
LOCATION:Terre des Hommes\, Schubertplein 28\, Apeldoorn\, 7333 CV\, Netherlands
CATEGORIES:Circulariteit,Workshop,Zero Waste Week
ATTACH;FMTTYPE=image/png:https://zerowasteapeldoorn.nl/wp-content/uploads/2024/10/Workshop-Upcycle-boodschappen-tas.png
END:VEVENT
BEGIN:VEVENT
DTSTART;TZID=Europe/Amsterdam:20241108T140000
DTEND;TZID=Europe/Amsterdam:20241108T160000
DTSTAMP:20260420T090203
CREATED:20240929T152209Z
LAST-MODIFIED:20241001T075911Z
UID:8770-1731074400-1731081600@zerowasteapeldoorn.nl
SUMMARY:Inloopworkshop: Plastic- en Papiervrij Cadeaus Inpakken bij Dille & Kamille
DESCRIPTION:Leer hoe je cadeaus stijlvol én duurzaam inpakt\, zonder plastic of papier\, tijdens de Zero Waste Winter Week! \nVijf jaar geleden ontdekten wij de magie van de ‘furoshiki’\, en sindsdien zijn we fan! Deze eenvoudige\, stijlvolle en milieuvriendelijke inpakmethode zorgt ervoor dat je nooit meer terug wilt naar wegwerppapier en plakband. Maar wat is een furoshiki eigenlijk? \n Wat is een Furoshiki?\nHet klinkt misschien als een nieuwe soort sushi\, maar een furoshiki is een traditionele Japanse inpakdoek die al honderden jaren wordt gebruikt. Met slechts een vierkant stuk stof en wat slimme vouw- en knooptechnieken kun je cadeaus\, kleding of alledaagse voorwerpen op een stijlvolle en duurzame manier inpakken – helemaal zonder papier\, plakband of plastic lintjes! \nPerfectionneer je furoshiki inpaktalenten bij Dille en Kamille!\nOp vrijdag 8 november\, van 14.00 uur tot 16.00 uur\, staan de lokale helden van stichting Zero Waste Apeldoorn bij Dille & Kamille aan de Hoofdstraat om je te laten zien hoe je eenvoudig\, plasticvrij én papiervrij je cadeaus kunt inpakken met een furoshiki. Iedereen – jong en oud – kan meedoen! Tijdens de inloopworkshop kun je zelf verschillende inpakmethodes uitproberen en oefenen. \nDe materialen\nVoor deze workshop worden de furoshiki’s en versiering door Dille & Kamille beschikbaar gesteld\, zodat je meteen kunt oefenen met de mooiste doeken. Wil je na de workshop thuis verder gaan? De leukste duurzame cadeaus én inpakdoeken (zoals handige theedoeken en gedroogde bloemen!) vind je in de winkel\, zodat je helemaal klaar bent voor een groene Sinterkerst! \nVier mee met Dille & Kamille\nDeze workshop is een cadeautje van Dille & Kamille ter ere van hun 2-jarig bestaan in Apeldoorn én van stichting Zero Waste Apeldoorn als onderdeel van de Zero Waste Winter Week. Samen maken we de feestdagen stijlvol\, duurzaam en betaalbaar! \n Creatief\, Duurzaam & Betaalbaar\nHet leuke aan furoshiki is dat je je creativiteit de vrije loop kunt laten. Zo kun je ook zelf je furoshiki maken van reststoffen of goedkope sjaaltjes uit de kringloop. Wil je een stap verder gaan? Leer zelf stoffen verven met natuurlijke materialen tijdens de speciale Furoshiki & Shibori workshop op 16 november bij CODA!
URL:https://zerowasteapeldoorn.nl/agenda/plasticvrij-cadeaus-inpakken/
LOCATION:Dille & Kamille\, Hoofdstraat 136\, Apeldoorn
CATEGORIES:Natuur & biodiversiteit,Workshop,Zero Waste Week
ATTACH;FMTTYPE=image/png:https://zerowasteapeldoorn.nl/wp-content/uploads/2024/09/Workshop-furoshiki-Dille-en-Kamille.png
END:VEVENT
BEGIN:VEVENT
DTSTART;TZID=Europe/Amsterdam:20241108T163000
DTEND;TZID=Europe/Amsterdam:20241108T180000
DTSTAMP:20260420T090203
CREATED:20240924T194127Z
LAST-MODIFIED:20241029T174345Z
UID:8624-1731083400-1731088800@zerowasteapeldoorn.nl
SUMMARY:[Af]breekbaar meetup: alles over biodesign - CODA
DESCRIPTION:Bijeenkomst en activiteiten | ExperienceLab & Daktuin | Volwassenen | Gratis (online aanmelden) \nKom meer te weten over circulaire\, duurzame en composteerbare materialen. Aan de hand van activiteiten tijdens deze meetup\, praten we over de duurzame grondstoffen van de toekomst en de mogelijkheden en toepassingen ervan. \nTijdens een rondleiding door de expositie [Af]breekbaar in de Showroom van CODA ExperienceLab\, een wandeling op CODA Daktuin en met het ervaren van de materialen in de ExperienceLab Makerspace kom je van alles te weten over de kansen\, kwetsbaarheid en complexiteit van circulaire materialen. Gedurende de avond is er ruimte voor het delen van kennis. \nOnline aanmelden \n 
URL:https://zerowasteapeldoorn.nl/agenda/afbreekbaar-meetup/
LOCATION:CODA\, Vosselmanstraat 299\, Apeldoorn\, 7311CL\, Nederland
CATEGORIES:Circulariteit,Informatie,Meet up,Zero Waste Week
ATTACH;FMTTYPE=image/png:https://zerowasteapeldoorn.nl/wp-content/uploads/2024/09/Meetup-Afbreekbaar.png
END:VEVENT
BEGIN:VEVENT
DTSTART;TZID=Europe/Amsterdam:20241108T183000
DTEND;TZID=Europe/Amsterdam:20241108T210000
DTSTAMP:20260420T090203
CREATED:20241002T193603Z
LAST-MODIFIED:20241103T211704Z
UID:8934-1731090600-1731099600@zerowasteapeldoorn.nl
SUMMARY:Swap Sint: Speelgoedruilbeurs
DESCRIPTION:Dit evenement is (bijna) volgeboekt – Wil je graag op de wachtlijst\, stuur ons een mailtje! info@zerowasteapeldoorn.nl \nSwap Sint: Speelgoedruilbeurs – Geef speelgoed een tweede leven!\nBen je klaar om jouw speelgoedkast op te ruimen én de kinderen blij te maken met nieuwe aanwinsten zonder extra kosten? Kom naar de Swap Sint Speelgoedruilbeurs en ruil “oud” voor nieuw! 🌍🎁🧸 \nWaarom meedoen?\nTweedehands is de nieuwe eerste keus! Steeds meer mensen kiezen preloved speelgoed\, niet alleen om geld te besparen\, maar ook om het milieu een handje te helpen. Door speelgoed te ruilen\, verminder je de vraag naar nieuwe producten\, bespaar je grondstoffen en verlaag je de CO₂-uitstoot van productie en transport. Het is dé duurzame keuze voor een bewuste feestmaand! \nHoe werkt het?\nAls je speelgoed inlevert krijg je waardepunten waarvoor je ander speelgoed kunt uitkiezen.\nGraag de spelregels & huisregels aandachtig doornemen vóór de Swap Sint Speelgoedruilbeurs avond: Spelregels Swap Sint Speelgoedruilbeurs \nZo zorgen we ervoor dat iedereen met een schat aan speelgoed naar huis gaat\, en dat we samen afval voorkomen. Het is ook een mooie kans om nieuwe families in Apeldoorn te ontmoeten! \nPraktische info:\n– Datum: Vrijdag 8 november (inleveren + ruilen)\n– Tijd: 18:30 – 21:00 uur\n– Locatie: Buurthuis Maasstraat\, Maasstraat 4\, Apeldoorn\n– Kosten: Gratis deelname\, maar vergeet je niet vooraf aan te melden! \nMilieu-impact van ruilen\nWist je dat het kopen van nieuwe spullen een van de grootste ecologische voetafdrukken veroorzaakt? Door speelgoed te ruilen in plaats van nieuw te kopen\, help je mee om de vraag naar grondstoffen te verlagen en het milieu te beschermen.\nKies voor preloved en bespaar op meer dan alleen je portemonnee! \nDoe mee met de Swap Sint Apeldoorn Speelgoedruilbeurs en ontdek hoe leuk en makkelijk tweedehands ruilen kan zijn. Samen werken we aan een vrolijke én duurzame decembermaand! Zien we je daar? 🌍💚 \nSamenwerking\n\nDit event is door stichting Zero Waste Apeldoorn georganiseerd\, in samenwerking met Partij voor de Dieren Apeldoorn en Kringloopwinkel De Hofstad.\nAan het einde van de beurs doneren wij het overgebleven speelgoed aan Kringloopwinkel De Hofstad. Dit speelgoed wordt verkocht in de kringloopwinkel of tijdens de Sinter-kerst markt op 15 en 16 november. Niet verkocht speelgoed gaat naar goede doelen zoals Stichting Derde Hands of Stichting WHOE.\n\n\nVrijwilligers opgelet! Voor dit evenement kunnen we extra handjes gebruiken. Ben je de Praktische Aanpakker die ons kan helpen met extra handen en een paar uren van je tijd op deze avond? Laat het ons weten!
URL:https://zerowasteapeldoorn.nl/agenda/swap-sint-speelgoedruilbeurs/
LOCATION:Buurthuis Maasstraat\, Maasstraat 4\, Apeldoorn\, 7333 JG\, Nederland
CATEGORIES:Circulariteit,Ruilbeurs,Zero Waste Week
ATTACH;FMTTYPE=image/png:https://zerowasteapeldoorn.nl/wp-content/uploads/2024/10/Swap-Sint-ruilbeurs-vol.png
END:VEVENT
END:VCALENDAR