BEGIN:VCALENDAR
VERSION:2.0
PRODID:-//Zero Waste Apeldoorn - ECPv6.15.20//NONSGML v1.0//EN
CALSCALE:GREGORIAN
METHOD:PUBLISH
X-WR-CALNAME:Zero Waste Apeldoorn
X-ORIGINAL-URL:https://zerowasteapeldoorn.nl
X-WR-CALDESC:Evenementen voor Zero Waste Apeldoorn
REFRESH-INTERVAL;VALUE=DURATION:PT1H
X-Robots-Tag:noindex
X-PUBLISHED-TTL:PT1H
BEGIN:VTIMEZONE
TZID:Europe/Amsterdam
BEGIN:DAYLIGHT
TZOFFSETFROM:+0100
TZOFFSETTO:+0200
TZNAME:CEST
DTSTART:20240331T010000
END:DAYLIGHT
BEGIN:STANDARD
TZOFFSETFROM:+0200
TZOFFSETTO:+0100
TZNAME:CET
DTSTART:20241027T010000
END:STANDARD
BEGIN:DAYLIGHT
TZOFFSETFROM:+0100
TZOFFSETTO:+0200
TZNAME:CEST
DTSTART:20250330T010000
END:DAYLIGHT
BEGIN:STANDARD
TZOFFSETFROM:+0200
TZOFFSETTO:+0100
TZNAME:CET
DTSTART:20251026T010000
END:STANDARD
BEGIN:DAYLIGHT
TZOFFSETFROM:+0100
TZOFFSETTO:+0200
TZNAME:CEST
DTSTART:20260329T010000
END:DAYLIGHT
BEGIN:STANDARD
TZOFFSETFROM:+0200
TZOFFSETTO:+0100
TZNAME:CET
DTSTART:20261025T010000
END:STANDARD
END:VTIMEZONE
BEGIN:VEVENT
DTSTART;TZID=Europe/Amsterdam:20250308T110000
DTEND;TZID=Europe/Amsterdam:20250308T170000
DTSTAMP:20260419T200045
CREATED:20250303T182252Z
LAST-MODIFIED:20250303T183249Z
UID:12659-1741431600-1741453200@zerowasteapeldoorn.nl
SUMMARY:Vrijwilligersklus - Sidekick Internationale Vrouwendag (CODA)
DESCRIPTION:﻿Op zaterdag 8 maart staat CODA met een inspirerend activiteitenprogramma in het teken van Internationale Vrouwendag. Met lezingen en creatieve workshops tot interactieve gesprekken en tentoonstellingen – Zero Waste Apedoorn staat er ook bij met een infokraam. \nWe zijn op zoek naar 1 of 2 vrijwilligers die mee willen helpen bij de infokraam\, als sidekick naast Tiphaine.  \nVan 11.00 tot 17.00 uur (kan ook voor een deel van de dag\, graag melden via groepsapp of mail)\nLocatie: CODA – Vosselmanstraat 299).
URL:https://zerowasteapeldoorn.nl/agenda/vrijwilligersklus-sidekick-internationale-vrouwendag-in-coda/
LOCATION:CODA\, Vosselmanstraat 299\, Apeldoorn\, 7311CL\, Nederland
CATEGORIES:Vrijwilligersklus
ATTACH;FMTTYPE=image/png:https://zerowasteapeldoorn.nl/wp-content/uploads/2025/03/info-tafel.png
END:VEVENT
END:VCALENDAR