BEGIN:VCALENDAR
VERSION:2.0
PRODID:-//Zero Waste Apeldoorn - ECPv6.15.20//NONSGML v1.0//EN
CALSCALE:GREGORIAN
METHOD:PUBLISH
X-ORIGINAL-URL:https://zerowasteapeldoorn.nl
X-WR-CALDESC:Evenementen voor Zero Waste Apeldoorn
REFRESH-INTERVAL;VALUE=DURATION:PT1H
X-Robots-Tag:noindex
X-PUBLISHED-TTL:PT1H
BEGIN:VTIMEZONE
TZID:Europe/Amsterdam
BEGIN:DAYLIGHT
TZOFFSETFROM:+0100
TZOFFSETTO:+0200
TZNAME:CEST
DTSTART:20240331T010000
END:DAYLIGHT
BEGIN:STANDARD
TZOFFSETFROM:+0200
TZOFFSETTO:+0100
TZNAME:CET
DTSTART:20241027T010000
END:STANDARD
BEGIN:DAYLIGHT
TZOFFSETFROM:+0100
TZOFFSETTO:+0200
TZNAME:CEST
DTSTART:20250330T010000
END:DAYLIGHT
BEGIN:STANDARD
TZOFFSETFROM:+0200
TZOFFSETTO:+0100
TZNAME:CET
DTSTART:20251026T010000
END:STANDARD
BEGIN:DAYLIGHT
TZOFFSETFROM:+0100
TZOFFSETTO:+0200
TZNAME:CEST
DTSTART:20260329T010000
END:DAYLIGHT
BEGIN:STANDARD
TZOFFSETFROM:+0200
TZOFFSETTO:+0100
TZNAME:CET
DTSTART:20261025T010000
END:STANDARD
END:VTIMEZONE
BEGIN:VEVENT
DTSTART;TZID=Europe/Amsterdam:20250118T090000
DTEND;TZID=Europe/Amsterdam:20250118T120000
DTSTAMP:20260419T172841
CREATED:20241121T210712Z
LAST-MODIFIED:20250113T203744Z
UID:10434-1737190800-1737201600@zerowasteapeldoorn.nl
SUMMARY:Maandelijkse Plandeldag in heel Apeldoorn
DESCRIPTION:Doe mee met de Maandelijkse Plandeldag in Apeldoorn! ♻️🚶‍♂️✨ \nWat: Samen Apeldoorn schoner maken tijdens een gezellige wandeling\nWanneer: Iedere derde zaterdag van de maand\, in de ochtend\nWaar: 12 vaste locaties verspreid over de stad (en in Loenen!)\nVoor wie: Iedereen die een schone omgeving belangrijk vindt \nWat is de Plandeldag?\nTijdens de Maandelijkse Plandeldag trekken we met kleine groepen vrijwilligers de wijken\, parken en straten in om zwerfafval op te ruimen. Het is dé kans om op een ontspannen manier een positieve impact te maken en nieuwe mensen te ontmoeten. Of je nu een buurtbewoner bent\, jong of oud\, iedereen kan meedoen! \nHoe werkt het? \n\nJe sluit je aan bij één van de 12 vaste locaties.\nWij zorgen voor alle benodigde materialen\, zoals grijpers\, handschoenen en afvalzakken. Alles om veilig en efficiënt aan de slag te gaan!\nNa afloop heb je niet alleen een schonere buurt\, maar ook een voldaan gevoel en misschien zelfs een nieuwe vriend of buur leren kennen.\n\nHoe doe je mee? \n\nMeld je aan via info@zerowasteapeldoorn.nl.\nOf kom spontaan naar het verzamelpunt van een locatie op de dag zelf!\n\nWaar kun je aansluiten?\nHier zijn de verzamelpunten en tijden: \n\nBrummelhof (Oost): 10.00-12.00 uur – Ons Honk (Zuid Doet Samen)\, Sperwerlaan 18\nBrummelhof (West): 09.00-11.00 uur – naast de parkeerplaats Wissellaan / Wagenstraat\nCentrum: 10.00-12.00 uur – Youngster\, Prins Willem-Alexanderlaan 201B\nOrden: 10.00-12.00 uur – Orca\, Germanenlaan 360\nMatenpark: 10.00-12.00 uur – Kinderboerderij de Maten\, Pallietergaarde 25\nGentiaan/ Sluisoord: 10.30-12.00 uur – Sluisoordlaan 200\nSprengenpark: 10.00-12.00 uur – Sprengenhonk\, Wolweg 35c\nWestenenkerpark: 09.30-11.00 uur – Theehuis Westenenkerpark\, Zilverweg 32\nWoudhuis/Osseveld: 10.00-12.00 uur – Afwisselend\, zie sociale media voor updates\nZuidbroek: 10.30-12.00 uur – Vuurvlinder 24\nZuiderpark: 10.00-12.00 uur – Buurthuis Maasstraat\, Maasstraat 4\nZwitsal terrein: 10.00-12.00 uur – Foenix kringloopwinkel\, Vlijtseweg 136\n\nLoenen ook actief!\nIn Loenen kun je aansluiten bij het opruimteam! Verzamelpunt: De Brink\, van 10.00-12.00 uur\, met koffie na afloop. \nBekijk de plattegrond van de opruimlocaties of lees meer over de Plandeldag via deze link \nSamen houden we Apeldoorn en Loenen schoon en mooi. Doe je mee? ♻️
URL:https://zerowasteapeldoorn.nl/agenda/maandelijkse-plandeldag-in-heel-apeldoorn-januari-2025/
LOCATION:Apeldoorn
CATEGORIES:Natuur & biodiversiteit,Opruimen,Zwerfafval
ATTACH;FMTTYPE=image/jpeg:https://zerowasteapeldoorn.nl/wp-content/uploads/2024/02/Maandelijkse-Plandeldag-banner.jpg
END:VEVENT
BEGIN:VEVENT
DTSTART;TZID=Europe/Amsterdam:20250118T141000
DTEND;TZID=Europe/Amsterdam:20250118T153500
DTSTAMP:20260419T172841
CREATED:20250107T211850Z
LAST-MODIFIED:20250107T212238Z
UID:11239-1737209400-1737214500@zerowasteapeldoorn.nl
SUMMARY:HERE - Gigant*
DESCRIPTION:Regisseur: Bas Devos  |  Acteurs: Stefan Gota\, Liyo Gong  |  Duur: 82 minuten  |  Gesproken taal: Frans\, Roemeens\, Chinees\, Nederlands  |  Genre: Drama\nHere\nOp 18 januari vertoont GIGANT vijf van de beste films van 2024. Naast landelijke favoriet Poor Things kiest GIGANT-programmeur Rob van den Bergh vier persoonlijke hoogtepunten van 2024 uit\, inclusief enkele titels die volgens hem door bezoekers over het hoofd zijn gezien. De vier persoonlijke keuzes draaien achter elkaar in de Rode filmzaal. Alle vijf de films worden door Rob van den Bergh voorzien van een korte inleiding. \n\nStefan is een zachtaardige bouwvakker in Brussel die op het punt staat te vertrekken naar zijn thuisland Roemenië voor de zomervakantie. Tijdens zijn wandelingen en afscheidsbezoeken aan vrienden en familie ontmoet hij ShuXiu\, een jonge Belgisch-Chinese vrouw die haar studie wijdt aan mossen. Haar oog voor het nauwelijks zichtbare intrigeert Stefan en laat zijn blik nog meer richten op de schatten die ons voortdurend omringen – of ze nu worden gedeeld met de mensen rondom ons of gewoon onder onze voeten groeien. Here is een poëtische stadssymfonie die een ode brengt aan het onzichtbare en de schoonheid van het kleine. Geduldig en contemplatief ontvouwt regisseur Bas Devos de connectie tussen stad en natuur en\, op de achtergrond van een ontluikende liefdesgeschiedenis\, de connectie tussen mensen zelf. Zijn zintuigprikkelende film werd prachtig in beeld gebracht door cinematograaf Grimm Vandekerckhove\, wiens werk dit jaar op het Filmfestival van Rotterdam beloond werd met de Robby Müller Award. \nZie voor tickets en informatie: https://www.gigant.nl/film/here-de-beste-films-van-2024/ \nTrailer bekijken: \n\n____________________ \nDit is een evenement van Gigant Filmtheater
URL:https://zerowasteapeldoorn.nl/agenda/here/
LOCATION:Gigant\, Nieuwstraat 377\, Apeldoorn\, 7311 BR\, Nederland
CATEGORIES:Natuur & biodiversiteit
ATTACH;FMTTYPE=image/png:https://zerowasteapeldoorn.nl/wp-content/uploads/2025/01/Here-Gigant.png
END:VEVENT
END:VCALENDAR