BEGIN:VCALENDAR
VERSION:2.0
PRODID:-//Zero Waste Apeldoorn - ECPv6.15.20//NONSGML v1.0//EN
CALSCALE:GREGORIAN
METHOD:PUBLISH
X-ORIGINAL-URL:https://zerowasteapeldoorn.nl
X-WR-CALDESC:Evenementen voor Zero Waste Apeldoorn
REFRESH-INTERVAL;VALUE=DURATION:PT1H
X-Robots-Tag:noindex
X-PUBLISHED-TTL:PT1H
BEGIN:VTIMEZONE
TZID:Europe/Amsterdam
BEGIN:DAYLIGHT
TZOFFSETFROM:+0100
TZOFFSETTO:+0200
TZNAME:CEST
DTSTART:20230326T010000
END:DAYLIGHT
BEGIN:STANDARD
TZOFFSETFROM:+0200
TZOFFSETTO:+0100
TZNAME:CET
DTSTART:20231029T010000
END:STANDARD
BEGIN:DAYLIGHT
TZOFFSETFROM:+0100
TZOFFSETTO:+0200
TZNAME:CEST
DTSTART:20240331T010000
END:DAYLIGHT
BEGIN:STANDARD
TZOFFSETFROM:+0200
TZOFFSETTO:+0100
TZNAME:CET
DTSTART:20241027T010000
END:STANDARD
BEGIN:DAYLIGHT
TZOFFSETFROM:+0100
TZOFFSETTO:+0200
TZNAME:CEST
DTSTART:20250330T010000
END:DAYLIGHT
BEGIN:STANDARD
TZOFFSETFROM:+0200
TZOFFSETTO:+0100
TZNAME:CET
DTSTART:20251026T010000
END:STANDARD
END:VTIMEZONE
BEGIN:VEVENT
DTSTART;TZID=Europe/Amsterdam:20240921T140000
DTEND;TZID=Europe/Amsterdam:20240921T163000
DTSTAMP:20260420T081726
CREATED:20240901T190458Z
LAST-MODIFIED:20240901T191237Z
UID:7692-1726927200-1726936200@zerowasteapeldoorn.nl
SUMMARY:Textiel verven met natuurlijke materialen - CODA
DESCRIPTION:Vanaf 15 jaar | CODA ExperienceLab Makerspace | € 20\,- \nLaat je tijdens deze workshop in de Makerspace van CODA ExperienceLab verrassen hoe je materiaal uit de natuur kunt gebruiken om textiel te verven. \nJe leert welke kleuren je met natuurlijke (afval)materialen kunt creëren en hoe je deze kunt toepassen en veranderen. Met behulp van de aanwezige materialen ontdek je wat het effect is van de verschillende manieren van voorbehandelen. Ook leer je hoe je een verfbad maakt en hoe je katoen of linnen daarmee kunt verven. Wanneer je de perfecte kleur gemaakt hebt\, ga je de stof verven. Kies je voor een egale kleur of toch voor een print met de tie-dye of Shibori-techniek – de keus is aan jou. \nMeedoen aan deze workshop? Koop dan hier je ticket. Wij zorgen voor het natuurlijke materiaal en geïmpregneerde stoffen om een sjaal te maken; neem zelf een schort en (plastic) handschoenen mee om je kleding en handen te beschermen. \nAanmelden vereist via Evenbrite (CODA evenement) \n______\nDit evenement wordt door  CODA ExperienceLab georganiseerd.
URL:https://zerowasteapeldoorn.nl/agenda/coda-textiel-verven-natuurlijke-materialen-sep-2024/
LOCATION:CODA\, Vosselmanstraat 299\, Apeldoorn\, 7311CL\, Nederland
CATEGORIES:Natuur & biodiversiteit,Workshop
ATTACH;FMTTYPE=image/jpeg:https://zerowasteapeldoorn.nl/wp-content/uploads/2024/04/CODA-Kleuren-van-de-natuur.jpg
END:VEVENT
END:VCALENDAR