BEGIN:VCALENDAR
VERSION:2.0
PRODID:-//Zero Waste Apeldoorn - ECPv6.15.20//NONSGML v1.0//EN
CALSCALE:GREGORIAN
METHOD:PUBLISH
X-ORIGINAL-URL:https://zerowasteapeldoorn.nl
X-WR-CALDESC:Evenementen voor Zero Waste Apeldoorn
REFRESH-INTERVAL;VALUE=DURATION:PT1H
X-Robots-Tag:noindex
X-PUBLISHED-TTL:PT1H
BEGIN:VTIMEZONE
TZID:Europe/Amsterdam
BEGIN:DAYLIGHT
TZOFFSETFROM:+0100
TZOFFSETTO:+0200
TZNAME:CEST
DTSTART:20230326T010000
END:DAYLIGHT
BEGIN:STANDARD
TZOFFSETFROM:+0200
TZOFFSETTO:+0100
TZNAME:CET
DTSTART:20231029T010000
END:STANDARD
BEGIN:DAYLIGHT
TZOFFSETFROM:+0100
TZOFFSETTO:+0200
TZNAME:CEST
DTSTART:20240331T010000
END:DAYLIGHT
BEGIN:STANDARD
TZOFFSETFROM:+0200
TZOFFSETTO:+0100
TZNAME:CET
DTSTART:20241027T010000
END:STANDARD
BEGIN:DAYLIGHT
TZOFFSETFROM:+0100
TZOFFSETTO:+0200
TZNAME:CEST
DTSTART:20250330T010000
END:DAYLIGHT
BEGIN:STANDARD
TZOFFSETFROM:+0200
TZOFFSETTO:+0100
TZNAME:CET
DTSTART:20251026T010000
END:STANDARD
END:VTIMEZONE
BEGIN:VEVENT
DTSTART;TZID=Europe/Amsterdam:20240615T100000
DTEND;TZID=Europe/Amsterdam:20240615T160000
DTSTAMP:20260420T231301
CREATED:20240523T142956Z
LAST-MODIFIED:20240523T143337Z
UID:4250-1718445600-1718467200@zerowasteapeldoorn.nl
SUMMARY:Inloopworkshop Composteren - Moestuin Havenpark
DESCRIPTION:Tijdens de werkzaamheden in de moestuin komen doorlopend plantmaterialen vrij die niet direct meer gebruikt kunnen worden. Denk aan restanten van gewiede en of bij gesnoeide planten\, maar ook niet meer bruikbaar snijafval van de oogsten. Daarnaast mag in deze tuin door de nabije buurtbewoners groen afval uit eigen tuin worden ingeleverd. Dit laatste gebeurd dan ook vrijwel dagelijks en dit levert met elkaar genoeg op om te laten verteren tot compost \nVrijwilliger Jan vertelt je graag tijdens de inloopworkshop het proces van composteren.\nDe workshop zal doorlopend (tussen 10:00 en 16:00 uur) worden gegeven bij voldoende belangstelling. Dus kom langs en laat je inspireren door het boeiende verhaal en wie weet ga je zelfs met een zakje compost naar huis! \nTIP!\nDeze activiteit vindt plaats tijdens de Open tuinendag\, waaraan Moestuin Havenpark deel neemt\, naast deze inloopworkshop en een rondleiding in de moestuin (gedurende de hele dag)\, kun je tussen 13:30 en 15:30 uur stekjes & planten of legpuzzels ruilen! \n  
URL:https://zerowasteapeldoorn.nl/agenda/inloopworkshop-composteren-moestuin-havenpark/
LOCATION:Moestuin Havenpark\, Korte Molenstraat 4\, Apeldoorn\, 7311 NV\, Nederland
CATEGORIES:Circulariteit,Natuur & biodiversiteit,Workshop
ATTACH;FMTTYPE=image/jpeg:https://zerowasteapeldoorn.nl/wp-content/uploads/2024/05/Composteren-Havenpark.jpg
END:VEVENT
BEGIN:VEVENT
DTSTART;TZID=Europe/Amsterdam:20240615T123000
DTEND;TZID=Europe/Amsterdam:20240615T143000
DTSTAMP:20260420T231301
CREATED:20240531T140009Z
LAST-MODIFIED:20240604T214439Z
UID:4593-1718454600-1718461800@zerowasteapeldoorn.nl
SUMMARY:Paddenstoelenwandeling – met Reinier de Paddenstoelenman
DESCRIPTION:Welkom in de magische wereld van paddenstoelen! \nOntdek samen met de Paddenstoelenman de magische wereld van paddenstoelen en schimmels! Tijdens de paddenstoelenwandeling leer je hoe deze unieke levensvormen het bos met elkaar verbinden en voeden. Je leert hoe je paddenstoelen en schimmels kunt herkennen en determineren\, welke eetbaar zijn en welke je beter kunt vermijden. \nDe wandeling\, die ongeveer 2\,5 km lang is\, begint om 12:30 uur en duurt tot uiterlijk 14:30 uur. Je hoeft geen geoefende wandelaar te zijn; in een rustig tempo ga je op zoek naar paddenstoelen. Zorg wel voor geschikte kleding en schoenen. \nHet verzamelpunt is bij Parkeerplaats Dennen Heuvel aan de Zuster Meyboomlaan achter Randerode. Tip: kom op de fiets en kom graag op tijd. \nDeelnemen aan deze paddenstoelenwandeling is gratis. Het aantal plekken is beperkt dus aanmelden is noodzakelijk. \nReserveer je plek door je hiernaast aan te melden. \nExtra leuk: deze paddenstoelenwandeling is perfect te combineren met de wildplukwandeling die op dezelfde dag en plek plaatsvindt van 15:00 uur tot 17:30 uur!
URL:https://zerowasteapeldoorn.nl/agenda/paddenstoelenwandeling/
LOCATION:Parkeerplaats Dennen Heuvel\, Zuster Meyboomlaan\, Apeldoorn
CATEGORIES:Eten & drinken,Natuur & biodiversiteit
ATTACH;FMTTYPE=image/jpeg:https://zerowasteapeldoorn.nl/wp-content/uploads/2024/05/Paddenstoel-3.jpg
END:VEVENT
BEGIN:VEVENT
DTSTART;TZID=Europe/Amsterdam:20240615T140000
DTEND;TZID=Europe/Amsterdam:20240615T160000
DTSTAMP:20260420T231301
CREATED:20240423T142331Z
LAST-MODIFIED:20240523T135659Z
UID:3118-1718460000-1718467200@zerowasteapeldoorn.nl
SUMMARY:Inloopmiddag Kleuren van de natuur - CODA
DESCRIPTION:Tijdens deze gratis inloopmiddag leer je over verschillende manieren waarop je kan printen en verven met de planten en bloemen van de daktuin. Ontdek de kleuren uit de natuur. Deze activiteit vindt plaats op CODA Daktuin! \nAanmelden vereist via Evenbrite (CODA evenement)
URL:https://zerowasteapeldoorn.nl/agenda/coda-inloopmiddag-kleuren-van-de-natuur/
LOCATION:CODA\, Vosselmanstraat 299\, Apeldoorn\, 7311CL\, Nederland
CATEGORIES:Natuur & biodiversiteit,Rondleiding
ATTACH;FMTTYPE=image/jpeg:https://zerowasteapeldoorn.nl/wp-content/uploads/2024/04/CODA-Kleuren-Natuur.jpg
END:VEVENT
BEGIN:VEVENT
DTSTART;TZID=Europe/Amsterdam:20240615T150000
DTEND;TZID=Europe/Amsterdam:20240615T173000
DTSTAMP:20260420T231301
CREATED:20240531T073938Z
LAST-MODIFIED:20240604T214634Z
UID:4552-1718463600-1718472600@zerowasteapeldoorn.nl
SUMMARY:Wildplukken - Wandeling met Sander Bosman
DESCRIPTION:Proef tijdens deze wandeling het bos\, letterlijk! \nOntdek samen met expert Sander Bosman de verborgen lekkernijen recht onder je neus. Tijdens zijn wildplukwandeling in het bos bij Randerode\, leer je welke planten eetbaar zijn\, waar je ze vindt en wat je ervan kan bereiden. \nDe wandeling van ongeveer 2\,5 km duurt van 15:00 uur tot uiterlijk 17:30 uur. Je hoeft geen geoefende wandelaar te zijn\, want je gaat in een rustig tempo op zoek naar eetbare planten waar Sander graag meer over vertelt. Trek wel geschikte kleding en schoenen aan. \nHet verzamelpunt is bij Parkeerplaats Dennen Heuvel aan de Zuster Meyboomlaan achter Randerode. Tip: kom op de fiets en kom graag op tijd. \nDeelnemen aan deze wildplukwandeling is gratis. Het aantal plekken is beperkt dus aanmelden is noodzakelijk. \nReserveer je plek door je hiernaast aan te melden. \nExtra leuk: deze wildplukwandeling is perfect te combineren met de paddenstoelenwandeling die op dezelfde dag en plek plaatsvindt van 12:30 uur tot 14:30 uur!
URL:https://zerowasteapeldoorn.nl/agenda/wildplukken-met-sander-bosman/
LOCATION:Parkeerplaats Dennen Heuvel\, Zuster Meyboomlaan\, Apeldoorn
CATEGORIES:Eten & drinken,Natuur & biodiversiteit
ATTACH;FMTTYPE=image/jpeg:https://zerowasteapeldoorn.nl/wp-content/uploads/2024/05/Wildpluk-1.jpg
END:VEVENT
END:VCALENDAR