BEGIN:VCALENDAR
VERSION:2.0
PRODID:-//Zero Waste Apeldoorn - ECPv6.15.20//NONSGML v1.0//EN
CALSCALE:GREGORIAN
METHOD:PUBLISH
X-ORIGINAL-URL:https://zerowasteapeldoorn.nl
X-WR-CALDESC:Evenementen voor Zero Waste Apeldoorn
REFRESH-INTERVAL;VALUE=DURATION:PT1H
X-Robots-Tag:noindex
X-PUBLISHED-TTL:PT1H
BEGIN:VTIMEZONE
TZID:Europe/Amsterdam
BEGIN:DAYLIGHT
TZOFFSETFROM:+0100
TZOFFSETTO:+0200
TZNAME:CEST
DTSTART:20230326T010000
END:DAYLIGHT
BEGIN:STANDARD
TZOFFSETFROM:+0200
TZOFFSETTO:+0100
TZNAME:CET
DTSTART:20231029T010000
END:STANDARD
BEGIN:DAYLIGHT
TZOFFSETFROM:+0100
TZOFFSETTO:+0200
TZNAME:CEST
DTSTART:20240331T010000
END:DAYLIGHT
BEGIN:STANDARD
TZOFFSETFROM:+0200
TZOFFSETTO:+0100
TZNAME:CET
DTSTART:20241027T010000
END:STANDARD
BEGIN:DAYLIGHT
TZOFFSETFROM:+0100
TZOFFSETTO:+0200
TZNAME:CEST
DTSTART:20250330T010000
END:DAYLIGHT
BEGIN:STANDARD
TZOFFSETFROM:+0200
TZOFFSETTO:+0100
TZNAME:CET
DTSTART:20251026T010000
END:STANDARD
END:VTIMEZONE
BEGIN:VEVENT
DTSTART;TZID=Europe/Amsterdam:20241001T193000
DTEND;TZID=Europe/Amsterdam:20241001T213000
DTSTAMP:20260420T002126
CREATED:20240924T183152Z
LAST-MODIFIED:20240924T183552Z
UID:8595-1727811000-1727818200@zerowasteapeldoorn.nl
SUMMARY:Workshop 'Hoe houd je je kamerplanten in leven?' - Tuinwinkel De Boshommel
DESCRIPTION:Tuinwinkel De Boshommel organiseert de workshop: ‘Hoe houd je je kamerplanten in leven?’\nBen je gek op groen in huis\, maar vind je het lastig om je kamerplanten goed te verzorgen? Gaan zelfs vetplanten dood? Leer deze zomer alles over kamerplanten! Wat is de goede plek voor je kamerplant? Hoe vaak en hoe veel geef je nu water? Hoe zit het met voeding en verpotten? Is er verschil qua verzorging in de winter en de zomer (hint: ja!)? En wat als er beestjes (bladluis bijv.) in je planten zitten? Ik vertel er je alles over en je krijgt de mogelijkheid om al je vragen te stellen! \nEr is plek voor maximaal 8 personen \nKosten: 25 euro per persoon\, inclusief een drankje en wat lekkers \n\n\n\n\nAanmelden en Contact
URL:https://zerowasteapeldoorn.nl/agenda/hoe-houd-je-je-kamerplanten-in-leven-oktober/
LOCATION:Tuinwinkel de Boshommel\, Asselsestraat 24\, Apeldoorn\, 7311 EL
CATEGORIES:Informatie,Natuur & biodiversiteit,Workshop
ATTACH;FMTTYPE=image/jpeg:https://zerowasteapeldoorn.nl/wp-content/uploads/2024/04/Zaailingen-Ruildag-Boshommel-3.jpg
END:VEVENT
BEGIN:VEVENT
DTSTART;TZID=Europe/Amsterdam:20241016T193000
DTEND;TZID=Europe/Amsterdam:20241016T220000
DTSTAMP:20260420T002127
CREATED:20240924T183452Z
LAST-MODIFIED:20240924T183518Z
UID:8598-1729107000-1729116000@zerowasteapeldoorn.nl
SUMMARY:Tuinieren voor beginners - Tuinwinkel De Boshommel
DESCRIPTION:Tuinwinkel De Boshommel organiseert de workshop: Tuinieren voor beginners\n\n\nHeb jij sindskort een tuin en weet je niet goed waar je moet beginnen? Of ben je al een tijdje aan het rommelen in je tuin\, maar het wordt niet zoals je in je hoofd hebt? In deze workshop gaan we terug naar de basis. We bespreken hoe je voor je bodem zorgt\, welke soorten planten er zijn en hoe je de juiste planten uitkiest. Ook gaan we in op aanplanten en watergeven.  Mag je nu wel of niet sproeien? Ook bespreken we het onderhoud in de tuin; wanneer doe je wat? En wat is het geheim van snoeien? \nEr is per avond plek voor 8 personen \nKosten: 30 euro per persoon\, incl een drankje en wat lekkers \n\n\n\n\n\n\nAanmelden en Contact
URL:https://zerowasteapeldoorn.nl/agenda/tuinieren-voor-beginners-tuinwinkel-de-boshommel/
LOCATION:Tuinwinkel de Boshommel\, Asselsestraat 24\, Apeldoorn\, 7311 EL
CATEGORIES:Informatie,Natuur & biodiversiteit,Workshop
ATTACH;FMTTYPE=image/jpeg:https://zerowasteapeldoorn.nl/wp-content/uploads/2024/04/Zaailingen-Ruildag-Boshommel-3.jpg
END:VEVENT
BEGIN:VEVENT
DTSTART;TZID=Europe/Amsterdam:20241019T133000
DTEND;TZID=Europe/Amsterdam:20241019T153000
DTSTAMP:20260420T002127
CREATED:20240826T092220Z
LAST-MODIFIED:20240826T092238Z
UID:7513-1729344600-1729351800@zerowasteapeldoorn.nl
SUMMARY:Bomenwandeling met IVN in het Mheenpark*
DESCRIPTION:Op zaterdag 19 oktober organiseert Partij voor de Dieren Apeldoorn een wandeling met bomendeskundige en vrijwilliger bij IVN Anton Dekker\, over de bomen in het Mheenpark.\n\nVerzamelpunt\nDe wandeling start omstreeks 13.30 uur. Verzamelen bij sporthal Mheenpark\, Zilverschoon 112. Daar is voldoende parkeergelegenheid voor fiets en auto.\n\nAanmelden\nIn verband met de verstaanbaarheid van de gids is er plaats voor 15 personen. Geef je dus snel op via apeldoorn@partijvoordedieren.nl \nSchroom niet\, bij meer dan 15 aanmeldingen wordt er een 2e gids geregeld.\n\n————\n*Dit event is door Partij voor de Dieren georganiseerd
URL:https://zerowasteapeldoorn.nl/agenda/bomenwandeling-met-ivn-in-het-mheenpark/
LOCATION:Sporthal Mheenpark\, Zilverschoon 112\, Apeldoorn
CATEGORIES:Informatie,Natuur & biodiversiteit
ATTACH;FMTTYPE=image/png:https://zerowasteapeldoorn.nl/wp-content/uploads/2024/08/Mheenpark-bomen.png
END:VEVENT
BEGIN:VEVENT
DTSTART;TZID=Europe/Amsterdam:20241019T140000
DTEND;TZID=Europe/Amsterdam:20241019T160000
DTSTAMP:20260420T002127
CREATED:20240901T190819Z
LAST-MODIFIED:20241021T201919Z
UID:7696-1729346400-1729353600@zerowasteapeldoorn.nl
SUMMARY:Workshop bioprints met bloemen en planten - CODA
DESCRIPTION:CODA ExperienceLab & Daktuin | 15+ jaar | € 20\,- \nLaat je verrassen door de kleuren die verscholen liggen in de natuur! Leer meer over hoe de vormen en kleuren van verschillende bloemen en planten over kunt zetten op papier/katoen en leer prachtige composities te maken met al deze vormen. \nLaat je verrassen door de kleuren die verscholen liggen in de natuur! Leer meer over hoe de vormen en kleuren van verschillende bloemen en planten over kunt zetten op papier/katoen en leer prachtige composities te maken met al deze vormen. \nOntdek gelijk de gloednieuwe CODA Daktuin en ontdek welke bloemen en planten daar groeien en bloeien. Daarna ga je aan de slag met het maken van je eigen bioprints. Er worden hiervoor geen chemicaliën gebruikt\, alleen natuurlijke producten. Je neemt kennis van verschillende bioprinttechnieken om de kleur of compositie van bladeren\, bloemen of ander restmaterialen over te zetten op papier of textiel. \nWil je meedoen? Neem dan ook gerust je eigen natuurlijke (rest)materialen mee. Denk hierbij aan bladeren en verse bloemen. In CODA ExperienceLab zijn geïmpregneerd katoen en papier aanwezig. Na de workshop neem je je eigen print(s) mee naar huis! \nMisschien ben je ook geïnteresseerd in het verven van textiel\, kijk dan ook eens naar de leuke workshop Textiel verven met natuurlijke materialen. De Bioprint en bioverf workshops wisselen elkaar om de maand af. Lukt het niet om deze keer mee te doen\, schrijf je dan in voor een andere datum. \nAanmelden vereist via Evenbrite (CODA evenement) \n______\nDit evenement wordt door  CODA ExperienceLab georganiseerd.
URL:https://zerowasteapeldoorn.nl/agenda/coda-bioprints-workshop-okt-2024-2/
LOCATION:CODA\, Vosselmanstraat 299\, Apeldoorn\, 7311CL\, Nederland
CATEGORIES:Natuur & biodiversiteit,Workshop
ATTACH;FMTTYPE=image/jpeg:https://zerowasteapeldoorn.nl/wp-content/uploads/2024/04/CODA-Kleuren-Natuur.jpg
END:VEVENT
BEGIN:VEVENT
DTSTART;TZID=Europe/Amsterdam:20241020T140000
DTEND;TZID=Europe/Amsterdam:20241020T153000
DTSTAMP:20260420T002127
CREATED:20241005T201209Z
LAST-MODIFIED:20241005T201209Z
UID:9016-1729432800-1729438200@zerowasteapeldoorn.nl
SUMMARY:Herfstwandeling Mheenpark - IVN
DESCRIPTION:Herfstwandeling Mheenpark zondag 20 oktober start om 14.00 uur\n\nOp zondagmiddag 20 oktober start de IVN-wandeling om 14.00 uur om. We gaan de gevarieerde natuur in het Mheenpark ontdekken. Het park waar 25 jaar geleden een eerste Apeldoornse bomenroute werd uitgezet om kennis te maken met 27 verschillende boomsoorten. Volgend jaar bestaat dit park\, de groene long van de wijk Zevenhuizen\, 50 jaar. De herfst is een unieke tijd om bomen nader te bekijken. Is het dit jaar een mastjaar met een hele grote oogst aan vruchten? Bomen zijn beeldbepalend maar het zijn ook de heesters\, planten\, vijver en dieren die het park verlevendigen. De wandeling duurt tot\nongeveer 15.30 uur.\n\nAanmelding verplicht op de IVN website.\nHet startpunt wordt later via de mail bekend gemaakt.\nVoor informatie Yvonne Zwikker yvonnezwikker@gmail.com
URL:https://zerowasteapeldoorn.nl/agenda/herfstwandeling-mheenpark-ivn/
CATEGORIES:Informatie,Natuur & biodiversiteit
ATTACH;FMTTYPE=image/png:https://zerowasteapeldoorn.nl/wp-content/uploads/2024/10/Herfstwandeling-Mheenpark-IVN.png
END:VEVENT
BEGIN:VEVENT
DTSTART;TZID=Europe/Amsterdam:20241024T193000
DTEND;TZID=Europe/Amsterdam:20241024T213000
DTSTAMP:20260420T002127
CREATED:20241016T202113Z
LAST-MODIFIED:20241016T202241Z
UID:9544-1729798200-1729805400@zerowasteapeldoorn.nl
SUMMARY:Drinkwater uit de kraan – hoe bijzonder is dat. – lezing bij DC Deventer
DESCRIPTION:Drinkwater uit de kraan – hoe bijzonder is dat. – lezing\n\n\n\n\n\n\n\n\n\n\nOrganisator: Duurzaamheidscentrum Deventer\, Witteveen + Bos\nLocatie: Duurzaamheidscentrum Deventer\, Grote Kerkhof 1\, in de stadsetalage in het Deventer stadhuis\n\n\n\n\n\n\n\n\nDe tijd van overvloed aan drinkwater is voorbij. De beschikbaarheid van drinkwater staat onder druk. Vele mensen denken dat de vele regenval van de afgelopen maanden wel weer voor voldoende drinkwater zal zorgen. Echter regenwater doet er vele jaren\, 10-tallen jaren over om door de verschillende grondlagen door te dringen alvorens het in de bron komt alwaar we het grondwater kunnen gaan oppompen voor drinkwater bereiding. \nVoor vandaag de dag lost de vele regenval het probleem nog niet op. \nZelf kunnen we wel een bijdrage leveren aan het minder urgent maken van beschikbaarheid aan drinkwater. \nWe verbruiken gemiddeld 130 liter water per dag per persoon. 90 liter van dit drinkwater wordt voor douchen en toilet gebruikt. Dat kan minder. \nBijvoorbeeld door 5 minuten te douchen\, kleine en grote spoelknop wc te gebruiken\, lekkende kranen repareren\, waterbesparende douchekop gebruiken\, gebruik regenwater\, grijswatercircuit in je woning etc. \nDoor ons gedrag aan te passen en te veranderen en bewust te worden van de drinkwaterproblematiek in en om ons heen\, kunnen wij met zijn allen een goede bijdrage leveren aan vermindering van drinkwater problemen. Maar hoe doe je dat. \nDaarom organiseert het DuurzaamheidsCentrun Deventer een Drinkwaterpresentatie verzorgd door 2 drinkwaterexperts van het Ing. Buro Witteveen + Bos \n In het Duurzaamheidscentrum (DCD)  is o.a. een waterexpo opgesteld. Deze expo is in 4 delen samengesteld: \n\n\n\n\n\nRegenwater\nDrinkwater\nAfvalwater\nOppervlaktewater\n\n\n\n\n\nKom langs het DCD zie welke mogelijkheden er zijn om regenwater effectief te gebruiken en hoe je kunt besparen op je drinkwaterverbruik. Wordt bewust van de drinkwaterproblematiek. \nLaat je inspireren in het DuurzaamheidsCentrum Deventer\, je bent van harte welkom \nPraktische informatie:\n💻 Aanmelden voor deze presentatie kan hier\, er zijn 30 plekken dus wees er op tijd bij!\n📌Stadsetalage (Grote Kerkhof 1\, Deventer)\n📅 Donderdag 24 oktober 2024\n⏰19:30-21:30\n💰 Gratis!
URL:https://zerowasteapeldoorn.nl/agenda/lezing-drinkwater-uit-de-kraan/
LOCATION:DC Deventer\, Grote Kerkhof 1\, in de stadsetalage in het Deventer stadhuis\, Deventer\, 7411 KT
CATEGORIES:Informatie,Natuur & biodiversiteit
ATTACH;FMTTYPE=image/png:https://zerowasteapeldoorn.nl/wp-content/uploads/2024/10/Drinkwater-uit-de-kraan-lezing.png
ORGANIZER;CN="DC Deventer":MAILTO:info@dcdeventer.nl
END:VEVENT
BEGIN:VEVENT
DTSTART;TZID=Europe/Amsterdam:20241026T100000
DTEND;TZID=Europe/Amsterdam:20241026T160000
DTSTAMP:20260420T002127
CREATED:20240423T140352Z
LAST-MODIFIED:20240423T140352Z
UID:3103-1729936800-1729958400@zerowasteapeldoorn.nl
SUMMARY:26 oktober Herfstmarkt bij Stadsakkers*
DESCRIPTION:Datum: 26-10-2024 | Starttijd: 10:00 uur | Eindtijd: 16:00 uur | Locatie: StadsAkkers – Dommeweg 5b | Thema: Halloween light \nOp zaterdag 26 oktober organiseert Stadsakkers de Herfstmarkt bij de StadsAkkers. Het wordt weer een gezellig nazomers herfstsfeertje met zon\, lekkere hapjes\, een kopje koffie en veel leuke kramen. \nHet restaurant is open en er is weer wat lekkers voor bij je kopje koffie of thee. \nPak je fiets en kom gezellig langs! Parkeren kan ook\, maar de parkeerplaats is niet zo groot. \nZie voor meer informatie: https://stadsakkers.nl/agenda/herfstmarkt-24-september-2022/ \n——————————\n*Deze activiteit is niet door stichting Zero Waste Apeldoorn georganiseerd.
URL:https://zerowasteapeldoorn.nl/agenda/26-oktober-herfstmarkt-bij-stadsakkers/
LOCATION:stadsakkers\, Dommeweg 5B\, Apeldoorn\, 7323 RD\, Nederland
CATEGORIES:Eten & drinken,Markt,Meet up,Natuur & biodiversiteit
ATTACH;FMTTYPE=image/jpeg:https://zerowasteapeldoorn.nl/wp-content/uploads/2024/04/Markt-Stadsakkers.jpg
END:VEVENT
BEGIN:VEVENT
DTSTART;TZID=Europe/Amsterdam:20241026T200000
DTEND;TZID=Europe/Amsterdam:20241027T080000
DTSTAMP:20260420T002127
CREATED:20240903T203246Z
LAST-MODIFIED:20241023T122622Z
UID:7770-1729972800-1730016000@zerowasteapeldoorn.nl
SUMMARY:De Nacht van de Nacht
DESCRIPTION:Laat het donker donker en ontdek hoe mooi de nacht is tijdens de Nacht van de Nacht.\nDe Nacht van de Nacht is een jaarlijks evenement georganiseerd door de Natuur en Milieufederaties. \nTijdens de Nacht van de Nacht worden er door het hele land evenementen georganiseerd in het donker.\nHonderden bedrijven en gemeenten doven lichten van gebouwen en reclameverlichting.\nDit jaar wordt de Nacht van de Nacht voor de twintigste keer georganiseerd. \nKijk hier voor de activiteiten. \n\n\n\n\n\n\nNacht van de Nacht in Apeldoorn\nTijdens de Nacht van de Nacht kun je in Apeldoorn en omgeving aan verschillende activiteiten meedoen. \nFietstocht\nZo organiseert Partij voor de Dieren Apeldoorn samen met Gerard Kolkman\, adviseur energiebesparing\, een fietstocht. Deze begint om 20.00 uur bij kunstwerk Reizend Zand op het Stationsplein. Vervolgens gaat de tocht\, die twee uur duurt\, langs objecten en bedrijven in Apeldoorn die – buiten openingstijden – onnodig verlicht zijn. Aanmelden voor deze tocht (gratis) kan via apeldoorn@partijvoordedieren.nl. \nWandeltocht\nOp de Leesterheide is van 18.30 tot 21.00 uur een wandeltocht in het donker met een natuurgids van Staatsbosbeheer. Deze tocht is momenteel al volgeboekt. Ook de nachttocht door de bossen van Loenen is al volgeboekt. \nPresentatie\nDe Volkssterrenwacht Bussloo geeft vanaf 20.00 uur een presentatie getiteld Op zoek naar een donkere hemel over de actuele sterrenhemel en het thema ‘lichthinder’. Bij helder weer kun je kijken naar de sterrenhemel en de planeten Jupiter en Saturnus door de telescopen. Deze avond duurt tot 22.00 uur. \n\nLichtvervuiling \n\n\nWij zijn een van de meest verlichte landen ter wereld. Het doel van Nacht van de Nacht is om Nederland donkerder en duurzamer te maken. Al die overbodige verlichting veroorzaakt lichthinder en energieverspilling. Ook raakt het ritme van mensen en dieren verstoord. Mens en dier hebben het natuurlijke ritme van de nacht nodig om uit te rusten\, voor hun gezondheid en voor een sterke weerstand. Jaarlijks worden miljoenen trekvogels verstoord of ze sterven door lichthinder. \n\n\nZaterdag 26 oktober gaan duizenden lichten uit in Apeldoorn. Het is dan namelijk Nacht van de Nacht. Door heel Nederland worden er activiteiten georganiseerd\, ook in onze stad. De Nacht van de Nacht is een jaarlijks evenement georganiseerd door de Natuur en Milieufederaties. Dit jaar is het de twintigste editie. Het doel van deze nacht is bewustwording van de lichtvervuiling in Nederland en deze tegengaan. Deze nacht gaat ook de wintertijd in.
URL:https://zerowasteapeldoorn.nl/agenda/de-nacht-van-de-nacht/
CATEGORIES:Energie,Informatie,Natuur & biodiversiteit
ATTACH;FMTTYPE=image/png:https://zerowasteapeldoorn.nl/wp-content/uploads/2024/09/nach-van-de-nacht.png
END:VEVENT
BEGIN:VEVENT
DTSTART;VALUE=DATE:20241027
DTEND;VALUE=DATE:20241104
DTSTAMP:20260420T002127
CREATED:20241005T194333Z
LAST-MODIFIED:20241103T231945Z
UID:9003-1729987200-1730678399@zerowasteapeldoorn.nl
SUMMARY:Paddenstoelroute in Park Berg en Bos - IVN
DESCRIPTION:Het is een traditie geworden: in de herfstvakantie kan de paddenstoelroute in Park Berg en Bos weer gelopen worden\, ook dit jaar weer!\n\nVlak voor de herfstvakantie wordt de route uitgezet door meerdere IVN leden. Bij de voorkomende paddenstoelen langs de route komen naambordjes te staan en interessante weetjes. Er komen bordjes bij met andere informatie\, zodat er voor de trouwe bezoeker iets nieuws te ontdekken valt.\n\nDe route kan individueel gelopen worden vanaf zondag 27 oktober tot en met de laatste zondag van de herfstvakantie\, 3 november\, tijdens openingstijden van Stadspark Berg en Bos.\n\nOp zondag 27 oktober staat ook de info kraam van IVN natuureducatie bij het Theehuis. Hier is van alles te zien over wat in de omgeving van Apeldoorn in de natuur voorkomt. Wanneer de regen de komende weken op het juiste moment gaat vallen\, zien we misschien net als in oktober 2023 meer dan 50 soorten!\nWaaronder toen een aantal nieuwe soorten\, zoals het sparrenveertje en het varkensoor. Het is bijzonder leuk om met kinderen de route van ongeveer 2 km te volgen. Zij ontdekken steeds weer iets nieuws. Neem een spiegeltje mee om onder de hoedjes te kijken.\n\nDeze activiteit is door IVN Apeldoorn georganiseerd (Carolien Londerman en Marieke Spreij) \nKosten: Gratis\nAanmelden verplicht: Nee
URL:https://zerowasteapeldoorn.nl/agenda/paddenstoelroute-park-berg-en-bos-ivn/
LOCATION:Natuurpark Berg & Bos\, Asselsestraat 400\, Apeldoorn\, 7312 TS
CATEGORIES:Informatie,Natuur & biodiversiteit
ATTACH;FMTTYPE=image/png:https://zerowasteapeldoorn.nl/wp-content/uploads/2024/10/Paddenstoelenroute-Park-Berg-en-Bos.png
END:VEVENT
BEGIN:VEVENT
DTSTART;TZID=Europe/Amsterdam:20241029T193000
DTEND;TZID=Europe/Amsterdam:20241029T220000
DTSTAMP:20260420T002127
CREATED:20240924T183746Z
LAST-MODIFIED:20240924T183746Z
UID:8602-1730230200-1730239200@zerowasteapeldoorn.nl
SUMMARY:Workshop 'Zo krijg je een tuin vol natuur' - Tuinwinkel De Boshommel
DESCRIPTION:Tuinwinkel De Boshommel organiseert de workshop: ‘Zo krijg je een tuin vol natuur’\n\n\n\n\n\n\n\n\nIn deze 2\,5 uur durende workshop neem ik je mee in de wereld van biodiversiteit in je tuin. Want wat is biodiversiteit en waarom is het belangrijk? En hoe zorg jij met jouw tuin voor een fijne plek voor vogels\, egels\, bijen\, vlinders en andere insecten? En hoe blijft het een fijne plek voor jou? Hoe onderhoud je een biodiverse tuin? \nNa alle informatie krijg je de tijd om je eigen tuin eens kritisch te bekijken. Welke elementen kun je toevoegen voor extra biodiversiteit? Aan het einde van de workshop kun je direct aan de slag om extra biodiversiteit toe te voegen aan je tuin! \nEr is per avond plek voor maximaal 8 personen \nKosten: 30 euro per persoon\, inclusief een drankje en wat lekkers \n\n\n\n\n\n\n\n\nAanmelden en Contact
URL:https://zerowasteapeldoorn.nl/agenda/workshop-een-tuin-vol-natuur-oktober/
LOCATION:Tuinwinkel de Boshommel\, Asselsestraat 24\, Apeldoorn\, 7311 EL
CATEGORIES:Informatie,Natuur & biodiversiteit,Workshop
ATTACH;FMTTYPE=image/jpeg:https://zerowasteapeldoorn.nl/wp-content/uploads/2024/04/Zaailingen-Ruildag-Boshommel-3.jpg
END:VEVENT
BEGIN:VEVENT
DTSTART;TZID=Europe/Amsterdam:20241030T100000
DTEND;TZID=Europe/Amsterdam:20241030T130000
DTSTAMP:20260420T002127
CREATED:20241005T195657Z
LAST-MODIFIED:20241005T195957Z
UID:9011-1730282400-1730293200@zerowasteapeldoorn.nl
SUMMARY:Speuren op de speelweide van Park Berg & Bos - IVN
DESCRIPTION:Natuurgidsen van IVN Natuureducatie Apeldoorn organiseren tijdens de herfstvakantie op woensdag 30 oktober een speurtocht voor kinderen van ca. 4 t/m 10 jaar op de speelweide van Stadspark Berg & Bos. Tussen 10.00 uur en 13.00 uur ben je van harte welkom!\n\nEen actieve speurtocht met interessante en grappige dingen over bomen\, paddenstoelen en andere dingen die je tegenkomt in de natuur. Voor deelnemende kinderen is er na afloop een attentie. Lekker buiten aan de slag!\n\nDe kosten voor de kinderactiviteit zijn € 2\,- per deelnemend kind. IVN leden\, ouders\, begeleiders en kinderen tot 4 jaar\, gratis. Liefst gepast contant betalen.\n\nAanmelden via de IVN website
URL:https://zerowasteapeldoorn.nl/agenda/speuren-speelweide-park-berg-en-bos-ivn/
LOCATION:Natuurpark Berg & Bos\, Asselsestraat 400\, Apeldoorn\, 7312 TS
CATEGORIES:Informatie,Natuur & biodiversiteit
ATTACH;FMTTYPE=image/png:https://zerowasteapeldoorn.nl/wp-content/uploads/2024/10/Speuren-jeugd-Park-Berg-en-Bos.png
END:VEVENT
END:VCALENDAR