BEGIN:VCALENDAR
VERSION:2.0
PRODID:-//Zero Waste Apeldoorn - ECPv6.15.20//NONSGML v1.0//EN
CALSCALE:GREGORIAN
METHOD:PUBLISH
X-ORIGINAL-URL:https://zerowasteapeldoorn.nl
X-WR-CALDESC:Evenementen voor Zero Waste Apeldoorn
REFRESH-INTERVAL;VALUE=DURATION:PT1H
X-Robots-Tag:noindex
X-PUBLISHED-TTL:PT1H
BEGIN:VTIMEZONE
TZID:Europe/Amsterdam
BEGIN:DAYLIGHT
TZOFFSETFROM:+0100
TZOFFSETTO:+0200
TZNAME:CEST
DTSTART:20230326T010000
END:DAYLIGHT
BEGIN:STANDARD
TZOFFSETFROM:+0200
TZOFFSETTO:+0100
TZNAME:CET
DTSTART:20231029T010000
END:STANDARD
BEGIN:DAYLIGHT
TZOFFSETFROM:+0100
TZOFFSETTO:+0200
TZNAME:CEST
DTSTART:20240331T010000
END:DAYLIGHT
BEGIN:STANDARD
TZOFFSETFROM:+0200
TZOFFSETTO:+0100
TZNAME:CET
DTSTART:20241027T010000
END:STANDARD
BEGIN:DAYLIGHT
TZOFFSETFROM:+0100
TZOFFSETTO:+0200
TZNAME:CEST
DTSTART:20250330T010000
END:DAYLIGHT
BEGIN:STANDARD
TZOFFSETFROM:+0200
TZOFFSETTO:+0100
TZNAME:CET
DTSTART:20251026T010000
END:STANDARD
END:VTIMEZONE
BEGIN:VEVENT
DTSTART;TZID=Europe/Amsterdam:20240526T130000
DTEND;TZID=Europe/Amsterdam:20240526T160000
DTSTAMP:20260420T214555
CREATED:20240505T202238Z
LAST-MODIFIED:20240505T202238Z
UID:3711-1716728400-1716739200@zerowasteapeldoorn.nl
SUMMARY:Open Dag Herenboeren Wenumseveld*
DESCRIPTION:Herenboeren bestaat 10 jaar! In die tijd zijn er 21 Herenboerderijen opgericht. Van Drenthe tot Limburg en van Rotterdam tot Enschede eten al meer dan 9000 Herenboeren van hun eigen boerderij: onbespoten groente en fruit en – voor wie wil – af en toe vlees van dieren die altijd lekker buiten rondscharrelen. \nOnze Herenboerderij\, Herenboeren Wenumseveld\, bestaat sinds 2020. Volgend jaar gaan we dus ons vijfjarig bestaan vieren!\nBenieuwd hoe onze boerderij eruit ziet? Meld je nu aan voor een gratis bezoek aan onze Open Dag op zondag 26 mei van 13.00 – 16.00 uur! \nWe organiseren deze Open Dag als onderdeel van een reeks Open Dagen\, samen met 16 andere Herenboerderijen door het hele land.\nMeld je hier aan voor de Open Dag: https://herenboeren.nl/open-dagen/#Formulier \nTip: breng gerust je (klein)kinderen mee. We bieden leuke kinderactiviteiten aan. \nTijdens de rondleidingen vertellen we wat er verbouwd wordt op de Herenboerderij en hoe we te werk gaan zonder bestrijdingsmiddelen en kunstmest. Ook leer je hoe we de biodiversiteit en het bodemleven bevorderen en kun je de dieren van dichtbij bekijken. \nFijn als je op de fiets komt! Kom je toch graag met de auto? Parkeer dan even op de hoek Hommel/Stadhoudersmolenweg. In 5 minuutjes loop je dan naar onze boerderij. Op ons erf hebben we enkele parkeerplaatsen die we graag reserveren voor mensen die slecht ter been zijn. \n——————————\n*Deze activiteit is niet door stichting Zero Waste Apeldoorn georganiseerd.
URL:https://zerowasteapeldoorn.nl/agenda/open-dag-herenboeren-wenumseveld/
LOCATION:Herenboeren Wenumseveld\, Wenumseveldweg 99\, Wenum Wiesel\, 7345 DE\, Nederland
CATEGORIES:Eten & drinken,Informatie,Natuur & biodiversiteit,Rondleiding
ATTACH;FMTTYPE=image/jpeg:https://zerowasteapeldoorn.nl/wp-content/uploads/2024/05/Herenboeren-Wenumseveld-opendag.jpg
END:VEVENT
END:VCALENDAR