BEGIN:VCALENDAR
VERSION:2.0
PRODID:-//Zero Waste Apeldoorn - ECPv6.15.20//NONSGML v1.0//EN
CALSCALE:GREGORIAN
METHOD:PUBLISH
X-WR-CALNAME:Zero Waste Apeldoorn
X-ORIGINAL-URL:https://zerowasteapeldoorn.nl
X-WR-CALDESC:Evenementen voor Zero Waste Apeldoorn
REFRESH-INTERVAL;VALUE=DURATION:PT1H
X-Robots-Tag:noindex
X-PUBLISHED-TTL:PT1H
BEGIN:VTIMEZONE
TZID:Europe/Amsterdam
BEGIN:DAYLIGHT
TZOFFSETFROM:+0100
TZOFFSETTO:+0200
TZNAME:CEST
DTSTART:20240331T010000
END:DAYLIGHT
BEGIN:STANDARD
TZOFFSETFROM:+0200
TZOFFSETTO:+0100
TZNAME:CET
DTSTART:20241027T010000
END:STANDARD
BEGIN:DAYLIGHT
TZOFFSETFROM:+0100
TZOFFSETTO:+0200
TZNAME:CEST
DTSTART:20250330T010000
END:DAYLIGHT
BEGIN:STANDARD
TZOFFSETFROM:+0200
TZOFFSETTO:+0100
TZNAME:CET
DTSTART:20251026T010000
END:STANDARD
BEGIN:DAYLIGHT
TZOFFSETFROM:+0100
TZOFFSETTO:+0200
TZNAME:CEST
DTSTART:20260329T010000
END:DAYLIGHT
BEGIN:STANDARD
TZOFFSETFROM:+0200
TZOFFSETTO:+0100
TZNAME:CET
DTSTART:20261025T010000
END:STANDARD
END:VTIMEZONE
BEGIN:VEVENT
DTSTART;TZID=Europe/Amsterdam:20250510T100000
DTEND;TZID=Europe/Amsterdam:20250510T150000
DTSTAMP:20260420T002313
CREATED:20250424T100637Z
LAST-MODIFIED:20250424T161745Z
UID:13714-1746871200-1746889200@zerowasteapeldoorn.nl
SUMMARY:Groene markt bij de 3 Ranken
DESCRIPTION:Groene markt\n\n\n\n\n\n\n\n\n\n\n\nOp zaterdag 10 mei is er van 10.00 tot 15.00 uur een Groene markt in De Drie Ranken. Er is een plantjesmarkt en er zijn stands van o.a. het IVN\, Zero Waste Apeldoorn\, Energiecoöperatie deA\, het gemeentelijk Energiepunt en Herenboerderij de Groote Modderkolk. \nOok zijn er in de ochtend en middag diverse lezingen te volgen. \nDe Groene markt wordt officieel geopend door wethouder Duurzaamheid\, Danny Huizer.\nKlik hier voor het hele programma. \nDe Groene markt is een initiatief van de werkgroep Duurzaamheid van De Drie Ranken.
URL:https://zerowasteapeldoorn.nl/agenda/groene-markt-3-ranken-10-mei-2025/
LOCATION:De 3 Ranken\, Eglantierlaan 202\, Apeldoorn\, Gelderland\, 7329 AP\, Netherlands
CATEGORIES:Eten & drinken,Informatie,Markt,Natuur & biodiversiteit,Verbinden
ATTACH;FMTTYPE=image/jpeg:https://zerowasteapeldoorn.nl/wp-content/uploads/2024/05/plantenruilbeurs-1.jpeg
END:VEVENT
BEGIN:VEVENT
DTSTART;VALUE=DATE:20250517
DTEND;VALUE=DATE:20250524
DTSTAMP:20260420T002313
CREATED:20250509T064114Z
LAST-MODIFIED:20250509T064114Z
UID:13798-1747440000-1748044799@zerowasteapeldoorn.nl
SUMMARY:Zero Waste Week Apeldoorn - Voorjaar 2025
DESCRIPTION:Zero Waste Week Apeldoorn – Voorjaar 2025\n📅 Zaterdag 17 mei t/m vrijdag 23 mei 2025 \nAlweer de 6e editie van de Zero Waste Week in Apeldoorn! Na het succes van de afgelopen jaren pakken we in 2025 opnieuw groots uit. Dit jaar organiseren we zowel een voorjaars- als een najaarseditie. \nVan restjes redden tot ruilen en repareren: tijdens de Zero Waste Week Apeldoorn – Voorjaar 2025 ontdekken inwoners hoe kleine stappen grote impact maken. \nDeze inspirerende week vol duurzame activiteiten vindt plaats in het voorjaar van 2025 en valt deels samen met de Week van de Biodiversiteit. Het thema dit jaar: “Natuurlijk Afvalvrij!” \nDe Zero Waste Week staat in het teken van creativiteit\, bewustwording en verbinding. Inwoners worden uitgenodigd om op een laagdrempelige manier kennis te maken met een afvalarme levensstijl. Van jong tot oud\, van beginner tot doorgewinterde duurzaamheidsliefhebber: iedereen kan meedoen. \nWat staat er op het programma? \n\n🌿 Inspirerende workshops\n Leer hoe je zelf natuurlijke verzorgingsproducten maakt\, textiel verft met planten of een herbruikbare lunchwrap in elkaar zet.\n\n🛠 Ruilactiviteiten\n Geef spullen een tweede leven. Kom langs bij ruilpunten voor kleding\, puzzels\, boeken of plantenstekjes. Ruilen is het nieuwe kopen!\n\n🎒 Duurzaam boodschappen doen\n Ontdek winkels waar je verpakkingsvrij kunt winkelen\, leer meer over lokaal en natuurlijk eten\, de moestuin en zelfs het kweken van paddenstoelen.\n\n🎬 Film & gesprek\n Laat je inspireren door verhalen vol hoop en daadkracht. Na de film gaan we met elkaar in gesprek: wat kun jij doen voor een groenere toekomst?\n\n🌻 Zwerfvuilacties\n Ga zelf of samen aan de slag om je buurt schoner te maken. Laat je inspireren door afvalheld Paul Waye\, die tijdens zijn landelijke plogtour ook Apeldoorn aandoet!\n\n\nAfvalvrij = biodiversiteitsrijk\n Wat we weggooien\, heeft direct invloed op de natuur. Minder verspilling betekent meer ruimte voor bloemen\, bijen en biodiversiteit. Met het thema Natuurlijk Afvalvrij laten we zien dat wat goed is voor de aarde\, ook goed is voor onszelf. \nDoe mee!\n Iedereen is welkom. Of je nu één activiteit bezoekt of de hele week meedoet – elke stap telt. Samen maken we Apeldoorn groener\, schoner en bewuster. \n📍 Bekijk het volledige programma en meld je aan via \n 👉 Zero Waste Week Apeldoorn – Voorjaar 2025 \nSamen gaan we voor minder verspilling\, meer verbinding en een afvalvrij Apeldoorn. Natuurlijk doe je mee! 🌍💚
URL:https://zerowasteapeldoorn.nl/agenda/zero-waste-week-voorjaar-2025/
LOCATION:Gelderland
CATEGORIES:Circulariteit,Energie,Eten & drinken,Informatie,Markt,Natuur & biodiversiteit,Opruimen,Recycling,Repareren,Rondleiding,Ruilbeurs,Slow fashion,Verbinden,Workshop,Zero Waste Week,Zwerfafval
ATTACH;FMTTYPE=image/png:https://zerowasteapeldoorn.nl/wp-content/uploads/2025/04/ZWWAP-url-05-2025-web.png
END:VEVENT
END:VCALENDAR