BEGIN:VCALENDAR
VERSION:2.0
PRODID:-//Zero Waste Apeldoorn - ECPv6.15.20//NONSGML v1.0//EN
CALSCALE:GREGORIAN
METHOD:PUBLISH
X-ORIGINAL-URL:https://zerowasteapeldoorn.nl
X-WR-CALDESC:Evenementen voor Zero Waste Apeldoorn
REFRESH-INTERVAL;VALUE=DURATION:PT1H
X-Robots-Tag:noindex
X-PUBLISHED-TTL:PT1H
BEGIN:VTIMEZONE
TZID:Europe/Amsterdam
BEGIN:DAYLIGHT
TZOFFSETFROM:+0100
TZOFFSETTO:+0200
TZNAME:CEST
DTSTART:20230326T010000
END:DAYLIGHT
BEGIN:STANDARD
TZOFFSETFROM:+0200
TZOFFSETTO:+0100
TZNAME:CET
DTSTART:20231029T010000
END:STANDARD
BEGIN:DAYLIGHT
TZOFFSETFROM:+0100
TZOFFSETTO:+0200
TZNAME:CEST
DTSTART:20240331T010000
END:DAYLIGHT
BEGIN:STANDARD
TZOFFSETFROM:+0200
TZOFFSETTO:+0100
TZNAME:CET
DTSTART:20241027T010000
END:STANDARD
BEGIN:DAYLIGHT
TZOFFSETFROM:+0100
TZOFFSETTO:+0200
TZNAME:CEST
DTSTART:20250330T010000
END:DAYLIGHT
BEGIN:STANDARD
TZOFFSETFROM:+0200
TZOFFSETTO:+0100
TZNAME:CET
DTSTART:20251026T010000
END:STANDARD
END:VTIMEZONE
BEGIN:VEVENT
DTSTART;TZID=Europe/Amsterdam:20241021T193000
DTEND;TZID=Europe/Amsterdam:20241021T213000
DTSTAMP:20260419T235039
CREATED:20240708T142623Z
LAST-MODIFIED:20240708T142623Z
UID:6725-1729539000-1729546200@zerowasteapeldoorn.nl
SUMMARY:DeA - De warmtepomp – wat kun je doen
DESCRIPTION:DeA organiseert een informatieavond over de warmtepomp.\nTijdens deze avond informeren we je over warmtepompen en wanneer het zinvol is er een aan te schaffen. Ook leggen we je uit hoe de warmtepompcheck kan helpen. \nDe Warmtepompcheck\nDe warmtepompcheck is een dienst van deA\, in samenwerking met lokale bedrijven. Als je bij deA een offerte-aanvraag doet\, komt er een gespecialiseerde energiecoach bij je thuis die met je checkt of je woning al geschikt is voor een warmtepomp\, en zo ja: full electric of hybride.\nDat is handig voor jou als bewoner en het partnerbedrijf dat de eventuele uitvoering gaat doen. \nEen informatieve avond dus\, met direct gelegenheid om je in te schrijven voor deze extra service. \nDeze informatieavond is voor iedereen: leden en niet-leden van deA. Ben je lid? Neem gerust iemand mee die ook geïnteresseerd is in dit thema en/of deA! Geef het aan in het formulier.
URL:https://zerowasteapeldoorn.nl/agenda/dea-de-warmtepomp-wat-kun-je-doen/
LOCATION:ACEC café\, Roggestraat 44\, Apeldoorn\, 7311 CD\, Nederland
CATEGORIES:Energie,Informatie
END:VEVENT
END:VCALENDAR