BEGIN:VCALENDAR
VERSION:2.0
PRODID:-//Zero Waste Apeldoorn - ECPv6.15.20//NONSGML v1.0//EN
CALSCALE:GREGORIAN
METHOD:PUBLISH
X-ORIGINAL-URL:https://zerowasteapeldoorn.nl
X-WR-CALDESC:Evenementen voor Zero Waste Apeldoorn
REFRESH-INTERVAL;VALUE=DURATION:PT1H
X-Robots-Tag:noindex
X-PUBLISHED-TTL:PT1H
BEGIN:VTIMEZONE
TZID:Europe/Amsterdam
BEGIN:DAYLIGHT
TZOFFSETFROM:+0100
TZOFFSETTO:+0200
TZNAME:CEST
DTSTART:20230326T010000
END:DAYLIGHT
BEGIN:STANDARD
TZOFFSETFROM:+0200
TZOFFSETTO:+0100
TZNAME:CET
DTSTART:20231029T010000
END:STANDARD
BEGIN:DAYLIGHT
TZOFFSETFROM:+0100
TZOFFSETTO:+0200
TZNAME:CEST
DTSTART:20240331T010000
END:DAYLIGHT
BEGIN:STANDARD
TZOFFSETFROM:+0200
TZOFFSETTO:+0100
TZNAME:CET
DTSTART:20241027T010000
END:STANDARD
BEGIN:DAYLIGHT
TZOFFSETFROM:+0100
TZOFFSETTO:+0200
TZNAME:CEST
DTSTART:20250330T010000
END:DAYLIGHT
BEGIN:STANDARD
TZOFFSETFROM:+0200
TZOFFSETTO:+0100
TZNAME:CET
DTSTART:20251026T010000
END:STANDARD
END:VTIMEZONE
BEGIN:VEVENT
DTSTART;TZID=Europe/Amsterdam:20240620T100000
DTEND;TZID=Europe/Amsterdam:20240620T144500
DTSTAMP:20260420T133550
CREATED:20240429T205134Z
LAST-MODIFIED:20240617T141042Z
UID:3470-1718877600-1718894700@zerowasteapeldoorn.nl
SUMMARY:Kijkje achter de schermen bij Van Gerrevink
DESCRIPTION:Van Gerrevink is al eeuwen een begrip in Apeldoorn en een expert op het gebied van recycling van o.a. papier en e-waste. Tijdens de Zero Waste Zomer Week heb je de unieke kans om een kijkje achter de schermen te nemen en te zien hoe indrukwekkend dit bedrijf te werk gaat. \nWat gebeurt er bijvoorbeeld met alle plastic bekers van festivals of met datadragers zoals USB-sticks en smartphones? Op 20 juni geven we je een inkijkje in de wereld van grootschalige recycling. \nDe rondleiding start met een korte presentatie. Jelle van Van Gerrevink ontvangt je graag met koffie en thee\, om meer te vertellen over het bedrijf\, gevolgd door een rondleiding over de werf en langs alle faciliteiten. Tussendoor is er voldoende ruimte voor vragen en het bespreken van actualiteiten op het gebied van duurzaamheid en recycling. \nJe kan kiezen uit 2 momenten en er is plek voor maximaal 7 deelnemers per rondleiding\, dus meld je snel aan! \nElke rondleiding duurt ongeveer 45 minuten. \n\nRondleiding 1 10:00-10:45 uur\nRondleiding 2 14:00-14:45 uur
URL:https://zerowasteapeldoorn.nl/agenda/kijkje-achter-de-schermen-bij-van-gerrevink/
LOCATION:Van Gerrevink\, St. Maarten 2\, Apeldoorn\, 7332 BG
CATEGORIES:Circulariteit,Informatie,Rondleiding
ATTACH;FMTTYPE=image/jpeg:https://zerowasteapeldoorn.nl/wp-content/uploads/2024/04/van-Gerrevink2.jpg
END:VEVENT
BEGIN:VEVENT
DTSTART;TZID=Europe/Amsterdam:20240620T130000
DTEND;TZID=Europe/Amsterdam:20240620T140000
DTSTAMP:20260420T133550
CREATED:20240524T095423Z
LAST-MODIFIED:20240524T095433Z
UID:4300-1718888400-1718892000@zerowasteapeldoorn.nl
SUMMARY:Rondleiding door het Energiepunt
DESCRIPTION:In vijf stappen uw energierekening omlaag én uw huis verduurzamen\nHet Energiepunt geeft u advies over het verduurzamen van uw woning waardoor u kunt besparen op uw energiekosten. Voordat u aan de slag gaat met het verduurzamen van uw woning\, is het handig om te weten wat de logische stappen zijn om een woning te verduurzamen. Dit voorkomt dat u nu keuzes maakt die achteraf gezien niet logisch of niet nodig waren. Zonde van uw tijd en geld! \nTijdens de rondleiding neemt één van de adviseurs van het Energiepunt u mee langs de verschillende verduurzamingsmaatregelen die opgesteld staan. Denk aan verschillende isolatie- en ventilatiemogelijkheden\, soorten glas\, warmtepompen en zonnepanelen. Ook is er ruimte om vragen te stellen over uw eigen situatie. \nMeten is weten\nBij het Energiepunt kunt u gratis meetapparaten lenen om te meten hoe gezond en duurzaam uw huis is. Bijvoorbeeld een verbruiksmonitor\, luchtkwaliteitsmeter of warmtebeeldcamera. Na afloop van de rondleiding kunt u de apparaten bekijken en er één (of meerdere) gratis lenen. \nZien we u 20 juni? \nMeer informatie over het Energiepunt: www.apeldoorn.nl/energiepunt
URL:https://zerowasteapeldoorn.nl/agenda/rondleiding-door-het-energiepunt-2/
LOCATION:Energiepunt\, Paslaan 1\, Apeldoorn\, Nederland
CATEGORIES:Informatie,Rondleiding
ATTACH;FMTTYPE=image/jpeg:https://zerowasteapeldoorn.nl/wp-content/uploads/2024/05/Energiepunt-banner.jpg
END:VEVENT
BEGIN:VEVENT
DTSTART;TZID=Europe/Amsterdam:20240620T140000
DTEND;TZID=Europe/Amsterdam:20240620T160000
DTSTAMP:20260420T133550
CREATED:20240425T131638Z
LAST-MODIFIED:20240617T141429Z
UID:3187-1718892000-1718899200@zerowasteapeldoorn.nl
SUMMARY:Kijkje achter de schermen bij Foenix (innamepunt)
DESCRIPTION:Breng je wel eens je herbruikbare artikelen bij Foenix? En ben je benieuwd wat er vervolgens mee gebeurt? Dan ben je van harte welkom voor een kijkje achter de schermen bij het Innamecentrum op Aruba 12\, op donderdag 20 juni\, tussen 14:00 en 16:00 uur. \nElke rondleiding duurt 30 minuten. \n\nRondleiding 1 14:00-14:30 uur\nRondleiding 2 14:30-15:00 uur\nRondleiding 3 15:00-15:30 uur\nRondleiding 4 15:30-16:00 uur
URL:https://zerowasteapeldoorn.nl/agenda/kijkje-achter-de-schermen-bij-foenix-innamepunt/
LOCATION:Foenix Innamepunt\, Aruba 12\, Apeldoorn
CATEGORIES:Circulariteit,Informatie,Rondleiding
ATTACH;FMTTYPE=image/jpeg:https://zerowasteapeldoorn.nl/wp-content/uploads/2024/04/Innamepunt-Aruba-Foenix-banner.jpg
END:VEVENT
END:VCALENDAR