BEGIN:VCALENDAR
VERSION:2.0
PRODID:-//Zero Waste Apeldoorn - ECPv6.15.20//NONSGML v1.0//EN
CALSCALE:GREGORIAN
METHOD:PUBLISH
X-WR-CALNAME:Zero Waste Apeldoorn
X-ORIGINAL-URL:https://zerowasteapeldoorn.nl
X-WR-CALDESC:Evenementen voor Zero Waste Apeldoorn
REFRESH-INTERVAL;VALUE=DURATION:PT1H
X-Robots-Tag:noindex
X-PUBLISHED-TTL:PT1H
BEGIN:VTIMEZONE
TZID:Europe/Amsterdam
BEGIN:DAYLIGHT
TZOFFSETFROM:+0100
TZOFFSETTO:+0200
TZNAME:CEST
DTSTART:20230326T010000
END:DAYLIGHT
BEGIN:STANDARD
TZOFFSETFROM:+0200
TZOFFSETTO:+0100
TZNAME:CET
DTSTART:20231029T010000
END:STANDARD
BEGIN:DAYLIGHT
TZOFFSETFROM:+0100
TZOFFSETTO:+0200
TZNAME:CEST
DTSTART:20240331T010000
END:DAYLIGHT
BEGIN:STANDARD
TZOFFSETFROM:+0200
TZOFFSETTO:+0100
TZNAME:CET
DTSTART:20241027T010000
END:STANDARD
BEGIN:DAYLIGHT
TZOFFSETFROM:+0100
TZOFFSETTO:+0200
TZNAME:CEST
DTSTART:20250330T010000
END:DAYLIGHT
BEGIN:STANDARD
TZOFFSETFROM:+0200
TZOFFSETTO:+0100
TZNAME:CET
DTSTART:20251026T010000
END:STANDARD
END:VTIMEZONE
BEGIN:VEVENT
DTSTART;TZID=Europe/Amsterdam:20240614T140000
DTEND;TZID=Europe/Amsterdam:20240614T220000
DTSTAMP:20260420T130403
CREATED:20240409T193411Z
LAST-MODIFIED:20240610T095800Z
UID:1819-1718373600-1718402400@zerowasteapeldoorn.nl
SUMMARY:Planty of Food Festival
DESCRIPTION:Kom op vrijdag 14 juni naar het Planty of Food Festival in het prachtige Westenenkerpark en ontdek de rijke wereld van heerlijk plantaardig eten! \nProef de smakelijke gerechten van onze foodtrucks\, geniet van live muziek op ons terras en doe mee aan allerlei leuke activiteiten en proeverijen. Kom in vakantiesferen met een ijsje in je hand op je eigen kleedje\, maak zaadbommen\, bewonder de bloeiende moestuin\, ruil plantjes met andere groenliefhebbers en nog veel meer. Nodig je vrienden en familie uit en ontdek samen de wereld van plantaardig eten en duurzaamheid. We kijken ernaar uit je daar te zien! Bekijk hier alle informatie en het volledige programma. \nTIP: We verzoeken je vriendelijk om wandelend\, met de fiets\, of met OV te komen. Het aantal parkeerplekken is beperkt én we houden uiteraard graag rekening met de mooie natuur! \nVoor wie?\nDit festival wordt een geweldig feest voor iedereen\, van jong tot oud\, ongeacht of je veganist of omnivoor bent\, of je van Hollandse pot houdt of juist van multiculturele gerechten. Ook voor jonge kinderen zijn er tal van leuke activiteiten. Wees erbij!\nDe toegang is gratis. Voor hapjes\, drankjes en sommige activiteiten wordt een kleine vergoeding gevraagd. \nDoor wie?\nHet Planty of Food Festival is onderdeel van de Zero Waste Zomer Week Apeldoorn. Het festival wordt georganiseerd door VegaVrijdag in samenwerking met Theehuis Westenenkerpark\, en mede mogelijk gemaakt door Stichting Zero Waste Apeldoorn. \nLaat je ons weten dat je komt door je hiernaast aan te melden? Hartelijk dank! 🙂
URL:https://zerowasteapeldoorn.nl/agenda/planty-of-food-festival/
LOCATION:Theehuis Westenenkerpark\, Zilverweg 32\, Apeldoorn\, 7335DC
CATEGORIES:Eten & drinken,Informatie,Markt,Meet up,Natuur & biodiversiteit,Repareren,Ruilbeurs,Verbinden,Workshop
ATTACH;FMTTYPE=image/jpeg:https://zerowasteapeldoorn.nl/wp-content/uploads/2024/04/Plenty-of-food-festival-at-the-park.jpg
END:VEVENT
BEGIN:VEVENT
DTSTART;TZID=Europe/Amsterdam:20240616T140000
DTEND;TZID=Europe/Amsterdam:20240616T170000
DTSTAMP:20260420T130403
CREATED:20240421T131632Z
LAST-MODIFIED:20240421T172809Z
UID:2949-1718546400-1718557200@zerowasteapeldoorn.nl
SUMMARY:Apeldoornse IVN Slootjesdag
DESCRIPTION:Kinderen tussen de 4 en 12 jaar kunnen op zondag 16 juni met hun (groot)ouders\, vriendjes\, en vriendinnetjes ontdekken hoe bijzonder het leven is in schijnbaar doodgewoon vijverwater. \nWil je meedoen aan de Apeldoornse IVN Slootjesdag dan ben je de 16e juni tussen 14.00 en 17.00 uur van harte welkom bij de vijver van Het Woldhuis\, Woldhuis 11\, Apeldoorn.\nEcologen van het Waterschap Vallei & Veluwe verlenen medewerking. IVN zorgt voor materialen.\nKosten € 2\, – per deelnemend kind; (groot)ouders en begeleiders gratis! \nInformatie en aanmelden: https://www.ivn.nl/afdeling/apeldoorn/natuuractiviteiten/ivn-slootjesdag-op-zondag-16-juni-2024/ \nDoor kinderen te laten ontdekken wat er leeft in en om het water\, willen we kinderen meer inzicht en betrokkenheid geven bij het waterleven.\nDit jaar staat een speciaal beest centraal: 2024 is verkozen tot Jaar van de kokerjuffer. Waterdiertjes.nl heeft de kokerjuffer tot waterdier van 2024 benoemd. Kokerjuffers bouwen prachtige kokertjes als een soort ‘huisjes’. Ze zeggen veel over de waterkwaliteit. Als je kokerjuffers in het water vindt\, is de kans namelijk groot dat het water gezond en schoon is \nOver IVN\nIVN Natuureducatie zet zich als landelijke non-profit organisatie in voor een groen\, gezond en duurzaam Nederland. Dit doen we door de natuur in de harten van mensen te brengen. We laten jong en oud actief ervaren hoe leuk\, leerzaam\, gezond én belangrijk natuur is. Onze 130 professionals\, 25.000 leden en 170 vrijwilligers afdelingen organiseren natuuractiviteiten\, cursussen en campagnes. Daarbij focussen we op vier kernthema’s: Kind & natuur\, Natuur in de buurt\, Natuur & recreatie en Natuur & gezondheid. IVN is ervan overtuigd dat kennis van en betrokkenheid bij de natuur\, duurzaam handelen stimuleert. IVN: beleef de natuur!
URL:https://zerowasteapeldoorn.nl/agenda/apeldoornse-ivn-slootjesdag/
LOCATION:Het Woldhuis\, Woldhuis 11\, Apeldoorn\, 7325 WN\, Nederland
CATEGORIES:Informatie
ATTACH;FMTTYPE=image/jpeg:https://zerowasteapeldoorn.nl/wp-content/uploads/2024/04/Slootjesdagen.jpg
END:VEVENT
BEGIN:VEVENT
DTSTART;TZID=Europe/Amsterdam:20240619T130000
DTEND;TZID=Europe/Amsterdam:20240619T170000
DTSTAMP:20260420T130403
CREATED:20240425T213204Z
LAST-MODIFIED:20240605T193741Z
UID:3210-1718802000-1718816400@zerowasteapeldoorn.nl
SUMMARY:Cruise 2 Reduce bij Speelboerderij Binky
DESCRIPTION:Op woensdag 19 juni komt de “Cruise 2 Reduce” rijdende recyclefabriek naar Speelboerderij Binky! \nBinky heeft een mooie afvalscheidingswand op Binky’s Smulterras staan. Maud zet haar rijdende recyclefabriek daarnaast om te laten zien hoe het recyclen van plastic precies gaat.\nTussen 13:00 uur en 17:00 uur wordt elk half uur een demonstratie met uitleg gegeven. Uiteraard komt Binky zelf af en toe ook meekijken! \nLET OP: als je je aanmeldt via dit evenement\, kan je 19 juni GRATIS naar Speelboerderij Binky op vertoon van je reservering!\nMaar wees snel: er zijn maar 50 vrijkaarten.\nUiteraard is deze activiteit ook zonder vrijkaartje bij te wonen. Binky abonnementhouders kunnen op het abonnement naar binnen. Een dagkaartje kost €11\,- voor iedereen van 2 jaar en ouder.\n \n 
URL:https://zerowasteapeldoorn.nl/agenda/cruise-to-reduce-bij-binky/
LOCATION:Speelboerderij Binky\, Dubbelbeek 4\, Apeldoorn\, 7333 NJ\, Nederland
CATEGORIES:Informatie
ATTACH;FMTTYPE=image/jpeg:https://zerowasteapeldoorn.nl/wp-content/uploads/2024/04/Maud_c2rbus-scaled.jpg
END:VEVENT
BEGIN:VEVENT
DTSTART;TZID=Europe/Amsterdam:20240619T130000
DTEND;TZID=Europe/Amsterdam:20240619T173000
DTSTAMP:20260420T130403
CREATED:20240604T200403Z
LAST-MODIFIED:20240604T200428Z
UID:4829-1718802000-1718818200@zerowasteapeldoorn.nl
SUMMARY:Gratis bandencheck - De Groene Garage
DESCRIPTION:Op woensdag 19 juni komt De Groene Garage naar het parkeerterrein op de Dubbelbeek (bij Speelboerderij Binky). \nDaar zal een ervaren team de Mobiele Service Band op Spanning gaan uitvoeren! De medewerkers zorgen ervoor dat de geselecteerde auto’s GRATIS van de juiste bandenspanning worden voorzien.\nBij De Groene Garage steken ze graag de handen uit de mouwen voor een beter klimaat. Hun enthousiaste medewerkers lossen het probleem van zachte banden direct voor je op: een feestje voor je banden! \nIn Nederland rijdt meer dan de helft van alle auto’s met een te lage bandenspanning. Dat kost jaarlijks ca. 200 miljoen liter extra brandstof en veroorzaakt 400 miljoen kg extra CO 2 uitstoot. Daarnaast maakt rijden met een te lage bandenspanning autorijden duurder; een auto verbruikt op jaarbasis 2 tot 5% meer brandstof en de slijtage van de banden neemt toe. Het is ook gevaarlijk\, want de verkeersveiligheid neemt af door een slechtere wegligging\, een langere remweg en een grotere kans op een klapband. \nHoe gaat het in z’n werk?\nTussen 13:00u en 17:30u staan de medewerkers van De Groene Garage op het parkeerterrein van Speelboerderij Binky en de Dubbelbeek. Daar zullen zij de automobilisten aanspreken over deze gratis service. Wil je meedoen? Dan krijg je een aanmeldkaart onder de ruitenwisser. Ben je eenmaal geparkeerd en op pad\, dan hoef je verder niets meer te doen.\nDe medewerkers controleren de bandenspanning en pompen de banden zo nodig weer op tot de door de fabrikant geadviseerde spanning (bij normaal gebruik). De aanmeldkaart wordt omgewisseld voor een kaart met daarop de oude bandenspanning\, de nieuwe bandenspanning én de besparingen! Zo weet je precies wat er gebeurd is\, wel zo prettig.
URL:https://zerowasteapeldoorn.nl/agenda/groene-garage-bij-dubbelbeek/
LOCATION:Speelboerderij Binky\, Dubbelbeek 4\, Apeldoorn\, 7333 NJ\, Nederland
CATEGORIES:Energie,Informatie
ATTACH;FMTTYPE=image/jpeg:https://zerowasteapeldoorn.nl/wp-content/uploads/2024/06/Groene-Garage-e1717531407160.jpg
END:VEVENT
BEGIN:VEVENT
DTSTART;TZID=Europe/Amsterdam:20240619T190000
DTEND;TZID=Europe/Amsterdam:20240619T200000
DTSTAMP:20260420T130403
CREATED:20240503T144716Z
LAST-MODIFIED:20240503T150545Z
UID:3623-1718823600-1718827200@zerowasteapeldoorn.nl
SUMMARY:Webinar Heerlijk vakantie vieren! ☀️😎
DESCRIPTION:Of je nu vakantie viert in het buitenland\, in Nederland blijft\, of kiest voor een staycation\, je kunt tijdens de vakantie met kleine stapjes je impact verkleinen terwijl je ten volle van de zomer geniet. \nIn het webinar inspireert Suus\, onze zero waste vakantie-expert\, je graag over hoe je dat kunt doen. Het kost weinig moeite\, het is gratis en nog leuk ook! \nMeld je hiernaast aan voor ons gratis webinar! \nNa inschrijving ontvang je van ons\, een paar dagen voor de webinar\, de link naar de Zoom sessie (check ook je “spambox”). \n⛱️☀️🏕️🍹🧳🗺️👙💦 \n 
URL:https://zerowasteapeldoorn.nl/agenda/webinar-heerlijk-vakantie-vieren-%e2%98%80%ef%b8%8f%f0%9f%98%8e/
CATEGORIES:Informatie
ATTACH;FMTTYPE=image/jpeg:https://zerowasteapeldoorn.nl/wp-content/uploads/2024/05/webinar-vakantie-vieren.jpg
END:VEVENT
BEGIN:VEVENT
DTSTART;TZID=Europe/Amsterdam:20240619T203000
DTEND;TZID=Europe/Amsterdam:20240619T213000
DTSTAMP:20260420T130403
CREATED:20240503T151242Z
LAST-MODIFIED:20240503T151242Z
UID:3630-1718829000-1718832600@zerowasteapeldoorn.nl
SUMMARY:Webinar Bioplastic: a beautiful lie?
DESCRIPTION:In slechts 70 jaar is plastic uitgegroeid tot een onmisbaar onderdeel van onze welvaart\, maar tegelijkertijd veroorzaakt het ook enorme milieuproblemen. Nu bevinden we ons in een spannende tijd waarin bioplastic terrein wint als alternatief voor traditioneel plastic. Maar wat maakt bioplastic anders en is het werkelijk een duurzamere keuze voor ons milieu? \nSchrijf je in voor dit boeiende webinar en laat je meenemen op een informatieve reis waarin we de mysteries van plastic & bioplastic ontrafelen. \nMichel\, Senior proces technoloog bij Attero en Zero Waste expert\, bespreekt o.a. tijdens dit webinar belangrijke kwesties\, zoals recycling\, composteerbaarheid en natuurlijke afbraak. \nMeld je hiernaast aan voor ons gratis webinar! \nNa inschrijving ontvang je van ons\, een paar dagen voor de webinar\, de link naar de Zoom sessie (check ook je “spambox”).
URL:https://zerowasteapeldoorn.nl/agenda/webinar-bioplastic-a-beautiful-lie/
CATEGORIES:Informatie
ATTACH;FMTTYPE=image/jpeg:https://zerowasteapeldoorn.nl/wp-content/uploads/2024/05/bioplastics-webinar.jpg
END:VEVENT
BEGIN:VEVENT
DTSTART;TZID=Europe/Amsterdam:20240620T100000
DTEND;TZID=Europe/Amsterdam:20240620T144500
DTSTAMP:20260420T130403
CREATED:20240429T205134Z
LAST-MODIFIED:20240617T141042Z
UID:3470-1718877600-1718894700@zerowasteapeldoorn.nl
SUMMARY:Kijkje achter de schermen bij Van Gerrevink
DESCRIPTION:Van Gerrevink is al eeuwen een begrip in Apeldoorn en een expert op het gebied van recycling van o.a. papier en e-waste. Tijdens de Zero Waste Zomer Week heb je de unieke kans om een kijkje achter de schermen te nemen en te zien hoe indrukwekkend dit bedrijf te werk gaat. \nWat gebeurt er bijvoorbeeld met alle plastic bekers van festivals of met datadragers zoals USB-sticks en smartphones? Op 20 juni geven we je een inkijkje in de wereld van grootschalige recycling. \nDe rondleiding start met een korte presentatie. Jelle van Van Gerrevink ontvangt je graag met koffie en thee\, om meer te vertellen over het bedrijf\, gevolgd door een rondleiding over de werf en langs alle faciliteiten. Tussendoor is er voldoende ruimte voor vragen en het bespreken van actualiteiten op het gebied van duurzaamheid en recycling. \nJe kan kiezen uit 2 momenten en er is plek voor maximaal 7 deelnemers per rondleiding\, dus meld je snel aan! \nElke rondleiding duurt ongeveer 45 minuten. \n\nRondleiding 1 10:00-10:45 uur\nRondleiding 2 14:00-14:45 uur
URL:https://zerowasteapeldoorn.nl/agenda/kijkje-achter-de-schermen-bij-van-gerrevink/
LOCATION:Van Gerrevink\, St. Maarten 2\, Apeldoorn\, 7332 BG
CATEGORIES:Circulariteit,Informatie,Rondleiding
ATTACH;FMTTYPE=image/jpeg:https://zerowasteapeldoorn.nl/wp-content/uploads/2024/04/van-Gerrevink2.jpg
END:VEVENT
BEGIN:VEVENT
DTSTART;TZID=Europe/Amsterdam:20240620T130000
DTEND;TZID=Europe/Amsterdam:20240620T140000
DTSTAMP:20260420T130404
CREATED:20240524T095423Z
LAST-MODIFIED:20240524T095433Z
UID:4300-1718888400-1718892000@zerowasteapeldoorn.nl
SUMMARY:Rondleiding door het Energiepunt
DESCRIPTION:In vijf stappen uw energierekening omlaag én uw huis verduurzamen\nHet Energiepunt geeft u advies over het verduurzamen van uw woning waardoor u kunt besparen op uw energiekosten. Voordat u aan de slag gaat met het verduurzamen van uw woning\, is het handig om te weten wat de logische stappen zijn om een woning te verduurzamen. Dit voorkomt dat u nu keuzes maakt die achteraf gezien niet logisch of niet nodig waren. Zonde van uw tijd en geld! \nTijdens de rondleiding neemt één van de adviseurs van het Energiepunt u mee langs de verschillende verduurzamingsmaatregelen die opgesteld staan. Denk aan verschillende isolatie- en ventilatiemogelijkheden\, soorten glas\, warmtepompen en zonnepanelen. Ook is er ruimte om vragen te stellen over uw eigen situatie. \nMeten is weten\nBij het Energiepunt kunt u gratis meetapparaten lenen om te meten hoe gezond en duurzaam uw huis is. Bijvoorbeeld een verbruiksmonitor\, luchtkwaliteitsmeter of warmtebeeldcamera. Na afloop van de rondleiding kunt u de apparaten bekijken en er één (of meerdere) gratis lenen. \nZien we u 20 juni? \nMeer informatie over het Energiepunt: www.apeldoorn.nl/energiepunt
URL:https://zerowasteapeldoorn.nl/agenda/rondleiding-door-het-energiepunt-2/
LOCATION:Energiepunt\, Paslaan 1\, Apeldoorn\, Nederland
CATEGORIES:Informatie,Rondleiding
ATTACH;FMTTYPE=image/jpeg:https://zerowasteapeldoorn.nl/wp-content/uploads/2024/05/Energiepunt-banner.jpg
END:VEVENT
BEGIN:VEVENT
DTSTART;TZID=Europe/Amsterdam:20240620T140000
DTEND;TZID=Europe/Amsterdam:20240620T160000
DTSTAMP:20260420T130404
CREATED:20240425T131638Z
LAST-MODIFIED:20240617T141429Z
UID:3187-1718892000-1718899200@zerowasteapeldoorn.nl
SUMMARY:Kijkje achter de schermen bij Foenix (innamepunt)
DESCRIPTION:Breng je wel eens je herbruikbare artikelen bij Foenix? En ben je benieuwd wat er vervolgens mee gebeurt? Dan ben je van harte welkom voor een kijkje achter de schermen bij het Innamecentrum op Aruba 12\, op donderdag 20 juni\, tussen 14:00 en 16:00 uur. \nElke rondleiding duurt 30 minuten. \n\nRondleiding 1 14:00-14:30 uur\nRondleiding 2 14:30-15:00 uur\nRondleiding 3 15:00-15:30 uur\nRondleiding 4 15:30-16:00 uur
URL:https://zerowasteapeldoorn.nl/agenda/kijkje-achter-de-schermen-bij-foenix-innamepunt/
LOCATION:Foenix Innamepunt\, Aruba 12\, Apeldoorn
CATEGORIES:Circulariteit,Informatie,Rondleiding
ATTACH;FMTTYPE=image/jpeg:https://zerowasteapeldoorn.nl/wp-content/uploads/2024/04/Innamepunt-Aruba-Foenix-banner.jpg
END:VEVENT
BEGIN:VEVENT
DTSTART;TZID=Europe/Amsterdam:20240627T193000
DTEND;TZID=Europe/Amsterdam:20240627T220000
DTSTAMP:20260420T130404
CREATED:20240607T102105Z
LAST-MODIFIED:20240625T210114Z
UID:4940-1719516600-1719525600@zerowasteapeldoorn.nl
SUMMARY:Workshop 'Bodemtuinieren' door Van Nature Tuin*
DESCRIPTION:Succesvol tuinieren begint met een gezonde tuinbodem. Wil je weten wat voor een bodem jij hebt en hoe je die verzorgt zodat je met meer gemak en meer succes tuiniert? Dan is deze workshop misschien wat voor jou!\nDe workshop wordt gegeven door Marion\, ecologisch tuinontwerper. Ze legt op een begrijpelijke manier uit wat de eigenschappen zijn van jouw bodem en hoe je jouw bodem verzorgd.\nTijdens de workshop neem je een schoon (jam)potje met aarde uit je tuin mee\, zodat je meteen aan de slag kunt! \nAanmelden kan via de website van Marion\, ook vind je daar meer informatie. \nEr is plek voor  8 -10 personen \nKosten: 25 euro per persoon\, inclusief koffie/thee en naslagmateriaal
URL:https://zerowasteapeldoorn.nl/agenda/workshop-bodemtuinieren-door-van-nature-tuin/
LOCATION:Tuinwinkel de Boshommel\, Asselsestraat 24\, Apeldoorn\, 7311 EL
CATEGORIES:Informatie,Natuur & biodiversiteit,Workshop
ATTACH;FMTTYPE=image/jpeg:https://zerowasteapeldoorn.nl/wp-content/uploads/2024/04/Zaailingen-Ruildag-Boshommel-3.jpg
END:VEVENT
END:VCALENDAR