BEGIN:VCALENDAR
VERSION:2.0
PRODID:-//Zero Waste Apeldoorn - ECPv6.15.20//NONSGML v1.0//EN
CALSCALE:GREGORIAN
METHOD:PUBLISH
X-WR-CALNAME:Zero Waste Apeldoorn
X-ORIGINAL-URL:https://zerowasteapeldoorn.nl
X-WR-CALDESC:Evenementen voor Zero Waste Apeldoorn
REFRESH-INTERVAL;VALUE=DURATION:PT1H
X-Robots-Tag:noindex
X-PUBLISHED-TTL:PT1H
BEGIN:VTIMEZONE
TZID:Europe/Amsterdam
BEGIN:DAYLIGHT
TZOFFSETFROM:+0100
TZOFFSETTO:+0200
TZNAME:CEST
DTSTART:20230326T010000
END:DAYLIGHT
BEGIN:STANDARD
TZOFFSETFROM:+0200
TZOFFSETTO:+0100
TZNAME:CET
DTSTART:20231029T010000
END:STANDARD
BEGIN:DAYLIGHT
TZOFFSETFROM:+0100
TZOFFSETTO:+0200
TZNAME:CEST
DTSTART:20240331T010000
END:DAYLIGHT
BEGIN:STANDARD
TZOFFSETFROM:+0200
TZOFFSETTO:+0100
TZNAME:CET
DTSTART:20241027T010000
END:STANDARD
BEGIN:DAYLIGHT
TZOFFSETFROM:+0100
TZOFFSETTO:+0200
TZNAME:CEST
DTSTART:20250330T010000
END:DAYLIGHT
BEGIN:STANDARD
TZOFFSETFROM:+0200
TZOFFSETTO:+0100
TZNAME:CET
DTSTART:20251026T010000
END:STANDARD
END:VTIMEZONE
BEGIN:VEVENT
DTSTART;VALUE=DATE:20241103
DTEND;VALUE=DATE:20241110
DTSTAMP:20260420T234053
CREATED:20241002T133121Z
LAST-MODIFIED:20241024T100345Z
UID:8910-1730592000-1731196799@zerowasteapeldoorn.nl
SUMMARY:Zero Waste Winter Week Apeldoorn
DESCRIPTION:Van zondag 3 november tot en met zaterdag 9 november organiseren wij in samenwerking met lokale organisaties en de fijnste impact makers\, de Zero Waste Winter Week. De tweede editie van twee Zero Waste Weken in 2024! \nThemaweek\nTijdens deze themaweek waarin verspillingsvrij en afvalvrij leven centraal staan\, laten wij inwoners van de gemeente Apeldoorn kennis maken met duurzame initiatieven\, activiteiten en organisaties in onze gemeente. \nHet thema: Stijlvol & Slim: Betaalbare Feestdagen met een Groene Twist \n5 R’en\nDoor het organiseren van allerlei activiteiten verspreid door de week en door de stad\, voor jong en oud\, laten we zien hoe je in kleine stapjes een positieve impact kan maken in je dagelijkse leven. De bekende 5 R’en van een zero waste leefstijl zijn daarbij het uitgangspunt: Refuse (weiger)\, Reduce (verminder)\, Reuse (hergebruik)\, Recycle en Rot (composteer). \n\n\n\n\n“De eerste grote stap naar verandering is het nemen van de eerste kleine stap.” \n\nOp onze website en socials geven we je tijdens de Zero Waste Winter Week praktische tips en handvatten om van de dure decembermaand\, een duurzame en betaalbare maand te maken. Daarnaast staan er tijdens de hele week activiteiten op de planning. Bekijk het hele programma en meld je aan! \n\n 
URL:https://zerowasteapeldoorn.nl/agenda/zero-waste-winter-week/
LOCATION:Gelderland
CATEGORIES:Circulariteit,Energie,Eten & drinken,Informatie,Markt,Natuur & biodiversiteit,Opruimen,Repareren,Rondleiding,Ruilbeurs,Slow fashion,Verbinden,Workshop,Zero Waste Week,Zwerfafval
ATTACH;FMTTYPE=image/png:https://zerowasteapeldoorn.nl/wp-content/uploads/2024/09/Zero-Waste-Winter-Week.png
END:VEVENT
BEGIN:VEVENT
DTSTART;TZID=Europe/Amsterdam:20241106T193000
DTEND;TZID=Europe/Amsterdam:20241106T213000
DTSTAMP:20260420T234054
CREATED:20241005T205847Z
LAST-MODIFIED:20241016T123557Z
UID:9025-1730921400-1730928600@zerowasteapeldoorn.nl
SUMMARY:Vegan kaasproeverij met het Kaaslokaal - Vega Vrijdag (VOL)
DESCRIPTION:Vega Vrijdag Apeldoorn organiseert\, in samenwerking met Het Kaaslokaal en Proef-locaal Het Achterom\, een Vegan Kaasproeverij!\nVoor veel veganisten in de dop is het laten staan van kaas het moeilijkste omdat er nog weinig lekkere alternatieven waren. Toch wordt ook op dit gebied steeds meer geïnnoveerd. Zo zijn Those Vegan Cowboys bezig met het ontwikkelen van kaas op  basis van caseïne uit gras\, zonder dat er een koe aan te pas komt. Ook kazen op basis van cashewnoten\, lupine en kokosolie zijn steeds meer op de markt verkrijgbaar. \nHet Kaaslokaal heeft al een aantal vegan kazen te koop. Ze willen graag weten welke merken ze aan hun assortiment kunnen toevoegen. En daarvoor hebben we jullie nodig! \nProef een aantal kazen\, met goede recensies\, en geef jouw mening. Dit alles doen we op woensdagavond 6 november in het sfeervolle Proef-Locaal Het Achterom. Zij zorgen voor bijpassende vegan wijnen (rood en wit\, ook alcoholvrij)\, en wat bijpassende hapjes. Zo maken we er een gezellige borrel van met elkaar! \nVoor de kaasproeverij en een glas bubbels betaal je €17\,50 per persoon. Wijnen en andere drankjes kunnen ter plekke besteld (en betaald) worden. \nDatum: woensdagavond 6 november 2024\nInloop: vanaf 19.30 uur\nStart programma: 20.00 uur\nLocatie: Proef-Locaal Het Achterom\, Mariastraat 2h\, 7311 HL Apeldoorn\nAanmelden: vegavrijdagapeldoorn@gmail.com \nPS. De chocoladeproeverij van 13 oktober was snel vol geboekt. Was je te laat en wil je een herkansing? Dat kan op zondagmiddag 26 januari. Je kunt je nu al aanmelden! -> vegavrijdagapeldoorn@gmail.com \n 
URL:https://zerowasteapeldoorn.nl/agenda/vegan-kaasproeverij-met-het-kaaslokaal/
LOCATION:Het Achterom\, Mariastraat 2H\, Apeldoorn\, 7311 HL\, Netherlands
CATEGORIES:Eten & drinken,Zero Waste Week
ATTACH;FMTTYPE=image/png:https://zerowasteapeldoorn.nl/wp-content/uploads/2024/10/Vegan-kaasproeverij-vol.png
END:VEVENT
END:VCALENDAR