BEGIN:VCALENDAR
VERSION:2.0
PRODID:-//Zero Waste Apeldoorn - ECPv6.15.20//NONSGML v1.0//EN
CALSCALE:GREGORIAN
METHOD:PUBLISH
X-WR-CALNAME:Zero Waste Apeldoorn
X-ORIGINAL-URL:https://zerowasteapeldoorn.nl
X-WR-CALDESC:Evenementen voor Zero Waste Apeldoorn
REFRESH-INTERVAL;VALUE=DURATION:PT1H
X-Robots-Tag:noindex
X-PUBLISHED-TTL:PT1H
BEGIN:VTIMEZONE
TZID:Europe/Amsterdam
BEGIN:DAYLIGHT
TZOFFSETFROM:+0100
TZOFFSETTO:+0200
TZNAME:CEST
DTSTART:20230326T010000
END:DAYLIGHT
BEGIN:STANDARD
TZOFFSETFROM:+0200
TZOFFSETTO:+0100
TZNAME:CET
DTSTART:20231029T010000
END:STANDARD
BEGIN:DAYLIGHT
TZOFFSETFROM:+0100
TZOFFSETTO:+0200
TZNAME:CEST
DTSTART:20240331T010000
END:DAYLIGHT
BEGIN:STANDARD
TZOFFSETFROM:+0200
TZOFFSETTO:+0100
TZNAME:CET
DTSTART:20241027T010000
END:STANDARD
BEGIN:DAYLIGHT
TZOFFSETFROM:+0100
TZOFFSETTO:+0200
TZNAME:CEST
DTSTART:20250330T010000
END:DAYLIGHT
BEGIN:STANDARD
TZOFFSETFROM:+0200
TZOFFSETTO:+0100
TZNAME:CET
DTSTART:20251026T010000
END:STANDARD
END:VTIMEZONE
BEGIN:VEVENT
DTSTART;TZID=Europe/Amsterdam:20240629T100000
DTEND;TZID=Europe/Amsterdam:20240629T160000
DTSTAMP:20260420T231335
CREATED:20240423T141215Z
LAST-MODIFIED:20240423T141215Z
UID:3112-1719655200-1719676800@zerowasteapeldoorn.nl
SUMMARY:29 juni Zomermarkt bij Stadsakkers*
DESCRIPTION:Datum: 29-06-2024 | Starttijd: 10:00 uur | Eindtijd: 16:00 uur | Locatie: StadsAkkers – Dommeweg 5b | Thema: Zelf gemaakt \nOp de Stadsakkers Zomermarkt is er van alles te doen en te zien: verschillende kramen met allerlei producten\, rondleidingen\, kleurplatenwedstrijd\, kinderactiviteiten\, koffie\, thee en lekkers in de blokhut… Dus tot dan! \n——————————\n*Deze activiteit is niet door stichting Zero Waste Apeldoorn georganiseerd.
URL:https://zerowasteapeldoorn.nl/agenda/29-juni-zomermarkt-bij-stadsakkers/
LOCATION:stadsakkers\, Dommeweg 5B\, Apeldoorn\, 7323 RD\, Nederland
CATEGORIES:Eten & drinken,Markt,Natuur & biodiversiteit
ATTACH;FMTTYPE=image/jpeg:https://zerowasteapeldoorn.nl/wp-content/uploads/2024/04/Markt-Stadsakkers.jpg
END:VEVENT
END:VCALENDAR