BEGIN:VCALENDAR
VERSION:2.0
PRODID:-//Zero Waste Apeldoorn - ECPv6.15.20//NONSGML v1.0//EN
CALSCALE:GREGORIAN
METHOD:PUBLISH
X-ORIGINAL-URL:https://zerowasteapeldoorn.nl
X-WR-CALDESC:Evenementen voor Zero Waste Apeldoorn
REFRESH-INTERVAL;VALUE=DURATION:PT1H
X-Robots-Tag:noindex
X-PUBLISHED-TTL:PT1H
BEGIN:VTIMEZONE
TZID:Europe/Amsterdam
BEGIN:DAYLIGHT
TZOFFSETFROM:+0100
TZOFFSETTO:+0200
TZNAME:CEST
DTSTART:20230326T010000
END:DAYLIGHT
BEGIN:STANDARD
TZOFFSETFROM:+0200
TZOFFSETTO:+0100
TZNAME:CET
DTSTART:20231029T010000
END:STANDARD
BEGIN:DAYLIGHT
TZOFFSETFROM:+0100
TZOFFSETTO:+0200
TZNAME:CEST
DTSTART:20240331T010000
END:DAYLIGHT
BEGIN:STANDARD
TZOFFSETFROM:+0200
TZOFFSETTO:+0100
TZNAME:CET
DTSTART:20241027T010000
END:STANDARD
BEGIN:DAYLIGHT
TZOFFSETFROM:+0100
TZOFFSETTO:+0200
TZNAME:CEST
DTSTART:20250330T010000
END:DAYLIGHT
BEGIN:STANDARD
TZOFFSETFROM:+0200
TZOFFSETTO:+0100
TZNAME:CET
DTSTART:20251026T010000
END:STANDARD
END:VTIMEZONE
BEGIN:VEVENT
DTSTART;TZID=Europe/Amsterdam:20240620T100000
DTEND;TZID=Europe/Amsterdam:20240620T123000
DTSTAMP:20260420T231311
CREATED:20240410T181219Z
LAST-MODIFIED:20240521T174441Z
UID:1930-1718877600-1718886600@zerowasteapeldoorn.nl
SUMMARY:Zero Waste Wandeltour - Binnenstad
DESCRIPTION:Tijdens een Zero Waste Wandeltour wordt er verteld over hoe je boodschappen doet met minder (plastic) verpakking in Apeldoorn\, of bij welke winkels je terecht kunt met je eigen bakjes en zakjes; daarnaast ontmoet je anderen die ook graag minder plastic (willen) gebruiken\, ontvang je tientallen handige tips en adressen om (de eerste) stappen te zetten naar een duurzame(re)\, afvalvrije en verspillingsvrije leefstijl\, en heb je de kans om vele vragen te stellen aan Apeldoornse Zero Waste Heroes. \nWelke product vind jij lastig om verpakkingsvrij te kopen? Onze lokale gidsen staan klaar om jou alle geheimen van een afvalvrij leven mee te geven! \nSluit je aan bij deze interactieve wandeling. Bestel hiernaast je (gratis) ticket!\n \nPraktische informatie: \n-Verzamelpunt: om 9:55 uur bij de biologische markt\, aan de Asselsestraat (zie kaart). De tour gaat om 10:00 uur van start.\n-We bezoeken ten minste 8 locaties\, de wandelroute is ongeveer 2 tot 3km.\n-Er is voldoende gelegenheid om al je persoonlijke vragen te stellen.\n-Deelname aan de tour is gratis\, maar aankopen onderweg zijn voor eigen rekening.\n-We eindigen de tour met een kopje koffie of thee aangeboden door het Energiepunt (Paslaan 1).\nTip: Stal je fiets bij de fietsenstalling aan de Paslaan\, waar de tour eindigt. \nWat neem je mee?  \n-Goede schoenen en evt. paraplu;\n-Je eigen boodschappentas(sen)\, en herbruikbare potjes\, bakjes en zakjes\, voor eventuele aankopen onderweg. \nHeb je vragen over dit evenement in Apeldoorn\, graag een mail sturen naar: info@zerowasteapeldoorn.nl\nDe Zero Waste Wandeltours zijn een initiatief van Zero Waste Nederland\, waar Stichting Zero Waste Apeldoorn graag aan meewerkt.
URL:https://zerowasteapeldoorn.nl/agenda/zero-waste-wandeltour-apeldoorn/
LOCATION:Biologische Markt\, Parkeerplaats Asselsestraa/Wilhelmina Druckerstraat\, Asselsestraat 88\, 7311 ER
CATEGORIES:Eten & drinken
ATTACH;FMTTYPE=image/jpeg:https://zerowasteapeldoorn.nl/wp-content/uploads/2024/04/image00023-scaled.jpeg
END:VEVENT
BEGIN:VEVENT
DTSTART;TZID=Europe/Amsterdam:20240620T180000
DTEND;TZID=Europe/Amsterdam:20240620T200000
DTSTAMP:20260420T231311
CREATED:20240508T212725Z
LAST-MODIFIED:20240508T220127Z
UID:3858-1718906400-1718913600@zerowasteapeldoorn.nl
SUMMARY:Feestelijke afsluiting met Positieve Impact Partners
DESCRIPTION:Feestelijke afterparty met Positieve Impact Partners als afsluiting van de Zero Waste Zomer Week!\nOp 20 juni 2024 nodigen we onze Positieve Impact Partners van harte uit voor een bijeenkomst op de daktuin van CODA. We kijken ernaar uit om samen met jou te genieten en informeel te netwerken onder het genot van een hapje en drankje. \nGraag willen we dan natuurlijk ook met je terugblikken op de succesvolle Zero Waste Zomer Week en alvast ideeën en plannen uitwisselen voor de volgende editie\, die zal plaatsvinden in november: de Zero Waste Winter Week.\nDaarnaast zullen MakersSpace-heldinnen Margot en Sandra je meenemen op een informatieve rondleiding door de b(l)oeiende daktuin van CODA. \nWe zorgen sowieso voor een gezellig vega(n) hapje en drankje van catering Urban om de avond compleet te maken. \nMeld je snel aan via de knop hiernaast om jouw aanwezigheid te bevestigen. We kijken ernaar uit om jou als partner te verwelkomen en samen onze impact te vergroten! \nInloop: 17:30 uur\nStart: 18:00 uur | Einde: 20:00 uur
URL:https://zerowasteapeldoorn.nl/agenda/feestelijke-afsluiting-met-positieve-impact-partners/
LOCATION:CODA\, Vosselmanstraat 299\, Apeldoorn\, 7311CL\, Nederland
CATEGORIES:Eten & drinken,Meet up,Rondleiding,Verbinden
ATTACH;FMTTYPE=image/jpeg:https://zerowasteapeldoorn.nl/wp-content/uploads/2024/05/Afterparty.jpg
END:VEVENT
END:VCALENDAR