BEGIN:VCALENDAR
VERSION:2.0
PRODID:-//Zero Waste Apeldoorn - ECPv6.15.20//NONSGML v1.0//EN
CALSCALE:GREGORIAN
METHOD:PUBLISH
X-ORIGINAL-URL:https://zerowasteapeldoorn.nl
X-WR-CALDESC:Evenementen voor Zero Waste Apeldoorn
REFRESH-INTERVAL;VALUE=DURATION:PT1H
X-Robots-Tag:noindex
X-PUBLISHED-TTL:PT1H
BEGIN:VTIMEZONE
TZID:Europe/Amsterdam
BEGIN:DAYLIGHT
TZOFFSETFROM:+0100
TZOFFSETTO:+0200
TZNAME:CEST
DTSTART:20230326T010000
END:DAYLIGHT
BEGIN:STANDARD
TZOFFSETFROM:+0200
TZOFFSETTO:+0100
TZNAME:CET
DTSTART:20231029T010000
END:STANDARD
BEGIN:DAYLIGHT
TZOFFSETFROM:+0100
TZOFFSETTO:+0200
TZNAME:CEST
DTSTART:20240331T010000
END:DAYLIGHT
BEGIN:STANDARD
TZOFFSETFROM:+0200
TZOFFSETTO:+0100
TZNAME:CET
DTSTART:20241027T010000
END:STANDARD
BEGIN:DAYLIGHT
TZOFFSETFROM:+0100
TZOFFSETTO:+0200
TZNAME:CEST
DTSTART:20250330T010000
END:DAYLIGHT
BEGIN:STANDARD
TZOFFSETFROM:+0200
TZOFFSETTO:+0100
TZNAME:CET
DTSTART:20251026T010000
END:STANDARD
END:VTIMEZONE
BEGIN:VEVENT
DTSTART;TZID=Europe/Amsterdam:20240830T100000
DTEND;TZID=Europe/Amsterdam:20240830T150000
DTSTAMP:20260420T073330
CREATED:20240820T191004Z
LAST-MODIFIED:20240826T092437Z
UID:7485-1725012000-1725030000@zerowasteapeldoorn.nl
SUMMARY:Gezellige fietstocht en heerlijke biologische vega(n) lunch*
DESCRIPTION:Op vrijdag 30 augustus organiseren Vrijwilligersinitiatief VegaVrijdag en de Fietsersbond Apeldoorn een fietstocht met onderweg een heerlijke biologische lunch.\n\nProgramma\nDe mooie fietstocht is ongeveer 40 kilometer lang en start om 10.00 uur voor het station\, bij standbeeld De Kus.\nRond 12.00 uur komen we aan bij kringloopwinkel Twello. In de prachtige lunchroom genieten de deelnemers van een uitgebreide biologische lunch\, naar keuze vegetarisch of veganistisch met een drankje naar keuze. En daarnaast is er nog koffie of thee met heerlijke zoete lekkernijen als nagerecht.\nRond 15.00 uur eindigt de fietstocht weer bij station Apeldoorn.\n\nAanmelden\nWie wil meedoen met dit gezellige dagje uit\, kan zich uiterlijk 26 augustus aanmelden via vegavrijdagapeldoorn@gmail.com. Daarbij kan aangegeven worden of de voorkeur vegetarisch of veganistisch is. De deelnamekosten bedragen €25\,- en dienen vooraf te worden overgemaakt.\nWie niet mee kan fietsen\, kan ook alleen genieten van de lunch. Dit kan in de aanmelding worden aangegeven\n\n\n*Deze activiteit is door Vrijwilligersinitiatief VegaVrijdag en de Fietsersbond Apeldoorn georganiseerd
URL:https://zerowasteapeldoorn.nl/agenda/gezellige-fietstocht-en-heerlijke-biologische-vegan-lunch/
LOCATION:stationsplein\, Stationsplein 1\, Apeldoorn\, 7311 NZ\, Nederland
CATEGORIES:Eten & drinken,Meet up,Verbinden
ATTACH;FMTTYPE=image/jpeg:https://zerowasteapeldoorn.nl/wp-content/uploads/2024/08/Fietsen-en-Vegan-high-tea.jpg
END:VEVENT
BEGIN:VEVENT
DTSTART;TZID=Europe/Amsterdam:20240831T080000
DTEND;TZID=Europe/Amsterdam:20240831T170000
DTSTAMP:20260420T073330
CREATED:20240423T141540Z
LAST-MODIFIED:20240820T191822Z
UID:3115-1725091200-1725123600@zerowasteapeldoorn.nl
SUMMARY:Oogstmarkt bij Stadsakkers
DESCRIPTION:Datum: 31-08-2024 | Starttijd: 10:00 uur | Eindtijd: 16:00 uur | Locatie: Stadsakkers – Dommeweg 5b | Thema: Duurzaam \nOp 31 augustus organiseert Stadsakkers weer de Oogstmarkt.\nHet restaurant en de winkel zijn open. Er is veel geoogst in deze periode. Verder zijn er rondleidingen\, kun je bramen plukken en natuurlijk je eigen bos bloemen samenstellen. \nEr zijn divers kramen met zelfgemaakte producten van onze vaste en ook weer nieuwe marktkraamhouders. En voor de kinderen is er weer een grote tafel vol met knutselspulletjes. \nTot snel op 31 augustus. Als je kunt\, kom op de fiets! \n——————————\nDeze activiteit is door Stadsakkers georganiseerd.
URL:https://zerowasteapeldoorn.nl/agenda/31-augustus-oogstmarkt-bij-stadsakkers/
LOCATION:stadsakkers\, Dommeweg 5B\, Apeldoorn\, 7323 RD\, Nederland
CATEGORIES:Eten & drinken,Markt,Natuur & biodiversiteit
ATTACH;FMTTYPE=image/jpeg:https://zerowasteapeldoorn.nl/wp-content/uploads/2024/04/Markt-Stadsakkers.jpg
END:VEVENT
END:VCALENDAR