BEGIN:VCALENDAR
VERSION:2.0
PRODID:-//Zero Waste Apeldoorn - ECPv6.15.20//NONSGML v1.0//EN
CALSCALE:GREGORIAN
METHOD:PUBLISH
X-ORIGINAL-URL:https://zerowasteapeldoorn.nl
X-WR-CALDESC:Evenementen voor Zero Waste Apeldoorn
REFRESH-INTERVAL;VALUE=DURATION:PT1H
X-Robots-Tag:noindex
X-PUBLISHED-TTL:PT1H
BEGIN:VTIMEZONE
TZID:Europe/Amsterdam
BEGIN:DAYLIGHT
TZOFFSETFROM:+0100
TZOFFSETTO:+0200
TZNAME:CEST
DTSTART:20230326T010000
END:DAYLIGHT
BEGIN:STANDARD
TZOFFSETFROM:+0200
TZOFFSETTO:+0100
TZNAME:CET
DTSTART:20231029T010000
END:STANDARD
BEGIN:DAYLIGHT
TZOFFSETFROM:+0100
TZOFFSETTO:+0200
TZNAME:CEST
DTSTART:20240331T010000
END:DAYLIGHT
BEGIN:STANDARD
TZOFFSETFROM:+0200
TZOFFSETTO:+0100
TZNAME:CET
DTSTART:20241027T010000
END:STANDARD
BEGIN:DAYLIGHT
TZOFFSETFROM:+0100
TZOFFSETTO:+0200
TZNAME:CEST
DTSTART:20250330T010000
END:DAYLIGHT
BEGIN:STANDARD
TZOFFSETFROM:+0200
TZOFFSETTO:+0100
TZNAME:CET
DTSTART:20251026T010000
END:STANDARD
END:VTIMEZONE
BEGIN:VEVENT
DTSTART;TZID=Europe/Amsterdam:20240917T193000
DTEND;TZID=Europe/Amsterdam:20240917T210000
DTSTAMP:20260420T120002
CREATED:20240708T141731Z
LAST-MODIFIED:20240708T141731Z
UID:6715-1726601400-1726606800@zerowasteapeldoorn.nl
SUMMARY:DeA - Meet & Greet Wenum-Wiesel
DESCRIPTION:Meet & Greet Wenum-Wiesel\, georganiseerd door DeA\nWat zijn de plannen voor duurzame warmte in Wenum-Wiesel? Wat wil je voor jouw huis? Waarmee kan DeA je helpen? Kom 17 september ook! Voor een goed gesprek en het uitwisselen van informatie. We zijn benieuwd naar jou wensen en plannen. Voor je eigen huis\, of samen met andere buren. \nWe kijken graag meet je mee en samen kunnen we kijken of en hoe we je verder kunnen helpen. Welkom! \nGraag even aanmelden
URL:https://zerowasteapeldoorn.nl/agenda/dea-meet-greet-wenum-wiesel/
LOCATION:Wenumse watermolen\, Oude Zwolseweg 160\, Wenum-Wiesel\, 7345 DG
CATEGORIES:Energie,Informatie,Meet up
ATTACH;FMTTYPE=image/jpeg:https://zerowasteapeldoorn.nl/wp-content/uploads/2024/07/wenumse-watermolen.jpg
END:VEVENT
BEGIN:VEVENT
DTSTART;TZID=Europe/Amsterdam:20240924T193000
DTEND;TZID=Europe/Amsterdam:20240924T213000
DTSTAMP:20260420T120002
CREATED:20240708T142248Z
LAST-MODIFIED:20240708T142928Z
UID:6721-1727206200-1727213400@zerowasteapeldoorn.nl
SUMMARY:DeA - Informatieavond woning isoleren
DESCRIPTION:DeA organiseert een informatiebijeenkomst over isoleren.\nJe huis isoleren\, pak je het zelf aan of besteed je het uit? Een informatieve avond met veel praktische informatie.\nTijdens deze avond hoort en ziet u meer isolatiemogelijkheden voor je huis. Ook is er informatie over subsidies. Welke isolatie draagt het meeste bij het besparen? Hoe maak je een goede keuze voor nu en de toekomst? Welke materialen zijn er op de markt?  Welke natuurlijke isolatiematerialen zijn er? \n\nIsoleren\, hoe pak je het aan – de principes van isolatie en ventilatie\nBiobased materialen: welke zijn er en welke voor- en nadelen hebben ze.\nDoe-het-zelf-isolatie\nErvaringen van anderen\nNapraten\n\nVan harte welkom! \nDe inloop is vanaf 19.15. Het programma start om 19.30 uur.\nMeld je hier aan
URL:https://zerowasteapeldoorn.nl/agenda/dea-informatieavond-woning-isoleren/
LOCATION:ACEC café\, Roggestraat 44\, Apeldoorn\, 7311 CD\, Nederland
CATEGORIES:Energie,Informatie
ATTACH;FMTTYPE=image/png:https://zerowasteapeldoorn.nl/wp-content/uploads/2024/07/deA-Apeldoorn-Isolatie.png
END:VEVENT
END:VCALENDAR