BEGIN:VCALENDAR
VERSION:2.0
PRODID:-//Zero Waste Apeldoorn - ECPv6.15.20//NONSGML v1.0//EN
CALSCALE:GREGORIAN
METHOD:PUBLISH
X-ORIGINAL-URL:https://zerowasteapeldoorn.nl
X-WR-CALDESC:Evenementen voor Zero Waste Apeldoorn
REFRESH-INTERVAL;VALUE=DURATION:PT1H
X-Robots-Tag:noindex
X-PUBLISHED-TTL:PT1H
BEGIN:VTIMEZONE
TZID:Europe/Amsterdam
BEGIN:DAYLIGHT
TZOFFSETFROM:+0100
TZOFFSETTO:+0200
TZNAME:CEST
DTSTART:20230326T010000
END:DAYLIGHT
BEGIN:STANDARD
TZOFFSETFROM:+0200
TZOFFSETTO:+0100
TZNAME:CET
DTSTART:20231029T010000
END:STANDARD
BEGIN:DAYLIGHT
TZOFFSETFROM:+0100
TZOFFSETTO:+0200
TZNAME:CEST
DTSTART:20240331T010000
END:DAYLIGHT
BEGIN:STANDARD
TZOFFSETFROM:+0200
TZOFFSETTO:+0100
TZNAME:CET
DTSTART:20241027T010000
END:STANDARD
BEGIN:DAYLIGHT
TZOFFSETFROM:+0100
TZOFFSETTO:+0200
TZNAME:CEST
DTSTART:20250330T010000
END:DAYLIGHT
BEGIN:STANDARD
TZOFFSETFROM:+0200
TZOFFSETTO:+0100
TZNAME:CET
DTSTART:20251026T010000
END:STANDARD
END:VTIMEZONE
BEGIN:VEVENT
DTSTART;TZID=Europe/Amsterdam:20240619T130000
DTEND;TZID=Europe/Amsterdam:20240619T173000
DTSTAMP:20260421T070223
CREATED:20240604T200403Z
LAST-MODIFIED:20240604T200428Z
UID:4829-1718802000-1718818200@zerowasteapeldoorn.nl
SUMMARY:Gratis bandencheck - De Groene Garage
DESCRIPTION:Op woensdag 19 juni komt De Groene Garage naar het parkeerterrein op de Dubbelbeek (bij Speelboerderij Binky). \nDaar zal een ervaren team de Mobiele Service Band op Spanning gaan uitvoeren! De medewerkers zorgen ervoor dat de geselecteerde auto’s GRATIS van de juiste bandenspanning worden voorzien.\nBij De Groene Garage steken ze graag de handen uit de mouwen voor een beter klimaat. Hun enthousiaste medewerkers lossen het probleem van zachte banden direct voor je op: een feestje voor je banden! \nIn Nederland rijdt meer dan de helft van alle auto’s met een te lage bandenspanning. Dat kost jaarlijks ca. 200 miljoen liter extra brandstof en veroorzaakt 400 miljoen kg extra CO 2 uitstoot. Daarnaast maakt rijden met een te lage bandenspanning autorijden duurder; een auto verbruikt op jaarbasis 2 tot 5% meer brandstof en de slijtage van de banden neemt toe. Het is ook gevaarlijk\, want de verkeersveiligheid neemt af door een slechtere wegligging\, een langere remweg en een grotere kans op een klapband. \nHoe gaat het in z’n werk?\nTussen 13:00u en 17:30u staan de medewerkers van De Groene Garage op het parkeerterrein van Speelboerderij Binky en de Dubbelbeek. Daar zullen zij de automobilisten aanspreken over deze gratis service. Wil je meedoen? Dan krijg je een aanmeldkaart onder de ruitenwisser. Ben je eenmaal geparkeerd en op pad\, dan hoef je verder niets meer te doen.\nDe medewerkers controleren de bandenspanning en pompen de banden zo nodig weer op tot de door de fabrikant geadviseerde spanning (bij normaal gebruik). De aanmeldkaart wordt omgewisseld voor een kaart met daarop de oude bandenspanning\, de nieuwe bandenspanning én de besparingen! Zo weet je precies wat er gebeurd is\, wel zo prettig.
URL:https://zerowasteapeldoorn.nl/agenda/groene-garage-bij-dubbelbeek/
LOCATION:Speelboerderij Binky\, Dubbelbeek 4\, Apeldoorn\, 7333 NJ\, Nederland
CATEGORIES:Energie,Informatie
ATTACH;FMTTYPE=image/jpeg:https://zerowasteapeldoorn.nl/wp-content/uploads/2024/06/Groene-Garage-e1717531407160.jpg
END:VEVENT
END:VCALENDAR