BEGIN:VCALENDAR
VERSION:2.0
PRODID:-//Zero Waste Apeldoorn - ECPv6.15.20//NONSGML v1.0//EN
CALSCALE:GREGORIAN
METHOD:PUBLISH
X-ORIGINAL-URL:https://zerowasteapeldoorn.nl
X-WR-CALDESC:Evenementen voor Zero Waste Apeldoorn
REFRESH-INTERVAL;VALUE=DURATION:PT1H
X-Robots-Tag:noindex
X-PUBLISHED-TTL:PT1H
BEGIN:VTIMEZONE
TZID:Europe/Amsterdam
BEGIN:DAYLIGHT
TZOFFSETFROM:+0100
TZOFFSETTO:+0200
TZNAME:CEST
DTSTART:20240331T010000
END:DAYLIGHT
BEGIN:STANDARD
TZOFFSETFROM:+0200
TZOFFSETTO:+0100
TZNAME:CET
DTSTART:20241027T010000
END:STANDARD
BEGIN:DAYLIGHT
TZOFFSETFROM:+0100
TZOFFSETTO:+0200
TZNAME:CEST
DTSTART:20250330T010000
END:DAYLIGHT
BEGIN:STANDARD
TZOFFSETFROM:+0200
TZOFFSETTO:+0100
TZNAME:CET
DTSTART:20251026T010000
END:STANDARD
BEGIN:DAYLIGHT
TZOFFSETFROM:+0100
TZOFFSETTO:+0200
TZNAME:CEST
DTSTART:20260329T010000
END:DAYLIGHT
BEGIN:STANDARD
TZOFFSETFROM:+0200
TZOFFSETTO:+0100
TZNAME:CET
DTSTART:20261025T010000
END:STANDARD
END:VTIMEZONE
BEGIN:VEVENT
DTSTART;TZID=Europe/Amsterdam:20250301T100000
DTEND;TZID=Europe/Amsterdam:20250301T113000
DTSTAMP:20260420T013821
CREATED:20250129T115413Z
LAST-MODIFIED:20250203T114746Z
UID:11836-1740823200-1740828600@zerowasteapeldoorn.nl
SUMMARY:Kinderkledingruil Kleertjescafé Apeldoorn – 1 Maart 2025
DESCRIPTION:📅 Zaterdag 1 maart 2025\n🕙 10:00 – 11:30 uur\n📍 Locatie: ontvang na aanmelding \nBreng je voorjaar- en zomerkleding (maat 44-176) in en ruil ze voor een nieuwe garderobe! Denk aan lange en korte broeken\, long sleeves en t-shirts\, jurken\, zwemkleding en meer. Zorg ervoor dat de kleding schoon\, onbeschadigd en actueel is.\nBelangrijk:\n✔ Sorteer kleding thuis op maat en kwaliteit (zie: kledingvoorwaarden op onze website).\n✔ Aanmelden is verplicht en kan via de aanmeldknop hiernaast. VOL = VOL\, maar kom je graag op de reservelijst te staan\, stuur dan een mail naar: kleertjescafe@zerowasteapeldoorn.nl\n✔ Beperkte plekken beschikbaar. Bij no-show kom je op de zwarte lijst. \nSamen werken we aan een circulaire toekomst – doe je mee?
URL:https://zerowasteapeldoorn.nl/agenda/kinderkledingruil-kleertjescafe-1-maart-2025/
LOCATION:Apeldoorn
CATEGORIES:Circulariteit,Kleertjes Café,Ruilbeurs
ATTACH;FMTTYPE=image/png:https://zerowasteapeldoorn.nl/wp-content/uploads/2025/01/KleertjesCafe-banner-volgeboekt-1.png
END:VEVENT
BEGIN:VEVENT
DTSTART;TZID=Europe/Amsterdam:20250307T183000
DTEND;TZID=Europe/Amsterdam:20250307T223000
DTSTAMP:20260420T013821
CREATED:20250208T100502Z
LAST-MODIFIED:20250208T100502Z
UID:11989-1741372200-1741386600@zerowasteapeldoorn.nl
SUMMARY:Puzzelavond in Apeldoorn (maart)
DESCRIPTION:Maandelijkse Puzzelavond in Apeldoorn \nWat: Een gezellige avond vol puzzelplezier en leuke gesprekken!\nWaar: Energiepunt\, Paslaan 1 (naast de fietstenstalling)\nWanneer: Meestal op de eerste vrijdag van de maand (met af en toe een uitzondering!)\nTijd: Inloop vanaf 18.30 uur\, start om 19.00 uur tot ongeveer 22.30 uur\nKosten: Gratis (maar aanmelden is verplicht!) \nHoud je van puzzelen\, een goed gesprek en een gezellige sfeer? Kom dan naar de Puzzelavond! Ruil puzzels met anderen (zonder dat je portemonnee open hoeft)\, ontdek nieuwe uitdagingen en breng een ontspannen avond door met gelijkgestemden. De setting is intiem en ontspannen\, perfect om de tijd te vergeten en je creativiteit te laten stromen. \nWe leggen samen uitdagende puzzels\, zoals een Wasgij of een Jan van Haasteren\, maar ook rustgevende plaatjes. Of je nu een doorgewinterde puzzelaar bent of gewoon zin hebt in een gezellige avond\, iedereen is welkom! Tussendoor wordt er volop gekletst\, gelachen\, en wie weet wordt er zelfs een dansje gewaagd. \nLet op: Er is plaats voor 12 deelnemers. Vol = vol\, dus meld je snel aan! \nWaarom je dit niet wilt missen: \n\nJe geeft oude puzzels een tweede leven door te ruilen.\nJe ontmoet nieuwe mensen met een passie voor puzzelen.\nEen unieke combinatie van ontspanning\, gezelligheid én milieubewustzijn.\nEn ja\, het is helemaal gratis!\n\nZin om mee te doen? Meld je snel aan en verzeker jezelf van een plekje! \n  
URL:https://zerowasteapeldoorn.nl/agenda/puzzelavond-maart-2025/
LOCATION:Energiepunt\, Paslaan 1\, Apeldoorn\, Nederland
CATEGORIES:Circulariteit,Ruilbeurs,Verbinden
ATTACH;FMTTYPE=image/png:https://zerowasteapeldoorn.nl/wp-content/uploads/2024/11/puzzelavond-event-banner.png
END:VEVENT
BEGIN:VEVENT
DTSTART;TZID=Europe/Amsterdam:20250321T143000
DTEND;TZID=Europe/Amsterdam:20250321T170000
DTSTAMP:20260420T013821
CREATED:20250303T191725Z
LAST-MODIFIED:20250310T140304Z
UID:12671-1742567400-1742576400@zerowasteapeldoorn.nl
SUMMARY:Puzzelruilmiddag bij Impact Plek
DESCRIPTION:📢 Puzzelfans opgelet! Puzzelruilmiddag op 21 maart 🧩♻️ \nBen jij dol op puzzelen? Heb je puzzels die je al gemaakt hebt en ben je toe aan een ‘nieuwe’? Kom dan naar onze puzzelruilmiddag op vrijdag 21 maart bij het Zero Waste Apeldoorn kantoor op Impact Plek! \nWaarom kopen als je kunt ruilen? Goed voor je portemonnee én het milieu – een echte win-win! 💚♻️ \n🔄 Hoe werkt het?\n\nNeem je complete en nette puzzels mee en ruil ze voor andere puzzels van ongeveer hetzelfde aantal stukjes.\nEr zijn zo’n 50 puzzels op voorraad om uit te kiezen!\n\n📍 Praktische info\n📌 Locatie: Zero Waste Apeldoorn kantoor (K1)\, Impact Plek\, Vlijtseweg 130\, Apeldoorn (Zie route hieronder)\n🕑 Tijd: 14:30 – 17:00 uur (vrije inloop)\n💰 Kosten: Gratis!\n📩 Aanmelden? Niet verplicht\, maar wel fijn! Dan weten we hoeveel bezoekers we kunnen verwachten. \n💡 Extra puzzelruiltips!\n👉 Geen tijd op 21 maart? Geen probleem! Het hele jaar door kun je puzzels ruilen via de Facebookgroep “De Apeldoornse Puzzelclub (ruilgroep legpuzzels)”. Nog geen lid? Meld je gratis aan!\n👉 Samen puzzelen? Zero Waste Apeldoorn organiseert elke eerste vrijdag van de maand een gezellige puzzelavond bij het Energiepunt (Paslaan 1)\, van 18:30 tot 22:30 uur. Hier kun je ook puzzels delen met anderen! Check onze agenda voor de volgende puzzelavond. \n🎁 Liever doneren?\nHeb je puzzels die je niet wilt ruilen\, maar wél een tweede leven wilt geven? Doneer ze dan aan onze puzzelbank! Tijdens de puzzelruilmiddag kun je jouw complete puzzels inleveren\, zodat anderen er ook plezier van kunnen hebben. \nKom jij ook puzzels ruilen (of inleveren)? We zien je graag op 21 maart! 🎉♻️ \n \n  \n\n 
URL:https://zerowasteapeldoorn.nl/agenda/puzzelruilmiddag-maart-2025/
LOCATION:Zero Waste Apeldoorn\, Impact Plek\, K1 (kelder)\, Vlijtseweg 130\, Apeldoorn\, Gelderland\, 7317 AK\, Netherlands
CATEGORIES:Circulariteit,Ruilbeurs
ATTACH;FMTTYPE=image/png:https://zerowasteapeldoorn.nl/wp-content/uploads/2025/02/puzzelruilmiddag.png
END:VEVENT
BEGIN:VEVENT
DTSTART;TZID=Europe/Amsterdam:20250326T193000
DTEND;TZID=Europe/Amsterdam:20250326T210000
DTSTAMP:20260420T013821
CREATED:20250227T101254Z
LAST-MODIFIED:20250227T101346Z
UID:12536-1743017400-1743022800@zerowasteapeldoorn.nl
SUMMARY:Webinar - Bioplastic: a beautiful lie?
DESCRIPTION:Schrijf je in voor dit boeiende webinar en laat je meenemen op een informatieve reis waarin we de mysteries van plastic & bioplastic ontrafelen. \nIn slechts 70 jaar is plastic uitgegroeid tot een onmisbaar onderdeel van onze welvaart\, maar tegelijkertijd veroorzaakt het ook enorme milieuproblemen. Nu bevinden we ons in een spannende tijd waarin bioplastic terrein wint als alternatief voor traditioneel plastic. Maar wat maakt bioplastic anders en is het werkelijk een duurzamere keuze voor ons milieu? \nMichel\, Senior proces technoloog bij Attero en Zero Waste expert\, bespreekt o.a. tijdens dit webinar belangrijke kwesties\, zoals recycling\, composteerbaarheid en natuurlijke afbraak. \nMeld je nu aan voor dit gratis webinar! Na inschrijving ontvang je een paar dagen voor de webinar\, de link naar de Zoom sessie (check ook je “spambox”).
URL:https://zerowasteapeldoorn.nl/agenda/webinar-bioplastic-a-beautiful-lie-maart-2025/
CATEGORIES:Circulariteit,Informatie,Recycling
ATTACH;FMTTYPE=image/jpeg:https://zerowasteapeldoorn.nl/wp-content/uploads/2024/05/bioplastics-webinar.jpg
END:VEVENT
BEGIN:VEVENT
DTSTART;TZID=Europe/Amsterdam:20250328T190000
DTEND;TZID=Europe/Amsterdam:20250328T210000
DTSTAMP:20260420T013821
CREATED:20250214T084620Z
LAST-MODIFIED:20250214T084620Z
UID:12205-1743188400-1743195600@zerowasteapeldoorn.nl
SUMMARY:JUBILEUMEDITIE - Kledingbeurs Apeldoorn*
DESCRIPTION:De gezelligste kinderkleding- en speelgoedbeurs van Apeldoorn\n\n Al sinds 2010 organiseert Kledingbeurs Apeldoorn 2x per jaar een bomvolle beurs met 2e hands kinderkleding en speelgoed. De komende editie (maart 2025) viert Kledingbeurs Apeldoorn de 25e editie van de Kledingbeurs! \nDe beurs wordt altijd druk bezocht\, en de inschrijfplekken zijn de laatste jaren altijd uitverkocht. Dat betekent dat we veel mensen kunnen voorzien van betaalbare kleding en/of een extra zakcentje\, wel zo duurzaam! Daarnaast kiezen we bij elke beurs een goed doel. Het bedrag dat na aftrek van de kosten overblijft wordt daar naar overgemaakt. \n\n\n\n\n\n\n\n\n\n\n\n\n\n\nBezoekersinformatie\n\nDe beurs is vrij toegankelijk voor iedereen die op zoek is naar leuke kinderkleding en speelgoed en wordt gehouden in het gebouw van NGK De Voorhof\, Gijsbrechtgaarde 101 in Apeldoorn. \nDe kleding en het speelgoed is afkomstig van particuliere aanbieders. Zij bieden hun 2e hands kleding en speelgoed gewassen bij ons aan. Van elk verkocht kledingstuk gaat een percentage naar het goede doel. \nHuisregels: \n\nEigen tassen zijn niet toegestaan\, je krijgt binnen een bigshopper\nEr is een bewaakte garderobe voor handtassen\nHet is tweedehandskleding\, daarom is het goed om zelf ook op gaatjes en vlekjes te letten\nBij afrekenen aan de kassa wordt 5% extra berekend ter dekking van de onkosten en voor het goede doel\nBetalen kan contant en via QR met je bankapp\n\n\n\n\n\n\n\n\n\n\n\n\n\n\n\n\nAanmelden als verkoper\n\nMeld je via het formulier aan als verkoper. Lees van te voren de voorwaarden goed. Wanneer kleding en speelgoed niet voldoen aan de voorwaarden dan bieden we ze niet aan op de beurs. \nDe prijs voor je kleding en speelgoed mag je zelf bepalen\, maar maak de prijzen niet te hoog. Je mag zelf kiezen welk percentage (25\, 50 of 100%) je wilt afstaan aan de beurs. De rest storten we na afloop van de beurs op je rekening. \nBij het inschrijven vragen we je een bedrag van € 7\,50 te betalen. Dit geldt gedeeltelijk als borg\, na verkoop krijg je € 4\,50 terug. Kom je de kleding toch niet brengen\, dan krijg je het betaalde inschrijfgeld niet terug. Kleding en speelgoed kan worden ingeleverd op: \n\ndonderdagavond 27 maart van 19:00 tot 20:00 uur\nvrijdagochtend 28 maart van 09:00 tot 10:00 uur\n\nHet ophalen van kleding kan op zaterdag 29 maart van 10:00 – 11:00 uur. Heb je vragen over de verkoop van kleding? Gebruik dan het contactformulier om contact op te nemen of kijk op Facebook. We beantwoorden je vraag zo snel mogelijk. \n_______________________ \nDit evenement is georganiseerd door: Kledingbeurs Apeldoorn.
URL:https://zerowasteapeldoorn.nl/agenda/jubileumeditie-kledingbeurs-apeldoorn/
LOCATION:NGK De Voorhof\, Gijsbrechtgaarde 101\, Apeldoorn\, Gelderland\, 7329 CA\, Netherlands
CATEGORIES:Circulariteit,Slow fashion
ATTACH;FMTTYPE=image/png:https://zerowasteapeldoorn.nl/wp-content/uploads/2025/02/Kledingbeurs-Apeldoorn.png
END:VEVENT
BEGIN:VEVENT
DTSTART;TZID=Europe/Amsterdam:20250329T100000
DTEND;TZID=Europe/Amsterdam:20250329T113000
DTSTAMP:20260420T013821
CREATED:20250129T115633Z
LAST-MODIFIED:20250130T112601Z
UID:11841-1743242400-1743247800@zerowasteapeldoorn.nl
SUMMARY:Kinderkledingruil Kleertjescafé Apeldoorn – 29 Maart 2025
DESCRIPTION:📅 Zaterdag 29 maart 2025\n🕙 10:00 – 11:30 uur\n📍 Locatie: ontvang na aanmelding \nBreng je voorjaar- en zomerkleding (maat 44-176) in en ruil ze voor een nieuwe garderobe! Denk aan lange en korte broeken\, long sleeves en t-shirts\, jurken\, zwemkleding en meer. Zorg ervoor dat de kleding schoon\, onbeschadigd en actueel is.\nBelangrijk:\n✔ Sorteer kleding thuis op maat en kwaliteit (zie: kledingvoorwaarden op onze website).\n✔ Aanmelden is verplicht en kan via de aanmeldknop hiernaast. VOL = VOL\, maar kom je graag op de reservelijst te staan\, stuur dan een mail naar: kleertjescafe@zerowasteapeldoorn.nl\n✔ Beperkte plekken beschikbaar. Bij no-show kom je op de zwarte lijst. \nSamen werken we aan een circulaire toekomst – doe je mee?
URL:https://zerowasteapeldoorn.nl/agenda/kinderkledingruil-kleertjescafe-29-maart-2025/
LOCATION:Apeldoorn
CATEGORIES:Circulariteit,Kleertjes Café,Ruilbeurs
ATTACH;FMTTYPE=image/png:https://zerowasteapeldoorn.nl/wp-content/uploads/2025/01/KleertjesCafe-banner-volgeboekt-1.png
END:VEVENT
END:VCALENDAR