BEGIN:VCALENDAR
VERSION:2.0
PRODID:-//Zero Waste Apeldoorn - ECPv6.15.20//NONSGML v1.0//EN
CALSCALE:GREGORIAN
METHOD:PUBLISH
X-WR-CALNAME:Zero Waste Apeldoorn
X-ORIGINAL-URL:https://zerowasteapeldoorn.nl
X-WR-CALDESC:Evenementen voor Zero Waste Apeldoorn
REFRESH-INTERVAL;VALUE=DURATION:PT1H
X-Robots-Tag:noindex
X-PUBLISHED-TTL:PT1H
BEGIN:VTIMEZONE
TZID:Europe/Amsterdam
BEGIN:DAYLIGHT
TZOFFSETFROM:+0100
TZOFFSETTO:+0200
TZNAME:CEST
DTSTART:20240331T010000
END:DAYLIGHT
BEGIN:STANDARD
TZOFFSETFROM:+0200
TZOFFSETTO:+0100
TZNAME:CET
DTSTART:20241027T010000
END:STANDARD
BEGIN:DAYLIGHT
TZOFFSETFROM:+0100
TZOFFSETTO:+0200
TZNAME:CEST
DTSTART:20250330T010000
END:DAYLIGHT
BEGIN:STANDARD
TZOFFSETFROM:+0200
TZOFFSETTO:+0100
TZNAME:CET
DTSTART:20251026T010000
END:STANDARD
BEGIN:DAYLIGHT
TZOFFSETFROM:+0100
TZOFFSETTO:+0200
TZNAME:CEST
DTSTART:20260329T010000
END:DAYLIGHT
BEGIN:STANDARD
TZOFFSETFROM:+0200
TZOFFSETTO:+0100
TZNAME:CET
DTSTART:20261025T010000
END:STANDARD
END:VTIMEZONE
BEGIN:VEVENT
DTSTART;TZID=Europe/Amsterdam:20250705T100000
DTEND;TZID=Europe/Amsterdam:20250705T160000
DTSTAMP:20260420T170859
CREATED:20250313T174107Z
LAST-MODIFIED:20250314T121437Z
UID:12879-1751709600-1751731200@zerowasteapeldoorn.nl
SUMMARY:Vrijwilligersklus! Sidekick Infostand Stadsakkers
DESCRIPTION:Vrijwilligersklus! Gezocht: Sidekick Infostand Stadsakkers 🎡\n\n\n\n\n\n\n\n\n\n\n\n\n📅 Datum: Zaterdag 5 juli\n⏰ Tijd: 10:00 – 16:00 uur (onder voorbehoud)\n📍 Locatie: Stadsakkers\, Apeldoorn \nWil jij bijdragen aan een inspirerende\, impactvolle en gezellige middag? Wij zoeken twee enthousiaste sidekicks voor de Zero Waste Apeldoorn infostand tijdens de Stadsakkers Markt! \nWij staan bij de Stadsakkers Markt met een inspirerende infostand én ons Duurzame Rad! We laten bezoekers ontdekken welke duurzame alternatieven er zijn voor wegwerpproducten en geven uitleg over een breed assortiment herbruikbare producten. En het leukste? Bezoekers kunnen duurzame producten winnen met een lucky spin aan het Duurzame Rad! 🎡🌱 \nWat ga jij doen als sidekick?\n✔️ Bezoekers enthousiasmeren en inspireren bij de infostand\n✔️ Uitleg geven over duurzame alternatieven voor wegwerpproducten\n✔️ Helpen bij het bedienen van het Duurzame Rad \nWie zoeken we?\n✅ Je bent sociaal en vindt het leuk om met mensen in gesprek te gaan\n✅ Je kunt enthousiast vertellen over duurzame alternatieven en afvalpreventie\n✅ Je staat open om meer te leren over Zero Waste en dit met anderen te delen \n💚 Lijkt het je leuk om mee te helpen? Meld je aan via de aanmeldknop hiernaast!
URL:https://zerowasteapeldoorn.nl/agenda/vrijwilligersklus-sidekick-infostand-5-juli/
LOCATION:stadsakkers\, Dommeweg 5B\, Apeldoorn\, 7323 RD\, Nederland
CATEGORIES:Vrijwilligersklus
ATTACH;FMTTYPE=image/png:https://zerowasteapeldoorn.nl/wp-content/uploads/2025/03/infostand-vrijwilligersklus.png
END:VEVENT
BEGIN:VEVENT
DTSTART;TZID=Europe/Amsterdam:20250705T100000
DTEND;TZID=Europe/Amsterdam:20250705T160000
DTSTAMP:20260420T170900
CREATED:20250515T090623Z
LAST-MODIFIED:20250626T070417Z
UID:13967-1751709600-1751731200@zerowasteapeldoorn.nl
SUMMARY:Zomermarkt bij Stadsakkers*
DESCRIPTION:Datum: 05-07-2025 | Starttijd: 10:00 uur | Eindtijd: 16:00 uur | Locatie: StadsAkkers – Dommeweg 5b \nOp de Stadsakkers Zomermarkt is er van alles te doen en te zien: \n\nVerschillende kramen met allerlei producten\nOnze eigen winkel en onze eigen kraam bij de winkel\nAndere kramen\nDiverse workshops\nRondleidingen\nKleurplatenwedstrijd\nKinderactiviteiten\nKoffie\, thee en lekkers in de blokhut\n\n——————————\n*Deze activiteit is  georganiseerd door: Stadsakkers.
URL:https://zerowasteapeldoorn.nl/agenda/zomermarkt-stadsakkers-5-juli-2025/
LOCATION:stadsakkers\, Dommeweg 5B\, Apeldoorn\, 7323 RD\, Nederland
CATEGORIES:Eten & drinken,Markt,Natuur & biodiversiteit
ATTACH;FMTTYPE=image/jpeg:https://zerowasteapeldoorn.nl/wp-content/uploads/2024/04/Markt-Stadsakkers.jpg
END:VEVENT
BEGIN:VEVENT
DTSTART;TZID=Europe/Amsterdam:20250705T140000
DTEND;TZID=Europe/Amsterdam:20250705T160000
DTSTAMP:20260420T170900
CREATED:20250325T102019Z
LAST-MODIFIED:20250706T173335Z
UID:13108-1751724000-1751731200@zerowasteapeldoorn.nl
SUMMARY:PeukMeuk actiedag in Apeldoorn
DESCRIPTION:Doe mee met de 7e Plastic PeukMeuk actie op zaterdag 5 juli 2025\, met Zero Waste Apeldoorn 🚬🗑️\nWist je dat…\n\n… 90% van een sigarettenfilter uit cellulose acetaat bestaat\, een vorm van plastic\, dat niet biologisch afbreekbaar is?\n… het tot 12 duurt voordat een peuk lijkt te zijn opgelost\, en dat het dan nog bestaat uit kleine deeltjes die niet met het blote oog zichtbaar zijn?\n… één sigarettenfilter tot 1000 liter water vervuilt omdat het meer dan 150 giftige stoffen bevat?\n\nDaarom organiseren we jaarlijks\, in het kader van de landelijke PeukMeuk actiedag (No butts day)\, een opruimactie speciaal gericht op sigarettenfilters. \nIedereen is welkom om een handje mee te helpen! Ook voor een uurtje of even een paar minuten.\nJe kunt helpen met flyers (#informatie) en zakasbakjes (#preventie) uit te delen\, of je kunt peuken gaan oprapen (#opruimactie). \nDit jaar vindt de PeukMeuk actiedag plaatst op zaterdag 5 juli 2025.\nHelp je dit jaar ook mee? \nTijd & Locatie\nWe verzamelen op het Stationsplein om 14:00 uur.\nAan het einde van de grote peuken opruimactie\, rond 16:00 uur\, verzamelen we weer bij het Stationsplein om het aantal opgeraapte peuken grof te tellen en om te laten zien hoe vervuilend dit is voor de stad. \nDuizenden sigarettenfilters\nTijdens de vorige Peukmeuk opruimdagen in Apeldoorn\, werden er 20000 tot 25000 peuken opgeruimd binnen 2 uur! 😱 Voorlichting geven én opruimen is dus hard nodig! \nWereldwijd\nKun je niet in Apeldoorn zijn op 5 juli? 😜 Geen paniek! De Peukmeuk dag is inmiddels een landelijk (zelfs een internationaal) gebeuren geworden! 🤩 > Check op de website van NoPlasticFilter.org of een opruimactie in jouw stad wordt georganiseerd\nSamen maken we het de GROOTSTE wereldwijde peuken cleanup ooit. \nLees hier alles over Plastic PeukMeuk 2023\, een groot landelijk én internationaal succes! \n  
URL:https://zerowasteapeldoorn.nl/agenda/peukmeuk-actiedag-in-apeldoorn-juli-2025/
LOCATION:stationsplein\, Stationsplein 1\, Apeldoorn\, 7311 NZ\, Nederland
CATEGORIES:Zwerfafval
ATTACH;FMTTYPE=image/jpeg:https://zerowasteapeldoorn.nl/wp-content/uploads/2024/05/Peukmeuk-actiedag.jpg
END:VEVENT
END:VCALENDAR