BEGIN:VCALENDAR
VERSION:2.0
PRODID:-//Zero Waste Apeldoorn - ECPv6.15.20//NONSGML v1.0//EN
CALSCALE:GREGORIAN
METHOD:PUBLISH
X-ORIGINAL-URL:https://zerowasteapeldoorn.nl
X-WR-CALDESC:Evenementen voor Zero Waste Apeldoorn
REFRESH-INTERVAL;VALUE=DURATION:PT1H
X-Robots-Tag:noindex
X-PUBLISHED-TTL:PT1H
BEGIN:VTIMEZONE
TZID:Europe/Amsterdam
BEGIN:DAYLIGHT
TZOFFSETFROM:+0100
TZOFFSETTO:+0200
TZNAME:CEST
DTSTART:20240331T010000
END:DAYLIGHT
BEGIN:STANDARD
TZOFFSETFROM:+0200
TZOFFSETTO:+0100
TZNAME:CET
DTSTART:20241027T010000
END:STANDARD
BEGIN:DAYLIGHT
TZOFFSETFROM:+0100
TZOFFSETTO:+0200
TZNAME:CEST
DTSTART:20250330T010000
END:DAYLIGHT
BEGIN:STANDARD
TZOFFSETFROM:+0200
TZOFFSETTO:+0100
TZNAME:CET
DTSTART:20251026T010000
END:STANDARD
BEGIN:DAYLIGHT
TZOFFSETFROM:+0100
TZOFFSETTO:+0200
TZNAME:CEST
DTSTART:20260329T010000
END:DAYLIGHT
BEGIN:STANDARD
TZOFFSETFROM:+0200
TZOFFSETTO:+0100
TZNAME:CET
DTSTART:20261025T010000
END:STANDARD
END:VTIMEZONE
BEGIN:VEVENT
DTSTART;VALUE=DATE:20250519
DTEND;VALUE=DATE:20250526
DTSTAMP:20260420T190351
CREATED:20250510T191113Z
LAST-MODIFIED:20250510T195701Z
UID:13853-1747612800-1748217599@zerowasteapeldoorn.nl
SUMMARY:Acties & Promoties - Week Zonder Afval
DESCRIPTION:Acties & Promoties – Week Zonder Afval\nVan 19 t/m 25 mei is het de Week Zonder Afval! Profiteer van diverse (online) acties en aanbiedingen tijdens de Week Zonder Afval \n– Korting op tweedehands Lego\nIn de maand mei 10% korting op alle bestellingen bij gebruik van de code WZA10.\nOp de Crazy Carrot Company website vind je ruim 250 complete tweedehands Lego en Duplo sets. \n \n_______________________ \n– Kortingsactie menstruatie-ondergoed\nMoodies Undies maakt en verkoopt menstruatie ondergoed en zwemkleding. Daarnaast hebben ze onlangs ook de everyday lijn geïntroduceert. Een lijn die speciaal is gemaakt voor lichte incontinentie. Menstruatie ondergoed vervangt de standaard maandverbanden en tampons en bespaart daarmee wel 150 wegwerpproducten per broekje. \nMenstruatie- en incontinentieondergoed zijn een daarom een prachtig product die in de categorie ‘maak herbruikbaar gangbaar’ passen. Om hier aan bij te dragen biedt moodies tijdens de week zonder afval een tijdelijke kortingscode. Met deze code ontvang je 20% korting op menstruatie- en incontinentieondergoed en -zwemkleding. \nGebruik de code WEEKZONDERAFVAL om de korting te gebruiken. \n \n_______________________ \n– 10% korting op alles in de zero waste webshop Bag-again\, bij besteding boven 25 euro!\nBag-again introduceerde al in 2015 de katoenen broodzak in Nederland. Sindsdien is de drive om zero waste leven makkelijker te maken alleen maar groter geworden. Op de site vindt je inspiratie en informatie over zero waste leven. En in de webshop vind je meer dan 400 producten waarmee je stapje voor stapje met minder afval\, minder verpakkingen en minder plastic kunt leven.\nVan 19 mei t/m 31 mei 2025 krijg je 10% korting op alles in de webshop bij een besteding vanaf 25 euro. Dus ook op de reeds afgeprijsde artikelen. Gebruik de code wza2025 in de webshop bij je bestelling. \n \n_______________________ \n– Flinke korting op wasmiddelstrips\, tandpastatabletten en shampoo bars\nOntvang van 19 mei t/m 25 juni een flinke korting van 20 euro of meer op wasmiddelstrips van Briters. Op de tandpastatabletjes krijg je 9 euro korting en op de shampoo bars 8 euro korting. Briters werkt met grootverpakkingen waardoor er nog minder verpakkingsmateriaal nodig is én jij extra goedkoop kunt inslaan. Ben je toch niet tevreden? Dan ontvang je van Briters je geld terug. Deze acties is een samenwerking van Briters en de Groene Helden Academie. \nKlik hier voor meer informatie. \n \n_______________________ \n– Gratis ebook 10 eerste stappen naar Zero Waste\nGeïnspireerd door alle activiteiten? En wil je snel aan de slag met Zero Waste? Maak een vliegende start dankzij de 10 stappen in dit praktische e-book!\nLees over het (plastic) afvalprobleem\, ontdek de voordelen van een zero waste leefstijl en check 10 eenvoudige stappen waar je vandaag al mee kunt starten!\nDe gids wordt je gratis aangeboden door de Groene Helden Academie. Met haar blogs\, posts\, lezingen en online aanbod inspireert eigenaar Petra van Kleef zoveel mogelijk mensen om ook duurzamer te doen. \nKlik HIER voor meer informatie \n \n_______________________ \n– 20% korting op hervulbare deo van Wild\nOntvang in mei en juni 20% korting op de fijne hervulbare verzorgingsproducten van Wild. Zo is er deodorant in heerlijke geuren en fijne lippenbalsem\, douchegel en handzeep. 1x een case kopen en daarna alleen nog maar navullingen. Dat scheelt een berg plastic! De Wild-producten zijn gemaakt met natuurlijke ingrediënten. Deze actie is in samenwerking met de Groene Helden Academie. \nKlik HIER voor meer informatie \n \n_______________________ \n– Samen tegen afval – met Green Jump\nSpeciaal deze week: 10% korting op alle producten in de categorie Eten & Drinken met code: GJWeekZonderAfval2025 \nTijdens de Week Zonder Afval zetten we samen stappen naar een duurzamere toekomst. Elke bewuste keuze telt — van hervulbare flessen en RVS-lunchboxen tot glazen (weck)potten. \nGreen Jump is dé webshop voor eco\, biologische en fairtrade producten. Of je nu net begint of al goed op weg bent: samen maken we het verschil \n \n_______________________ \n– Wasbare zwemluiers met korting – Kaatje Katoen\n  \n \nMet wasbare luiers bespaar je 800 kg afval aan wegwerpluiers per kind. Van 19 t/m 25 mei hebben we een mooie Week Zonder Afval-kortingsactie op onze wasbare zwemluiers.\nWil je meer weten over wasbare luiers? Neem dan eens een kijkje in de webshop. Je kunt gebruik maken van de luierkeuzehulp of contact met ons opnemen voor gratis advies.
URL:https://zerowasteapeldoorn.nl/agenda/acties-en-promoties-week-zonder-afval/
LOCATION:Week Zonder Afval website
CATEGORIES:Circulariteit,Zero Waste Week
ATTACH;FMTTYPE=image/png:https://zerowasteapeldoorn.nl/wp-content/uploads/2025/05/acties-promoties-week-zonder-afval.png
END:VEVENT
BEGIN:VEVENT
DTSTART;TZID=Europe/Amsterdam:20250517T000100
DTEND;TZID=Europe/Amsterdam:20250525T235800
DTSTAMP:20260420T190351
CREATED:20250225T105152Z
LAST-MODIFIED:20250509T192825Z
UID:12471-1747440060-1748217480@zerowasteapeldoorn.nl
SUMMARY:Week van de Biodiversiteit 2025*
DESCRIPTION:Week van de Biodiversiteit 2025\nOok in 2025 is er weer een Week van de Biodiversiteit! Deze is van zaterdag 17 mei tot en met zondag 25 mei. Meedoen? Neem contact met ons op via bureau@knnv.nl \nBekijk hier het programma met activiteiten in en rondom Apeldoorn tijdens de Week van de Biodiversiteit & de Zero Waste Week! \nInternationale Dag van de Biodiversiteit\nDe Verenigde Naties hebben 22 mei uitgeroepen tot Internationale Dag van de Biodiversiteit. Op die dag staan we wereldwijd stil bij de waarde en rijkdom van het leven op aarde. Biodiversiteit bestaat niet alleen uit de variatie tussen soorten\, maar ook de biodiversiteit binnen soorten oftewel de genetische diversiteit en de diversiteit aan ecosystemen waarbinnen al dat leven zich afspeelt. \nWe danken ons leven aan die rijke biodiversiteit. Het levert ons niet alleen voedsel\, maar ook drinkbaar water\, zuurstof en zuivere lucht. En zorgt voor eindeloos veel verwondering en inspiratie. Biodiversiteit heeft ook een eigen\, zelfstandige waarde: de intrinsieke waarde. Biodiversiteit is het beschermen waard! Om die reden werd de KNNV- de Koninklijke Natuurhistorische Vereniging- opgericht in 1901 opgericht. Wij richten ons sindsdien op natuurbeleving\, natuurstudie en natuurbescherming. \nMeer informatie\nMeer informatie? Neem contact op met projectleiders Ingeborg Schreuder of Wanne Roetemeijer: bureau@knnv.nl of wanne.roetemeijer@knnv.nl \n\n\n\n\n——————————-\n*Dit evenement is georganiseerd door: Natuurvereniging KNNV
URL:https://zerowasteapeldoorn.nl/agenda/week-van-de-biodiversiteit-2025/
CATEGORIES:Informatie,Natuur & biodiversiteit
ATTACH;FMTTYPE=image/png:https://zerowasteapeldoorn.nl/wp-content/uploads/2025/02/Week-van-de-biodiversiteit.png
END:VEVENT
BEGIN:VEVENT
DTSTART;TZID=Europe/Amsterdam:20250517T000200
DTEND;TZID=Europe/Amsterdam:20250525T235900
DTSTAMP:20260420T190351
CREATED:20250417T190235Z
LAST-MODIFIED:20250509T192959Z
UID:13575-1747440120-1748217540@zerowasteapeldoorn.nl
SUMMARY:30% korting op alle Retulp producten - Retulp
DESCRIPTION:De missie van Retulp is in 2 woorden samen te vatten: Mission Indisposable. Weg met wegwerpverpakkingen want éénmalig is schandalig. De toekomst is herbruikbaar. En daarnaast zorgt Retulp in samenwerking met Made Blue voor drinkwater in ontwikkelingslanden. Door het realiseren van waterpunten wordt ook voorkomen dat mensen water kopen in plastic flessen\, dus dit scheelt weer in de hoeveelheid plastic afval die in het milieu terechtkomt. Winkels dragen bij door Retulp flessen en thermosbekers te verkopen en bedrijven helpen door Retulp flessen met een logo of opdruk te bestellen en weg te geven. Help ook mee\, en join the wave! \nRetulp verkoopt duurzame herbruikbare producten zoals bekers\, flessen en maaltijdboxen. \nTijdens de Zero Waste Week in Apeldoorn & Week Zonder Afval geeft Retulp 30% korting op al hun producten in de webshop\, met de code ZEROWASTE30. \n 
URL:https://zerowasteapeldoorn.nl/agenda/30-procent-korting-retulp-mei-2025/
LOCATION:Retulp
CATEGORIES:Circulariteit,Eten & drinken,Zero Waste Week
ATTACH;FMTTYPE=image/jpeg:https://zerowasteapeldoorn.nl/wp-content/uploads/2024/06/Retulp-ocean-edition-serie-drinkflessen-thermosfles-koffiebeker-1030x1030-1-e1718131959697.jpeg
END:VEVENT
BEGIN:VEVENT
DTSTART;VALUE=DATE:20250519
DTEND;VALUE=DATE:20250526
DTSTAMP:20260420T190351
CREATED:20250220T141242Z
LAST-MODIFIED:20250416T125902Z
UID:12387-1747612800-1748217599@zerowasteapeldoorn.nl
SUMMARY:Week zonder afval
DESCRIPTION:Week Zonder Afval? Doe mee!\nVan maandag 19 t/m zondag 25 mei 2025 gaan we de uitdaging aan: hoe zorgen we er samen voor dat we zo min mogelijk aan de afvalberg bijdragen? \n\n\n\n\nZie voor meer informatie: https://weekzonderafval.nl/ \nBekijk hier het programma met activiteiten in en rondom Apeldoorn tijdens de Week Zonder Afaval & de Zero Waste Week Apeldoorn!
URL:https://zerowasteapeldoorn.nl/agenda/week-zonder-afval-2025/
CATEGORIES:Circulariteit,Energie,Eten & drinken,Informatie,Natuur & biodiversiteit,Repareren,Slow fashion
ATTACH;FMTTYPE=image/png:https://zerowasteapeldoorn.nl/wp-content/uploads/2025/02/week-zonder-afval.png
END:VEVENT
BEGIN:VEVENT
DTSTART;TZID=Europe/Amsterdam:20250525T133000
DTEND;TZID=Europe/Amsterdam:20250525T160000
DTSTAMP:20260420T190351
CREATED:20250226T103740Z
LAST-MODIFIED:20250502T201425Z
UID:12505-1748179800-1748188800@zerowasteapeldoorn.nl
SUMMARY:Wespencafé - PvdD & Wespenstichting Apeldoorn*
DESCRIPTION:Partij voor de Dieren netwerk Apeldoorn organiseert op zondagmiddag 25 mei haar jaarlijkse themacafé. Vorig jaar ging het café over kikkers\, dit jaar is de wesp aan de beurt. Een dier dat van groot belang is voor de biodiversiteit in ons land. Ze bestuiven planten\, ruimen kadavers op en ze zijn zelf voedsel voor bijvoorbeeld de wespendief. \nWespenstichting \nTijdens het Wespencafé neemt de Wespenstichting je mee in de wondere wereld van wespen\, en ontdek je hoe fascinerend\, nuttig en zelfs alom aanwezig wespen zijn. Woordvoerder Nathan Veenstra vertelt over de sociale wespen in Nederland\, en entomologen Jitte Groothuis en Joes Stellingwerf delen hun kennis over solitaire wespen. \nVerbaas je over de enorme variëteit in wespensoorten\, en wie weet word je ook fan van wespen! \nLocatie en tijdstip: \nHet Wespencafé wordt gehouden in De Smulkrul bij Speelboerderij Binky aan de Dubbelbeek 4 in Apeldoorn. De inloop is vanaf 13.30 uur. De lezingen beginnen om 14.00 uur. De toegang is gratis\, drankjes zijn voor eigen rekening. \nAanmelden \nAanmelden doe je door te mailen naar:  apeldoorn@partijvoordedieren.nl.  Geef meteen even door met hoeveel personen je komt.  Een gift voor de onkosten van de sprekers wordt op prijs gesteld. \nBelangrijk om te weten: \nVoor je je inschrijft is het volgende wel belangrijk: wie eenmaal meer weet over de wesp is verkocht en wordt ook fan van dit dier. Je bent vanaf dan ambassadeur voor de wesp.  Een opleiding tot wespenconsulent bij de Wespenstichting is mogelijk de vervolgstap. Dan kan je echt het verschil maken. \nMede namens de wespen nodigen we jullie allemaal uit om naar ons wespencafé te komen. Laat je verrassen en wordt wespenambassadeur. Je redt er veel onschuldige levens mee. \n\n\n\n————————-\n*Deze activiteit is georganiseerd door:  Partij voor de Dieren i.s.m. Wespenstichting
URL:https://zerowasteapeldoorn.nl/agenda/wespencafe-25-mei-2025/
LOCATION:Speelboerderij Binky\, Dubbelbeek 4\, Apeldoorn\, 7333 NJ\, Nederland
CATEGORIES:Informatie,Natuur & biodiversiteit,Verbinden,Zero Waste Week
ATTACH;FMTTYPE=image/png:https://zerowasteapeldoorn.nl/wp-content/uploads/2025/02/wespencafe.png
END:VEVENT
END:VCALENDAR