BEGIN:VCALENDAR
VERSION:2.0
PRODID:-//Zero Waste Apeldoorn - ECPv6.15.20//NONSGML v1.0//EN
CALSCALE:GREGORIAN
METHOD:PUBLISH
X-WR-CALNAME:Zero Waste Apeldoorn
X-ORIGINAL-URL:https://zerowasteapeldoorn.nl
X-WR-CALDESC:Evenementen voor Zero Waste Apeldoorn
REFRESH-INTERVAL;VALUE=DURATION:PT1H
X-Robots-Tag:noindex
X-PUBLISHED-TTL:PT1H
BEGIN:VTIMEZONE
TZID:Europe/Amsterdam
BEGIN:DAYLIGHT
TZOFFSETFROM:+0100
TZOFFSETTO:+0200
TZNAME:CEST
DTSTART:20240331T010000
END:DAYLIGHT
BEGIN:STANDARD
TZOFFSETFROM:+0200
TZOFFSETTO:+0100
TZNAME:CET
DTSTART:20241027T010000
END:STANDARD
BEGIN:DAYLIGHT
TZOFFSETFROM:+0100
TZOFFSETTO:+0200
TZNAME:CEST
DTSTART:20250330T010000
END:DAYLIGHT
BEGIN:STANDARD
TZOFFSETFROM:+0200
TZOFFSETTO:+0100
TZNAME:CET
DTSTART:20251026T010000
END:STANDARD
BEGIN:DAYLIGHT
TZOFFSETFROM:+0100
TZOFFSETTO:+0200
TZNAME:CEST
DTSTART:20260329T010000
END:DAYLIGHT
BEGIN:STANDARD
TZOFFSETFROM:+0200
TZOFFSETTO:+0100
TZNAME:CET
DTSTART:20261025T010000
END:STANDARD
END:VTIMEZONE
BEGIN:VEVENT
DTSTART;TZID=Europe/Amsterdam:20250323T130000
DTEND;TZID=Europe/Amsterdam:20250323T153000
DTSTAMP:20260422T154109
CREATED:20250313T154745Z
LAST-MODIFIED:20250313T154745Z
UID:12863-1742734800-1742743800@zerowasteapeldoorn.nl
SUMMARY:Vrijwilligersklus! Sidekick voor KidsCollege middag
DESCRIPTION:Vrijwilligersklus! Gezocht: Sidekick voor KidsCollege middag 👧🌍\n📅 Datum: Zondag 23 maart⏰ Tijd: 13:00 – 15:30 uur📍 Locatie: Speelboerderij Binky\, Malkenschoten \nWil jij bijdragen aan een inspirerende en impactvolle lesmiddag voor de kinderen van KidsCollege Apeldoorn? Wij zoeken enthousiaste sidekicks die Eefje ondersteunen bij een middag vol educatie\, duurzaamheid en actie! \nWat gaan we doen?\nOm 13:00 uur ontvangt Eefje ongeveer 20 kinderen bij de ingang van Speelboerderij Binky. Daarna volgt een afwisselend programma: \n🗣️ Presentatie – Eefje vertelt over haar werk bij Accres\, duurzaamheid en de rol van Stichting Zero Waste Apeldoorn (ca. 45 min).🐾 Rondleiding – De kinderen ontdekken de kinderboerderij en leren over de afvalscheiding bij het restaurant (ca. 15 min).🚯 Opruimactie – Tijd om de handen uit de mouwen te steken! We gaan zwerfafval opruimen rondom Dubbelbeek (ca. 1 uur).🎉 Vrij spelen – Na het harde werken mogen de kinderen nog even genieten van de speelboerderij voordat ze worden opgehaald. \nWat ga jij doen als sidekick?\n✔️ Deelnemers verwelkomen✔️ Drinken verzorgen✔️ Opruimspullen klaarzetten en opruimen✔️ Een groepje van 7-8 kinderen begeleiden tijdens de opruimactie \nWie zoeken we?\n✅ Enthousiaste vrijwilligers die het leuk vinden om met kinderen te werken✅ Gastvrije en behulpzame mensen die graag de handen uit de mouwen steken✅ Beschikbaar op zondag 23 maart van 13:00 tot ongeveer 15:30 uur \n💚 Lijkt het je leuk om mee te helpen? Meld je aan via de aanmeldknop hiernaast!
URL:https://zerowasteapeldoorn.nl/agenda/vrijwilligersklus-sidekick-kidscollege-middag/
LOCATION:Speelboerderij Binky\, Dubbelbeek 4\, Apeldoorn\, 7333 NJ\, Nederland
CATEGORIES:Vrijwilligersklus
ATTACH;FMTTYPE=image/png:https://zerowasteapeldoorn.nl/wp-content/uploads/2025/03/lesmiddag-Binky-vrijwilligersklus.png
END:VEVENT
BEGIN:VEVENT
DTSTART;TZID=Europe/Amsterdam:20250323T133000
DTEND;TZID=Europe/Amsterdam:20250323T160000
DTSTAMP:20260422T154109
CREATED:20250227T094255Z
LAST-MODIFIED:20250227T094255Z
UID:12528-1742736600-1742745600@zerowasteapeldoorn.nl
SUMMARY:Leer Bioblitzen! - IVN*
DESCRIPTION:Leer Bioblitzen!\n\nIVN Apeldoorn start in het kader van haar 65-jarige jubileum in 2025 met een bijzondere activiteit: Leer Bioblitzen! \nWat is precies een Bioblitz? In een Bioblitz wil je in een bepaalde tijd\, bijvoorbeeld een jaar\, een aantal wilde soorten waarnemen in een geselecteerd gebied. \nIVN wil in de Heemtuin Matenpark in Apeldoorn dit jaar\, 650 wilde soorten gaan ontdekken. Dit kan alles zijn wat kruipt\, vliegt\, groeit\, zwemt en dergelijke.\nGedurende het jaar worden 4 activiteiten georganiseerd\, met aandacht voor een soort die in die periode voorkomt.\nIn maart ligt het accent op mossen en korstmossen. \nHier wordt uitleg over gegeven. Waar kun je deze soorten vinden\, hoe herken je ze?\nWe gaan na de uitleg\, in kleine groepen op pad onder begeleiding van een gids. Maar je ziet natuurlijk meer dan alleen deze soorten. In maart kun je op een warme dag de eerste hommels tegenkomen\, misschien zijn er al kikkers. Alles wat je ziet\, telt mee. Als je eenmaal bezig bent met een Bioblitz\, merk je dat een hele leuke bezigheid is. Je leert steeds beter kijken en krijgt oog voor kleine details. \nGeef je op voor deze activiteit en help mee om de 650 soorten te halen! Gebruik het aanmeldformulier.\nWie jarig is trakteert! IVN heeft voor iedere deelnemer zoekkaarten over verschillende natuur onderwerpen.\nWanneer je alle 4 de Bioblitzen bijwoont\, wordt een aardig naslagwerk verzameld. \nDe eerste activiteit is op zondag 23 maart\, van 13.30 uur tot 16.00 uur.\nStarten bij het infobord van de Heemtuin.\nParkeren kan bij Heemradenlaan 101\, Apeldoorn\, achter sportschool Ten Tije.\nVia het paadje achter de sportschool de Heemtuin inlopen. \nGeschikt voor kinderen vanaf 10 jaar\, onder begeleiding van een volwassene.\nNiet geschikt voor mensen slecht ter been. IVN leden en kinderen gratis\, niet leden € 2\,- (pinnen mogelijk) Zorg voor waterdicht schoeisel. \nAanmelden via de IVN website \n\n\n\n\n——————————–\n*Dit evenement is georganiseerd door: IVN Apeldoorn.
URL:https://zerowasteapeldoorn.nl/agenda/leer-bioblitzen-ivn-23-maart-2025/
LOCATION:Heemtuin Matenpark\, Beatrijsgaarde 130\, Apeldoorn\, Netherlands
CATEGORIES:Informatie,Natuur & biodiversiteit
ATTACH;FMTTYPE=image/png:https://zerowasteapeldoorn.nl/wp-content/uploads/2025/02/Leer-Bioblitzen-IVN.png
END:VEVENT
END:VCALENDAR