BEGIN:VCALENDAR
VERSION:2.0
PRODID:-//Zero Waste Apeldoorn - ECPv6.15.20//NONSGML v1.0//EN
CALSCALE:GREGORIAN
METHOD:PUBLISH
X-ORIGINAL-URL:https://zerowasteapeldoorn.nl
X-WR-CALDESC:Evenementen voor Zero Waste Apeldoorn
REFRESH-INTERVAL;VALUE=DURATION:PT1H
X-Robots-Tag:noindex
X-PUBLISHED-TTL:PT1H
BEGIN:VTIMEZONE
TZID:Europe/Amsterdam
BEGIN:DAYLIGHT
TZOFFSETFROM:+0100
TZOFFSETTO:+0200
TZNAME:CEST
DTSTART:20230326T010000
END:DAYLIGHT
BEGIN:STANDARD
TZOFFSETFROM:+0200
TZOFFSETTO:+0100
TZNAME:CET
DTSTART:20231029T010000
END:STANDARD
BEGIN:DAYLIGHT
TZOFFSETFROM:+0100
TZOFFSETTO:+0200
TZNAME:CEST
DTSTART:20240331T010000
END:DAYLIGHT
BEGIN:STANDARD
TZOFFSETFROM:+0200
TZOFFSETTO:+0100
TZNAME:CET
DTSTART:20241027T010000
END:STANDARD
BEGIN:DAYLIGHT
TZOFFSETFROM:+0100
TZOFFSETTO:+0200
TZNAME:CEST
DTSTART:20250330T010000
END:DAYLIGHT
BEGIN:STANDARD
TZOFFSETFROM:+0200
TZOFFSETTO:+0100
TZNAME:CET
DTSTART:20251026T010000
END:STANDARD
END:VTIMEZONE
BEGIN:VEVENT
DTSTART;TZID=Europe/Amsterdam:20241013T100000
DTEND;TZID=Europe/Amsterdam:20241013T120000
DTSTAMP:20260425T161635
CREATED:20240220T124207Z
LAST-MODIFIED:20241012T113113Z
UID:552-1728813600-1728820800@zerowasteapeldoorn.nl
SUMMARY:Ploggen op zondag
DESCRIPTION:Ploggen met het Zero Waste Apeldoorn Plogging team\nPloggen is een trend uit Scandinavië. Kortgezegd komt het er op neer dat je hardlopen combineert met het oprapen van zwerfafval\, zodat je niet alleen goed bezig bent voor je gezondheid\, maar ook voor het milieu. Win-win dus. \n–Wanneer: Iedere 2e zondag van de maand. Vanaf 10 uur tot 12 uur.\n–Waar: elke keer op een andere locatie binnen of net buiten de bebouwde kom.\n–Wie kan meedoen? Ploggen met het Apeldoorns Plogging team is voor alle conditieniveaus geschikt\, van beginner tot goed getrainde hardloper. Omdat we vaak voor plogging routes binnen of net buiten de bebouwde kom kiezen is de route meestal een kilometer of 4-6 en de gemiddelde hardloop snelheid na 2 uur is zeer laag (3 km/u). Echter is het wel een complete workout met intervalletjes\,vele lunges/squats\, en sjouwen met plog tassen in de hand!\nWe zorgen voor materialen als werkhandschoenen\, hesjes\, “plogtassen” & afvalzakken\, om zwerfvuil op een veilige manier op te ruimen.\nDeze activiteit wordt door Heel Apeldoorn is Rein (Gemeente Apeldoorn) gefaciliteerd. \n–Hoe kun je meedoen? Sluit je aan onze whatsapp groep voor meer info\, door een mail te sturen naar info@zerowasteapeldoorn.nl
URL:https://zerowasteapeldoorn.nl/agenda/ploggen-op-zondag-oktober/
CATEGORIES:Opruimen,Zwerfafval
ATTACH;FMTTYPE=image/jpeg:https://zerowasteapeldoorn.nl/wp-content/uploads/2024/02/Ploggen-Op-Zondag.jpg
END:VEVENT
BEGIN:VEVENT
DTSTART;TZID=Europe/Amsterdam:20241013T110000
DTEND;TZID=Europe/Amsterdam:20241013T160000
DTSTAMP:20260425T161635
CREATED:20240916T114625Z
LAST-MODIFIED:20240916T114625Z
UID:8398-1728817200-1728835200@zerowasteapeldoorn.nl
SUMMARY:CODA Kledingruilmarkt - herfsteditie volwassenen*
DESCRIPTION:CODA organiseert op zondag 13 oktober opnieuw een CODA Kledingruilmarkt!\nRuil jouw niet meer gebruikte herfst- en winterkleding voor items die door bezoekers van de ruilmarkt zijn ingeleverd. Door kleding te ruilen\, draag je bij aan een circulaire economie. Je shopt met een gesloten portemonnee én geeft kleding een tweede leven.\nINFORMATIE + AANMELDEN: https://www.eventbrite.nl/e/coda-kledingruilmarkt-herfsteditie-volwassenen-tickets-1010314867967 \n\n\n\n\nHeb jij ook zo’n volle kledingkast waarvan je de helft van de stukken niet meer draagt? Neem ze mee naar de kledingruilmarkt van CODA ExperienceLab! Je shopt met een gesloten portemonnee én geeft kleding een tweede leven. Meedoen aan de kledingruilmarkt is helemaal gratis\, het enige wat je hoeft te doen is maximaal 5 items (kledingstukken\, accessoires\, tassen\, schoenen) mee te nemen. Meld je vooraf aan voor de kledingruilmarkt op Eventbrite. \nProgramma \n\n11.00 -12.30 uur: inleveren kledingstukken in CODA Auditorium (bij CODA Museum)\n14.00 -16.00 uur`: kledingruilmarkt\n\nTussen 12.30-14.00 uur sorteren wij alle kleding. Vanaf 14.00 uur kan iedereen de markt op zodat alle bezoekers een gelijke kans hebben om items te shoppen. \nSpelregels \n\nKleding moet schoon\, heel en niet verwassen te zijn. Kleding van redelijke tot goede kwaliteit waar een ander nog een tijd(je) plezier van kan hebben. Bedenk hierbij of je het zelf nog uit zou kiezen als tweedehands stuk.\nDe volgende items mogen geruild worden op de markt: kleding\, schoenen\, sieraden en accessoires zoals mutsen\, sjaals\, riemen\, tassen etc. Items als ondergoed\, badkleding en sokken worden niet ingenomen.\nLever niet meer dan 5 items in\, dit zorgt voor veel sorteerwerk om de kledingruil goed te kunnen organiseren.\nDeze editie van de kledingruilmarkt is gericht op volwassenen\, de maatvoering loopt echter vanaf maat XS\, dus ook voor jongeren is de kledingruilmarkt geschikt. CODA organiseert separaat edities voor kinderkleding.\n\nHoe werkt het? \nDeelname aan de kledingruil is volledig gratis; je hoeft alleen maar kledingstukken in te leveren. Bij aankomst lever je je items in bij de ontvangstbalie in het Auditorium van CODA (Vosselmanstraat 299\, Apeldoorn). Hier worden de kledingstukken gecontroleerd voordat ze aan de ruilmarkt worden toegevoegd. \nDe kledingruil werkt met een ‘knopensysteem’: voor elk ingeleverd kledingstuk ontvang je knopen die je kunt gebruiken om andere items uit te kiezen. De knopen worden als volgt toegekend: \n\n1 knoop per accessoire (zoals sieraden\, tassen\, sjaals\, enz.)\n3 knopen per paar schoenen\n3 knopen per jas (zoals jassen\, colberts\, enz.)\n2 knopen per kledingstuk (zoals broeken\, shirts\, vestjes\, jurken\, rokken\, overhemden\, enz.)\n\nDe inlevering van items gebeurt op de dag zelf tussen 11.00 en 12.30 uur\, zodat iedereen een eerlijke kans heeft om te zoeken. Je kunt je knopen gebruiken om tussen 14.00 en 16.00 uur nieuwe items uit te zoeken. \nWanneer je iets hebt gevonden dat je wilt hebben\, betaal je met de knopen die je hebt ontvangen. De kosten voor de nieuwe items zijn gelijk aan de hierboven genoemde aantallen knopen per type item (1 knoop voor accessoires\, 2 knopen voor kledingstukken\, enz.).
URL:https://zerowasteapeldoorn.nl/agenda/coda-kledingruilmarkt-najaarseditie-volwassenen/
LOCATION:CODA\, Vosselmanstraat 299\, Apeldoorn\, 7311CL\, Nederland
CATEGORIES:Circulariteit,Ruilbeurs
ATTACH;FMTTYPE=image/jpeg:https://zerowasteapeldoorn.nl/wp-content/uploads/2024/04/Kledingruilbeurs_Coda_april2024.jpg
END:VEVENT
END:VCALENDAR